BEGIN:VCALENDAR
VERSION:2.0
PRODID:-//Clinton County Today - ECPv6.15.20//NONSGML v1.0//EN
CALSCALE:GREGORIAN
METHOD:PUBLISH
X-ORIGINAL-URL:https://www.clintoncountytoday.com
X-WR-CALDESC:Events for Clinton County Today
REFRESH-INTERVAL;VALUE=DURATION:PT1H
X-Robots-Tag:noindex
X-PUBLISHED-TTL:PT1H
BEGIN:VTIMEZONE
TZID:America/Indiana/Indianapolis
BEGIN:DAYLIGHT
TZOFFSETFROM:-0500
TZOFFSETTO:-0400
TZNAME:EDT
DTSTART:20210314T070000
END:DAYLIGHT
BEGIN:STANDARD
TZOFFSETFROM:-0400
TZOFFSETTO:-0500
TZNAME:EST
DTSTART:20211107T060000
END:STANDARD
BEGIN:DAYLIGHT
TZOFFSETFROM:-0500
TZOFFSETTO:-0400
TZNAME:EDT
DTSTART:20220313T070000
END:DAYLIGHT
BEGIN:STANDARD
TZOFFSETFROM:-0400
TZOFFSETTO:-0500
TZNAME:EST
DTSTART:20221106T060000
END:STANDARD
BEGIN:DAYLIGHT
TZOFFSETFROM:-0500
TZOFFSETTO:-0400
TZNAME:EDT
DTSTART:20230312T070000
END:DAYLIGHT
BEGIN:STANDARD
TZOFFSETFROM:-0400
TZOFFSETTO:-0500
TZNAME:EST
DTSTART:20231105T060000
END:STANDARD
END:VTIMEZONE
BEGIN:VEVENT
DTSTART;TZID=America/Indiana/Indianapolis:20220820T090000
DTEND;TZID=America/Indiana/Indianapolis:20220820T090000
DTSTAMP:20260424T170744
CREATED:20220819T155037Z
LAST-MODIFIED:20220819T155037Z
UID:3495-1660986000-1660986000@www.clintoncountytoday.com
SUMMARY:High School Boys Soccer: Frankfort Hosts Rossville
DESCRIPTION:
URL:https://www.clintoncountytoday.com/event/high-school-boys-soccer-frankfort-hosts-rossville/
LOCATION:Frankfort Sr. High School\, 1 Maish Rd\, Frankfort\, IN\, 46041
CATEGORIES:Frankfort Sports,High School Boys Soccer,Local Sports,Rossville Sports
ATTACH;FMTTYPE=image/jpeg:https://www.clintoncountytoday.com/wp-content/uploads/2022/08/frankfort-soccer.jpg
END:VEVENT
BEGIN:VEVENT
DTSTART;TZID=America/Indiana/Indianapolis:20220820T090000
DTEND;TZID=America/Indiana/Indianapolis:20220820T090000
DTSTAMP:20260424T170744
CREATED:20220819T154722Z
LAST-MODIFIED:20220819T154722Z
UID:3492-1660986000-1660986000@www.clintoncountytoday.com
SUMMARY:High School Cross Country: Rossville @ FCHS Grand Prix
DESCRIPTION:
URL:https://www.clintoncountytoday.com/event/high-school-cross-country-rossville-fchs-grand-prix/
LOCATION:Fountain Central Jr-SR High School\, 750 US Hwy 136\, Veedersburg\, IN\, 47987\, United States
CATEGORIES:High School Cross Country,Local Sports,Rossville Sports
ATTACH;FMTTYPE=image/jpeg:https://www.clintoncountytoday.com/wp-content/uploads/2022/08/rossville-run.jpg
END:VEVENT
BEGIN:VEVENT
DTSTART;TZID=America/Indiana/Indianapolis:20220820T090000
DTEND;TZID=America/Indiana/Indianapolis:20220820T090000
DTSTAMP:20260424T170744
CREATED:20220819T134152Z
LAST-MODIFIED:20220819T134152Z
UID:3417-1660986000-1660986000@www.clintoncountytoday.com
SUMMARY:Middle School Cross Country: Clinton Central @ North White Invitational
DESCRIPTION:
URL:https://www.clintoncountytoday.com/event/middle-school-cross-country-clinton-central-north-white-invitational/
LOCATION:North White High School\, 305 E Broadway St\, Monon\, IN\, 47959\, United States
CATEGORIES:Clinton Central Sports,Local Sports,Middle School Cross Country
ATTACH;FMTTYPE=image/jpeg:https://www.clintoncountytoday.com/wp-content/uploads/2022/08/cc-run.jpg
END:VEVENT
BEGIN:VEVENT
DTSTART;TZID=America/Indiana/Indianapolis:20220820T090000
DTEND;TZID=America/Indiana/Indianapolis:20220820T090000
DTSTAMP:20260424T170744
CREATED:20220819T133715Z
LAST-MODIFIED:20220819T133715Z
UID:3413-1660986000-1660986000@www.clintoncountytoday.com
SUMMARY:High School Volleyball: Clinton Central @ Elwood
DESCRIPTION:
URL:https://www.clintoncountytoday.com/event/high-school-volleyball-clinton-central-elwood/
LOCATION:Elwood Jr/Sr High School\, 1137 N 19th St\, Elwood\, IN\, 46036\, United States
CATEGORIES:Clinton Central Sports,High School Volleyball,Local Sports
ATTACH;FMTTYPE=image/jpeg:https://www.clintoncountytoday.com/wp-content/uploads/2022/08/cc-volleyball.jpg
END:VEVENT
BEGIN:VEVENT
DTSTART;TZID=America/Indiana/Indianapolis:20220820T090000
DTEND;TZID=America/Indiana/Indianapolis:20220820T090000
DTSTAMP:20260424T170744
CREATED:20220819T105755Z
LAST-MODIFIED:20220819T105755Z
UID:3342-1660986000-1660986000@www.clintoncountytoday.com
SUMMARY:High School Cross Country: Clinton Prairie @ Small School Invite
DESCRIPTION:
URL:https://www.clintoncountytoday.com/event/high-school-cross-country-clinton-prairie-small-school-invite/
LOCATION:Southwestern High School\, 3406 W 600 S\, Shelbyville\, IN\, 46176\, United States
CATEGORIES:Clinton Prairie Sports,High School Cross Country,Local Sports
ATTACH;FMTTYPE=image/jpeg:https://www.clintoncountytoday.com/wp-content/uploads/2022/08/cp-run.jpg
END:VEVENT
BEGIN:VEVENT
DTSTART;TZID=America/Indiana/Indianapolis:20220820T090000
DTEND;TZID=America/Indiana/Indianapolis:20220820T090000
DTSTAMP:20260424T170744
CREATED:20220819T105013Z
LAST-MODIFIED:20220819T185101Z
UID:3338-1660986000-1660986000@www.clintoncountytoday.com
SUMMARY:Junior High School Cross Country: Clinton Prairie\, Frankfort @ Fountain Central Invite
DESCRIPTION:
URL:https://www.clintoncountytoday.com/event/junior-high-school-cross-country-clinton-prairie-frankfort-fountain-central-invite/
LOCATION:Fountain Central Jr-SR High School\, 750 US Hwy 136\, Veedersburg\, IN\, 47987\, United States
CATEGORIES:Clinton Prairie Sports,Frankfort Sports,Local Sports,Middle School Cross Country
ATTACH;FMTTYPE=image/jpeg:https://www.clintoncountytoday.com/wp-content/uploads/2022/08/cp-run.jpg
END:VEVENT
BEGIN:VEVENT
DTSTART;TZID=America/Indiana/Indianapolis:20220819T190000
DTEND;TZID=America/Indiana/Indianapolis:20220819T190000
DTSTAMP:20260424T170744
CREATED:20220819T103650Z
LAST-MODIFIED:20220819T140220Z
UID:3334-1660935600-1660935600@www.clintoncountytoday.com
SUMMARY:High School Varsity Football: Clinton Prairie @ Wes-Del
DESCRIPTION:
URL:https://www.clintoncountytoday.com/event/high-school-varsity-football-clinton-prairie-wes-del/
LOCATION:Wes-Del High School\, 10000 N 600 W\, Gaston\, IN\, 47342\, United States
CATEGORIES:Clinton Prairie Sports,Local Sports,Varsity Football
ATTACH;FMTTYPE=image/jpeg:https://www.clintoncountytoday.com/wp-content/uploads/2022/08/cp-football.jpg
END:VEVENT
BEGIN:VEVENT
DTSTART;TZID=America/Indiana/Indianapolis:20220819T190000
DTEND;TZID=America/Indiana/Indianapolis:20220819T190000
DTSTAMP:20260424T170744
CREATED:20220819T102539Z
LAST-MODIFIED:20220819T140234Z
UID:3330-1660935600-1660935600@www.clintoncountytoday.com
SUMMARY:High School Varsity Football: Frankfort Hosts Clinton Central
DESCRIPTION:
URL:https://www.clintoncountytoday.com/event/high-school-varsity-football-frankfort-hosts-clinton-central/
LOCATION:Frankfort Sr. High School\, 1 Maish Rd\, Frankfort\, IN\, 46041
CATEGORIES:Clinton Central Sports,Frankfort Sports,Local Sports,Varsity Football
ATTACH;FMTTYPE=image/jpeg:https://www.clintoncountytoday.com/wp-content/uploads/2022/08/frankfort-football.jpg
END:VEVENT
BEGIN:VEVENT
DTSTART;TZID=America/Indiana/Indianapolis:20220819T173000
DTEND;TZID=America/Indiana/Indianapolis:20220819T173000
DTSTAMP:20260424T170744
CREATED:20220819T200405Z
LAST-MODIFIED:20220819T200405Z
UID:3635-1660930200-1660930200@www.clintoncountytoday.com
SUMMARY:Middle School Boys Tennis: Frankfort Hosts Southmont
DESCRIPTION:
URL:https://www.clintoncountytoday.com/event/middle-school-boys-tennis-frankfort-hosts-southmont/
LOCATION:Frankfort Sr. High School\, 1 Maish Rd\, Frankfort\, IN\, 46041
CATEGORIES:Frankfort Sports,Local Sports,Middle School Boys Tennis
ATTACH;FMTTYPE=image/jpeg:https://www.clintoncountytoday.com/wp-content/uploads/2022/08/frankfort-tennis.jpg
END:VEVENT
END:VCALENDAR