BEGIN:VCALENDAR
VERSION:2.0
PRODID:-//Clinton County Today - ECPv6.15.20//NONSGML v1.0//EN
CALSCALE:GREGORIAN
METHOD:PUBLISH
X-WR-CALNAME:Clinton County Today
X-ORIGINAL-URL:https://www.clintoncountytoday.com
X-WR-CALDESC:Events for Clinton County Today
REFRESH-INTERVAL;VALUE=DURATION:PT1H
X-Robots-Tag:noindex
X-PUBLISHED-TTL:PT1H
BEGIN:VTIMEZONE
TZID:America/Indiana/Indianapolis
BEGIN:DAYLIGHT
TZOFFSETFROM:-0500
TZOFFSETTO:-0400
TZNAME:EDT
DTSTART:20210314T070000
END:DAYLIGHT
BEGIN:STANDARD
TZOFFSETFROM:-0400
TZOFFSETTO:-0500
TZNAME:EST
DTSTART:20211107T060000
END:STANDARD
BEGIN:DAYLIGHT
TZOFFSETFROM:-0500
TZOFFSETTO:-0400
TZNAME:EDT
DTSTART:20220313T070000
END:DAYLIGHT
BEGIN:STANDARD
TZOFFSETFROM:-0400
TZOFFSETTO:-0500
TZNAME:EST
DTSTART:20221106T060000
END:STANDARD
BEGIN:DAYLIGHT
TZOFFSETFROM:-0500
TZOFFSETTO:-0400
TZNAME:EDT
DTSTART:20230312T070000
END:DAYLIGHT
BEGIN:STANDARD
TZOFFSETFROM:-0400
TZOFFSETTO:-0500
TZNAME:EST
DTSTART:20231105T060000
END:STANDARD
END:VTIMEZONE
BEGIN:VEVENT
DTSTART;TZID=America/Indiana/Indianapolis:20220826T190000
DTEND;TZID=America/Indiana/Indianapolis:20220826T190000
DTSTAMP:20260424T140039
CREATED:20220819T142640Z
LAST-MODIFIED:20220819T162647Z
UID:3457-1661540400-1661540400@www.clintoncountytoday.com
SUMMARY:High School Varsity Football: Clinton Central Hosts Sheridan
DESCRIPTION:
URL:https://www.clintoncountytoday.com/event/high-school-varsity-football-clinton-central-hosts-sheridan/
LOCATION:Clinton Central Schools\, 815 IN-29\, Michigantown\, IN\, 46057\, United States
CATEGORIES:Clinton Central Sports,Local Sports,Varsity Football
ATTACH;FMTTYPE=image/jpeg:https://www.clintoncountytoday.com/wp-content/uploads/2022/08/cc-football.jpg
END:VEVENT
BEGIN:VEVENT
DTSTART;TZID=America/Indiana/Indianapolis:20220826T190000
DTEND;TZID=America/Indiana/Indianapolis:20220826T190000
DTSTAMP:20260424T140039
CREATED:20220819T113424Z
LAST-MODIFIED:20220819T140148Z
UID:3361-1661540400-1661540400@www.clintoncountytoday.com
SUMMARY:High School Varsity Football: Clinton Prairie Hosts Frankfort
DESCRIPTION:
URL:https://www.clintoncountytoday.com/event/high-school-varsity-football-clinton-prairie-hosts-frankfort/
LOCATION:Clinton Prairie Schools\, 2400 S CR 450 W\, Frankfort\, IN\, 46041\, United States
CATEGORIES:Clinton Prairie Sports,Frankfort Sports,Local Sports,Varsity Football
ATTACH;FMTTYPE=image/jpeg:https://www.clintoncountytoday.com/wp-content/uploads/2022/08/cp-football.jpg
END:VEVENT
BEGIN:VEVENT
DTSTART;TZID=America/Indiana/Indianapolis:20220825T190000
DTEND;TZID=America/Indiana/Indianapolis:20220825T190000
DTSTAMP:20260424T140039
CREATED:20220819T142505Z
LAST-MODIFIED:20220819T142505Z
UID:3454-1661454000-1661454000@www.clintoncountytoday.com
SUMMARY:High School Volleyball: Clinton Central @ Western
DESCRIPTION:
URL:https://www.clintoncountytoday.com/event/high-school-volleyball-clinton-central-western/
LOCATION:Western High School\, 2600 S 600 W\, Russiaville\, 46979\, United States
CATEGORIES:Clinton Central Sports,High School Volleyball,Local Sports
ATTACH;FMTTYPE=image/jpeg:https://www.clintoncountytoday.com/wp-content/uploads/2022/08/cc-volleyball.jpg
END:VEVENT
BEGIN:VEVENT
DTSTART;TZID=America/Indiana/Indianapolis:20220825T180000
DTEND;TZID=America/Indiana/Indianapolis:20220825T180000
DTSTAMP:20260424T140039
CREATED:20220819T192006Z
LAST-MODIFIED:20220819T192006Z
UID:3598-1661450400-1661450400@www.clintoncountytoday.com
SUMMARY:High School Volleyball: Frankfort Hosts Delphi
DESCRIPTION:
URL:https://www.clintoncountytoday.com/event/high-school-volleyball-frankfort-hosts-delphi/
LOCATION:Frankfort Sr. High School\, 1 Maish Rd\, Frankfort\, IN\, 46041
CATEGORIES:Frankfort Sports,High School Girls Soccer,Local Sports
ATTACH;FMTTYPE=image/jpeg:https://www.clintoncountytoday.com/wp-content/uploads/2022/08/frankfort-volleyball.jpg
END:VEVENT
BEGIN:VEVENT
DTSTART;TZID=America/Indiana/Indianapolis:20220825T180000
DTEND;TZID=America/Indiana/Indianapolis:20220825T180000
DTSTAMP:20260424T140039
CREATED:20220819T164248Z
LAST-MODIFIED:20220819T165329Z
UID:3529-1661450400-1661450400@www.clintoncountytoday.com
SUMMARY:High School Volleyball: Rossville Hosts Eastern
DESCRIPTION:
URL:https://www.clintoncountytoday.com/event/high-school-volleyball-rossville-hosts-eastern/
LOCATION:Rossville Schools\, 1 Robert Egly Dr\, Rossville\, IN\, 46065\, United States
CATEGORIES:High School Volleyball,Local Sports,Rossville Sports
ATTACH;FMTTYPE=image/jpeg:https://www.clintoncountytoday.com/wp-content/uploads/2022/08/rossville-volleyball.jpg
END:VEVENT
BEGIN:VEVENT
DTSTART;TZID=America/Indiana/Indianapolis:20220825T180000
DTEND;TZID=America/Indiana/Indianapolis:20220825T180000
DTSTAMP:20260424T140039
CREATED:20220819T142150Z
LAST-MODIFIED:20220819T142150Z
UID:3451-1661450400-1661450400@www.clintoncountytoday.com
SUMMARY:Middle School Volleyball: Clinton Central @ Western Middle School
DESCRIPTION:
URL:https://www.clintoncountytoday.com/event/middle-school-volleyball-clinton-central-western-middle-school/
LOCATION:Western Middle School\, 2600 County Rd South 600 W\, Russiaville\, IN\, 46979\, United States
CATEGORIES:Clinton Central Sports,Local Sports,Middle School Volleyball
ATTACH;FMTTYPE=image/jpeg:https://www.clintoncountytoday.com/wp-content/uploads/2022/08/cc-volleyball.jpg
END:VEVENT
BEGIN:VEVENT
DTSTART;TZID=America/Indiana/Indianapolis:20220825T180000
DTEND;TZID=America/Indiana/Indianapolis:20220825T180000
DTSTAMP:20260424T140039
CREATED:20220819T112916Z
LAST-MODIFIED:20220819T123408Z
UID:3358-1661450400-1661450400@www.clintoncountytoday.com
SUMMARY:High School Volleyball: Clinton Prairie Hosts Carroll
DESCRIPTION:
URL:https://www.clintoncountytoday.com/event/high-school-volleyball-clinton-prairie-hosts-carroll/
LOCATION:Clinton Prairie Schools\, 2400 S CR 450 W\, Frankfort\, IN\, 46041\, United States
CATEGORIES:Clinton Prairie Sports,High School Volleyball,Local Sports
ATTACH;FMTTYPE=image/jpeg:https://www.clintoncountytoday.com/wp-content/uploads/2022/08/cp-volleyball.jpg
END:VEVENT
BEGIN:VEVENT
DTSTART;TZID=America/Indiana/Indianapolis:20220825T173000
DTEND;TZID=America/Indiana/Indianapolis:20220825T173000
DTSTAMP:20260424T140039
CREATED:20220819T191742Z
LAST-MODIFIED:20220819T191742Z
UID:3596-1661448600-1661448600@www.clintoncountytoday.com
SUMMARY:High School Boys Soccer: Frankfort @ North Montgomery
DESCRIPTION:
URL:https://www.clintoncountytoday.com/event/high-school-boys-soccer-frankfort-north-montgomery/
LOCATION:North Montgomery High School\, 5945 US-231\, Crawfordsville\, IN\, 47933\, United States
CATEGORIES:Frankfort Sports,High School Boys Soccer,Local Sports
ATTACH;FMTTYPE=image/jpeg:https://www.clintoncountytoday.com/wp-content/uploads/2022/08/frankfort-soccer.jpg
END:VEVENT
BEGIN:VEVENT
DTSTART;TZID=America/Indiana/Indianapolis:20220825T173000
DTEND;TZID=America/Indiana/Indianapolis:20220825T173000
DTSTAMP:20260424T140039
CREATED:20220819T141825Z
LAST-MODIFIED:20220819T141825Z
UID:3448-1661448600-1661448600@www.clintoncountytoday.com
SUMMARY:High School & Middle School Cross Country: Clinton Central @ Attica Invite
DESCRIPTION:
URL:https://www.clintoncountytoday.com/event/high-school-middle-school-cross-country-clinton-central-attica-invite/
LOCATION:Attica High School\, 211 E Sycamore St\, Attica\, IN\, 47918\, United States
CATEGORIES:Clinton Central Sports,High School Cross Country,Local Sports,Middle School Cross Country
ATTACH;FMTTYPE=image/jpeg:https://www.clintoncountytoday.com/wp-content/uploads/2022/08/cc-run.jpg
END:VEVENT
BEGIN:VEVENT
DTSTART;TZID=America/Indiana/Indianapolis:20220825T170000
DTEND;TZID=America/Indiana/Indianapolis:20220825T170000
DTSTAMP:20260424T140039
CREATED:20220819T191627Z
LAST-MODIFIED:20220819T191627Z
UID:3594-1661446800-1661446800@www.clintoncountytoday.com
SUMMARY:Middle School Cross Country: Frankfort Hosts Tipton
DESCRIPTION:
URL:https://www.clintoncountytoday.com/event/middle-school-cross-country-frankfort-hosts-tipton/
LOCATION:Frankfort Middle School\, 329 N Maish Rd\, Frankfort\, IN\, 46041\, United States
CATEGORIES:Frankfort Sports,Local Sports,Middle School Cross Country
ATTACH;FMTTYPE=image/jpeg:https://www.clintoncountytoday.com/wp-content/uploads/2022/08/frankfort-run.jpg
END:VEVENT
BEGIN:VEVENT
DTSTART;TZID=America/Indiana/Indianapolis:20220825T170000
DTEND;TZID=America/Indiana/Indianapolis:20220825T170000
DTSTAMP:20260424T140039
CREATED:20220819T164029Z
LAST-MODIFIED:20220819T164029Z
UID:3527-1661446800-1661446800@www.clintoncountytoday.com
SUMMARY:High School Boys Tennis: Rossville Hosts Lebanon
DESCRIPTION:
URL:https://www.clintoncountytoday.com/event/high-school-boys-tennis-rossville-hosts-lebanon/
LOCATION:Rossville Schools\, 1 Robert Egly Dr\, Rossville\, IN\, 46065\, United States
CATEGORIES:High School Boys Tennis,Local Sports,Rossville Sports
ATTACH;FMTTYPE=image/jpeg:https://www.clintoncountytoday.com/wp-content/uploads/2022/08/rossville-tennis.jpg
END:VEVENT
BEGIN:VEVENT
DTSTART;TZID=America/Indiana/Indianapolis:20220825T170000
DTEND;TZID=America/Indiana/Indianapolis:20220825T170000
DTSTAMP:20260424T140039
CREATED:20220819T163756Z
LAST-MODIFIED:20220819T163756Z
UID:3525-1661446800-1661446800@www.clintoncountytoday.com
SUMMARY:High School Soccer: Rossville Girls & Boys Double Header @ Faith Christian
DESCRIPTION:
URL:https://www.clintoncountytoday.com/event/high-school-soccer-rossville-girls-boys-double-header-faith-christian/
LOCATION:Faith Christian School\, 5526 State Road 26 E\, IN\, Lafayette\, IN\, 47905\, United States
CATEGORIES:High School Boys Soccer,High School Girls Soccer,Local Sports,Rossville Sports
ATTACH;FMTTYPE=image/jpeg:https://www.clintoncountytoday.com/wp-content/uploads/2022/08/rossville-soccer.jpg
END:VEVENT
BEGIN:VEVENT
DTSTART;TZID=America/Indiana/Indianapolis:20220825T170000
DTEND;TZID=America/Indiana/Indianapolis:20220825T170000
DTSTAMP:20260424T140039
CREATED:20220819T141450Z
LAST-MODIFIED:20220819T141450Z
UID:3445-1661446800-1661446800@www.clintoncountytoday.com
SUMMARY:High School Girls Golf: Clinton Central @ Lafayette Central Catholic
DESCRIPTION:
URL:https://www.clintoncountytoday.com/event/high-school-girls-golf-clinton-central-lafayette-central-catholic/
LOCATION:Lafayette Central Catholic\, 2410 S 9th St\, IN\, Lafayette\, IN\, 47909\, United States
CATEGORIES:Clinton Central Sports,High School Girls Golf,Local Sports
ATTACH;FMTTYPE=image/jpeg:https://www.clintoncountytoday.com/wp-content/uploads/2022/08/cc-golf.jpg
END:VEVENT
BEGIN:VEVENT
DTSTART;TZID=America/Indiana/Indianapolis:20220824T174500
DTEND;TZID=America/Indiana/Indianapolis:20220824T174500
DTSTAMP:20260424T140039
CREATED:20220819T112522Z
LAST-MODIFIED:20220819T124325Z
UID:3356-1661363100-1661363100@www.clintoncountytoday.com
SUMMARY:Junior High School Football: Clinton Prairie Hosts Wainwright Middle School
DESCRIPTION:
URL:https://www.clintoncountytoday.com/event/junior-high-school-football-clinton-prairie-hosts-wainwright-middle-school/
LOCATION:Clinton Prairie Schools\, 2400 S CR 450 W\, Frankfort\, IN\, 46041\, United States
CATEGORIES:Clinton Prairie Sports,Local Sports,Middle School Football
ATTACH;FMTTYPE=image/jpeg:https://www.clintoncountytoday.com/wp-content/uploads/2022/08/cp-football.jpg
END:VEVENT
BEGIN:VEVENT
DTSTART;TZID=America/Indiana/Indianapolis:20220824T173000
DTEND;TZID=America/Indiana/Indianapolis:20220824T173000
DTSTAMP:20260424T140039
CREATED:20220819T191439Z
LAST-MODIFIED:20220819T191439Z
UID:3592-1661362200-1661362200@www.clintoncountytoday.com
SUMMARY:High School Girls Soccer: Frankfort Hosts Crawfordsville
DESCRIPTION:
URL:https://www.clintoncountytoday.com/event/high-school-girls-soccer-frankfort-hosts-crawfordsville/
LOCATION:Frankfort Sr. High School\, 1 Maish Rd\, Frankfort\, IN\, 46041
CATEGORIES:Frankfort Sports,High School Girls Soccer,Local Sports
ATTACH;FMTTYPE=image/jpeg:https://www.clintoncountytoday.com/wp-content/uploads/2022/08/frankfort-soccer.jpg
END:VEVENT
BEGIN:VEVENT
DTSTART;TZID=America/Indiana/Indianapolis:20220824T170000
DTEND;TZID=America/Indiana/Indianapolis:20220824T170000
DTSTAMP:20260424T140039
CREATED:20220819T191312Z
LAST-MODIFIED:20220819T191312Z
UID:3590-1661360400-1661360400@www.clintoncountytoday.com
SUMMARY:High School Boys Tennis: Frankfort Hosts McCutcheon
DESCRIPTION:
URL:https://www.clintoncountytoday.com/event/high-school-boys-tennis-frankfort-hosts-mccutcheon/
LOCATION:Frankfort Sr. High School\, 1 Maish Rd\, Frankfort\, IN\, 46041
CATEGORIES:Frankfort Sports,High School Boys Tennis,Local Sports
ATTACH;FMTTYPE=image/jpeg:https://www.clintoncountytoday.com/wp-content/uploads/2022/08/frankfort-tennis.jpg
END:VEVENT
BEGIN:VEVENT
DTSTART;TZID=America/Indiana/Indianapolis:20220824T163000
DTEND;TZID=America/Indiana/Indianapolis:20220824T163000
DTSTAMP:20260424T140039
CREATED:20220819T141229Z
LAST-MODIFIED:20220819T141229Z
UID:3443-1661358600-1661358600@www.clintoncountytoday.com
SUMMARY:High School Girls Golf: Clinton Central Hosts Rossville
DESCRIPTION:
URL:https://www.clintoncountytoday.com/event/high-school-girls-golf-clinton-central-hosts-rossville/
LOCATION:Clinton Central Schools\, 815 IN-29\, Michigantown\, IN\, 46057\, United States
CATEGORIES:Clinton Central Sports,High School Girls Golf,Local Sports
ATTACH;FMTTYPE=image/jpeg:https://www.clintoncountytoday.com/wp-content/uploads/2022/08/cc-golf.jpg
END:VEVENT
BEGIN:VEVENT
DTSTART;TZID=America/Indiana/Indianapolis:20220824T163000
DTEND;TZID=America/Indiana/Indianapolis:20220824T163000
DTSTAMP:20260424T140039
CREATED:20220819T112310Z
LAST-MODIFIED:20220819T140039Z
UID:3354-1661358600-1661358600@www.clintoncountytoday.com
SUMMARY:High School Girls Golf: Clinton Prairie Hosts North Montgomery
DESCRIPTION:
URL:https://www.clintoncountytoday.com/event/high-school-girls-golf-clinton-prairie-hosts-north-montgomery/
LOCATION:IN
CATEGORIES:Clinton Prairie Sports,High School Girls Golf,Local Sports
ATTACH;FMTTYPE=image/jpeg:https://www.clintoncountytoday.com/wp-content/uploads/2022/08/cp-golf.jpg
END:VEVENT
BEGIN:VEVENT
DTSTART;TZID=America/Indiana/Indianapolis:20220823T190000
DTEND;TZID=America/Indiana/Indianapolis:20220823T190000
DTSTAMP:20260424T140039
CREATED:20220819T141059Z
LAST-MODIFIED:20220819T141059Z
UID:3441-1661281200-1661281200@www.clintoncountytoday.com
SUMMARY:High School Volleyball: Clinton Central Hosts University
DESCRIPTION:
URL:https://www.clintoncountytoday.com/event/high-school-volleyball-clinton-central-hosts-university/
LOCATION:Clinton Central Schools\, 815 IN-29\, Michigantown\, IN\, 46057\, United States
CATEGORIES:Clinton Central Sports,High School Volleyball,Local Sports
ATTACH;FMTTYPE=image/jpeg:https://www.clintoncountytoday.com/wp-content/uploads/2022/08/cc-volleyball.jpg
END:VEVENT
BEGIN:VEVENT
DTSTART;TZID=America/Indiana/Indianapolis:20220823T180000
DTEND;TZID=America/Indiana/Indianapolis:20220823T180000
DTSTAMP:20260424T140039
CREATED:20220819T191126Z
LAST-MODIFIED:20220819T191126Z
UID:3586-1661277600-1661277600@www.clintoncountytoday.com
SUMMARY:High School Volleyball: Frankfort @ North Montgomery
DESCRIPTION:
URL:https://www.clintoncountytoday.com/event/high-school-volleyball-frankfort-north-montgomery/
LOCATION:North Montgomery High School\, 5945 US-231\, Crawfordsville\, IN\, 47933\, United States
CATEGORIES:Frankfort Sports,High School Volleyball,Local Sports
ATTACH;FMTTYPE=image/jpeg:https://www.clintoncountytoday.com/wp-content/uploads/2022/08/frankfort-volleyball.jpg
END:VEVENT
BEGIN:VEVENT
DTSTART;TZID=America/Indiana/Indianapolis:20220823T180000
DTEND;TZID=America/Indiana/Indianapolis:20220823T180000
DTSTAMP:20260424T140039
CREATED:20220819T162453Z
LAST-MODIFIED:20220819T162453Z
UID:3521-1661277600-1661277600@www.clintoncountytoday.com
SUMMARY:High School Volleyball: Rossville @ Twin Lakes
DESCRIPTION:
URL:https://www.clintoncountytoday.com/event/high-school-volleyball-rossville-twin-lakes/
LOCATION:Twin Lakes High School\, 300 S 3rd St\, Monticello\, IN\, 47960\, United States
CATEGORIES:High School Volleyball,Local Sports,Rossville Sports
ATTACH;FMTTYPE=image/jpeg:https://www.clintoncountytoday.com/wp-content/uploads/2022/08/rossville-volleyball.jpg
END:VEVENT
BEGIN:VEVENT
DTSTART;TZID=America/Indiana/Indianapolis:20220823T180000
DTEND;TZID=America/Indiana/Indianapolis:20220823T180000
DTSTAMP:20260424T140039
CREATED:20220819T112113Z
LAST-MODIFIED:20220819T123439Z
UID:3351-1661277600-1661277600@www.clintoncountytoday.com
SUMMARY:High School Volleyball: Clinton Prairie Hosts Faith Christian School
DESCRIPTION:
URL:https://www.clintoncountytoday.com/event/high-school-volleyball-clinton-prairie-hosts-faith-christian-school/
LOCATION:Clinton Prairie Schools\, 2400 S CR 450 W\, Frankfort\, IN\, 46041\, United States
CATEGORIES:Clinton Prairie Sports,High School Volleyball,Local Sports
ATTACH;FMTTYPE=image/jpeg:https://www.clintoncountytoday.com/wp-content/uploads/2022/08/cp-volleyball.jpg
END:VEVENT
BEGIN:VEVENT
DTSTART;TZID=America/Indiana/Indianapolis:20220823T173000
DTEND;TZID=America/Indiana/Indianapolis:20220823T173000
DTSTAMP:20260424T140039
CREATED:20220819T190834Z
LAST-MODIFIED:20220819T190834Z
UID:3583-1661275800-1661275800@www.clintoncountytoday.com
SUMMARY:Middle School Football: Frankfort @ Crawfordsville
DESCRIPTION:
URL:https://www.clintoncountytoday.com/event/middle-school-football-frankfort-crawfordsville/
LOCATION:Crawfordsville High School\, 1 W Athenian Dr\, Crawfordsville\, IN\, 47933\, United States
CATEGORIES:Frankfort Sports,Local Sports,Middle School Football
ATTACH;FMTTYPE=image/jpeg:https://www.clintoncountytoday.com/wp-content/uploads/2022/08/frankfort-football.jpg
END:VEVENT
BEGIN:VEVENT
DTSTART;TZID=America/Indiana/Indianapolis:20220823T173000
DTEND;TZID=America/Indiana/Indianapolis:20220823T173000
DTSTAMP:20260424T140039
CREATED:20220819T190622Z
LAST-MODIFIED:20220819T190622Z
UID:3580-1661275800-1661275800@www.clintoncountytoday.com
SUMMARY:High  School Cross Country: Frankfort @ Harrison
DESCRIPTION:
URL:https://www.clintoncountytoday.com/event/high-school-cross-country-frankfort-harrison/
LOCATION:Harrison High School\, 5701 N 50 W\, West Lafayette\, IN\, 47906\, United States
CATEGORIES:Frankfort Sports,High School Cross Country,Local Sports
ATTACH;FMTTYPE=image/jpeg:https://www.clintoncountytoday.com/wp-content/uploads/2022/08/frankfort-run.jpg
END:VEVENT
BEGIN:VEVENT
DTSTART;TZID=America/Indiana/Indianapolis:20220823T173000
DTEND;TZID=America/Indiana/Indianapolis:20220823T173000
DTSTAMP:20260424T140039
CREATED:20220819T190459Z
LAST-MODIFIED:20220819T190459Z
UID:3578-1661275800-1661275800@www.clintoncountytoday.com
SUMMARY:High  School Boys Soccer: Frankfort @ McCutcheon
DESCRIPTION:
URL:https://www.clintoncountytoday.com/event/high-school-boys-soccer-frankfort-mccutcheon/
LOCATION:McCutcheon High School\, 4951 US-231\, Lafayette\, IN\, 47909\, United States
CATEGORIES:Frankfort Sports,High School Boys Soccer,Local Sports
ATTACH;FMTTYPE=image/jpeg:https://www.clintoncountytoday.com/wp-content/uploads/2022/08/frankfort-soccer.jpg
END:VEVENT
BEGIN:VEVENT
DTSTART;TZID=America/Indiana/Indianapolis:20220823T173000
DTEND;TZID=America/Indiana/Indianapolis:20220823T173000
DTSTAMP:20260424T140039
CREATED:20220819T162153Z
LAST-MODIFIED:20220819T162153Z
UID:3519-1661275800-1661275800@www.clintoncountytoday.com
SUMMARY:High School Boys Soccer: Rossville Hosts Western Boone
DESCRIPTION:
URL:https://www.clintoncountytoday.com/event/high-school-boys-soccer-rossville-hosts-western-boone/
LOCATION:Rossville Schools\, 1 Robert Egly Dr\, Rossville\, IN\, 46065\, United States
CATEGORIES:High School Boys Soccer,Local Sports,Rossville Sports
ATTACH;FMTTYPE=image/jpeg:https://www.clintoncountytoday.com/wp-content/uploads/2022/08/rossville-soccer.jpg
END:VEVENT
BEGIN:VEVENT
DTSTART;TZID=America/Indiana/Indianapolis:20220823T171500
DTEND;TZID=America/Indiana/Indianapolis:20220823T171500
DTSTAMP:20260424T140039
CREATED:20220819T190315Z
LAST-MODIFIED:20220819T190315Z
UID:3576-1661274900-1661274900@www.clintoncountytoday.com
SUMMARY:High  School Boys Tennis: Frankfort @ Northwestern
DESCRIPTION:
URL:https://www.clintoncountytoday.com/event/high-school-boys-tennis-frankfort-northwestern/
LOCATION:Northwestern High School\, 3431 County Rd N 400 W\, Kokomo\, IN\, 46901\, United States
CATEGORIES:Frankfort Sports,High School Boys Tennis,Local Sports
ATTACH;FMTTYPE=image/jpeg:https://www.clintoncountytoday.com/wp-content/uploads/2022/08/frankfort-tennis.jpg
END:VEVENT
BEGIN:VEVENT
DTSTART;TZID=America/Indiana/Indianapolis:20220823T164500
DTEND;TZID=America/Indiana/Indianapolis:20220823T164500
DTSTAMP:20260424T140039
CREATED:20220819T111356Z
LAST-MODIFIED:20220819T111356Z
UID:3348-1661273100-1661273100@www.clintoncountytoday.com
SUMMARY:High School Girls Golf: Clinton Prairie Hosts Clinton Central & University
DESCRIPTION:
URL:https://www.clintoncountytoday.com/event/high-school-girls-golf-clinton-prairie-hosts-clinton-central-university/
LOCATION:IN
CATEGORIES:Clinton Central Sports,Clinton Prairie Sports,High School Girls Golf,Local Sports
ATTACH;FMTTYPE=image/jpeg:https://www.clintoncountytoday.com/wp-content/uploads/2022/08/cp-golf.jpg
END:VEVENT
BEGIN:VEVENT
DTSTART;TZID=America/Indiana/Indianapolis:20220823T163000
DTEND;TZID=America/Indiana/Indianapolis:20220823T163000
DTSTAMP:20260424T140039
CREATED:20220819T161703Z
LAST-MODIFIED:20220819T161703Z
UID:3511-1661272200-1661272200@www.clintoncountytoday.com
SUMMARY:High School Boys Tennis: Rossville @ Delphi
DESCRIPTION:
URL:https://www.clintoncountytoday.com/event/high-school-boys-tennis-rossville-delphi/
LOCATION:Delphi HIgh School\, 301 Armory Rd\, Delphi\, IN\, 46923\, United States
CATEGORIES:High School Boys Tennis,Local Sports,Rossville Sports
ATTACH;FMTTYPE=image/jpeg:https://www.clintoncountytoday.com/wp-content/uploads/2022/08/rossville-tennis.jpg
END:VEVENT
BEGIN:VEVENT
DTSTART;TZID=America/Indiana/Indianapolis:20220822T190000
DTEND;TZID=America/Indiana/Indianapolis:20220822T190000
DTSTAMP:20260424T140039
CREATED:20220819T140647Z
LAST-MODIFIED:20220819T140647Z
UID:3439-1661194800-1661194800@www.clintoncountytoday.com
SUMMARY:High School Volleyball: Clinton Central Hosts Taylor
DESCRIPTION:
URL:https://www.clintoncountytoday.com/event/high-school-volleyball-clinton-central-hosts-taylor/
LOCATION:Clinton Central Schools\, 815 IN-29\, Michigantown\, IN\, 46057\, United States
CATEGORIES:Clinton Central Sports,High School Volleyball,Local Sports
ATTACH;FMTTYPE=image/jpeg:https://www.clintoncountytoday.com/wp-content/uploads/2022/08/cc-volleyball.jpg
END:VEVENT
END:VCALENDAR