BEGIN:VCALENDAR
VERSION:2.0
PRODID:-//Clinton County Today - ECPv6.15.20//NONSGML v1.0//EN
CALSCALE:GREGORIAN
METHOD:PUBLISH
X-WR-CALNAME:Clinton County Today
X-ORIGINAL-URL:https://www.clintoncountytoday.com
X-WR-CALDESC:Events for Clinton County Today
REFRESH-INTERVAL;VALUE=DURATION:PT1H
X-Robots-Tag:noindex
X-PUBLISHED-TTL:PT1H
BEGIN:VTIMEZONE
TZID:America/Indiana/Indianapolis
BEGIN:DAYLIGHT
TZOFFSETFROM:-0500
TZOFFSETTO:-0400
TZNAME:EDT
DTSTART:20210314T070000
END:DAYLIGHT
BEGIN:STANDARD
TZOFFSETFROM:-0400
TZOFFSETTO:-0500
TZNAME:EST
DTSTART:20211107T060000
END:STANDARD
BEGIN:DAYLIGHT
TZOFFSETFROM:-0500
TZOFFSETTO:-0400
TZNAME:EDT
DTSTART:20220313T070000
END:DAYLIGHT
BEGIN:STANDARD
TZOFFSETFROM:-0400
TZOFFSETTO:-0500
TZNAME:EST
DTSTART:20221106T060000
END:STANDARD
BEGIN:DAYLIGHT
TZOFFSETFROM:-0500
TZOFFSETTO:-0400
TZNAME:EDT
DTSTART:20230312T070000
END:DAYLIGHT
BEGIN:STANDARD
TZOFFSETFROM:-0400
TZOFFSETTO:-0500
TZNAME:EST
DTSTART:20231105T060000
END:STANDARD
END:VTIMEZONE
BEGIN:VEVENT
DTSTART;TZID=America/Indiana/Indianapolis:20220830T170000
DTEND;TZID=America/Indiana/Indianapolis:20220830T170000
DTSTAMP:20260424T123513
CREATED:20220819T181802Z
LAST-MODIFIED:20220819T181802Z
UID:3544-1661878800-1661878800@www.clintoncountytoday.com
SUMMARY:High School Cross Country: Rossville Hosts Invite
DESCRIPTION:
URL:https://www.clintoncountytoday.com/event/high-school-cross-country-rossville-hosts-invite/
LOCATION:Rossville Schools\, 1 Robert Egly Dr\, Rossville\, IN\, 46065\, United States
CATEGORIES:High School Cross Country,Local Sports,Rossville Sports
ATTACH;FMTTYPE=image/jpeg:https://www.clintoncountytoday.com/wp-content/uploads/2022/08/rossville-run.jpg
END:VEVENT
BEGIN:VEVENT
DTSTART;TZID=America/Indiana/Indianapolis:20220830T170000
DTEND;TZID=America/Indiana/Indianapolis:20220830T170000
DTSTAMP:20260424T123513
CREATED:20220819T144050Z
LAST-MODIFIED:20220819T144050Z
UID:3467-1661878800-1661878800@www.clintoncountytoday.com
SUMMARY:High School Girls Golf: Clinton Central Hosts Carroll
DESCRIPTION:
URL:https://www.clintoncountytoday.com/event/high-school-girls-golf-clinton-central-hosts-carroll/
LOCATION:Clinton Central Schools\, 815 IN-29\, Michigantown\, IN\, 46057\, United States
CATEGORIES:Clinton Central Sports,High School Girls Golf,Local Sports
ATTACH;FMTTYPE=image/jpeg:https://www.clintoncountytoday.com/wp-content/uploads/2022/08/cc-golf.jpg
END:VEVENT
BEGIN:VEVENT
DTSTART;TZID=America/Indiana/Indianapolis:20220830T163000
DTEND;TZID=America/Indiana/Indianapolis:20220830T163000
DTSTAMP:20260424T123513
CREATED:20220819T193153Z
LAST-MODIFIED:20220819T193153Z
UID:3608-1661877000-1661877000@www.clintoncountytoday.com
SUMMARY:Middle School Boys Tennis: Frankfort Hosts Lebanon Middle School
DESCRIPTION:
URL:https://www.clintoncountytoday.com/event/middle-school-boys-tennis-frankfort-hosts-lebanon-middle-school/
LOCATION:Frankfort Sr. High School\, 1 Maish Rd\, Frankfort\, IN\, 46041
CATEGORIES:Frankfort Sports,Local Sports,Middle School Boys Tennis
ATTACH;FMTTYPE=image/jpeg:https://www.clintoncountytoday.com/wp-content/uploads/2022/08/frankfort-tennis.jpg
END:VEVENT
BEGIN:VEVENT
DTSTART;TZID=America/Indiana/Indianapolis:20220829T180000
DTEND;TZID=America/Indiana/Indianapolis:20220829T180000
DTSTAMP:20260424T123513
CREATED:20220819T192959Z
LAST-MODIFIED:20220819T192959Z
UID:3605-1661796000-1661796000@www.clintoncountytoday.com
SUMMARY:High School Volleyball: Frankfort @ Peru
DESCRIPTION:
URL:https://www.clintoncountytoday.com/event/high-school-volleyball-frankfort-peru/
LOCATION:Peru High School\, 401 N Broadway St\, Peru\, IN\, 46970\, United States
CATEGORIES:Frankfort Sports,High School Volleyball,Local Sports
ATTACH;FMTTYPE=image/jpeg:https://www.clintoncountytoday.com/wp-content/uploads/2022/08/frankfort-volleyball.jpg
END:VEVENT
BEGIN:VEVENT
DTSTART;TZID=America/Indiana/Indianapolis:20220829T173000
DTEND;TZID=America/Indiana/Indianapolis:20220829T173000
DTSTAMP:20260424T123513
CREATED:20220819T143928Z
LAST-MODIFIED:20220819T143928Z
UID:3465-1661794200-1661794200@www.clintoncountytoday.com
SUMMARY:Middle School Volleyball: Clinton Central Hosts Hamilton Heights Middle School
DESCRIPTION:
URL:https://www.clintoncountytoday.com/event/middle-school-volleyball-clinton-central-hosts-hamilton-heights-middle-school/
LOCATION:Clinton Central Schools\, 815 IN-29\, Michigantown\, IN\, 46057\, United States
CATEGORIES:Clinton Central Sports,Local Sports,Middle School Volleyball
ATTACH;FMTTYPE=image/jpeg:https://www.clintoncountytoday.com/wp-content/uploads/2022/08/cc-volleyball.jpg
END:VEVENT
BEGIN:VEVENT
DTSTART;TZID=America/Indiana/Indianapolis:20220829T170000
DTEND;TZID=America/Indiana/Indianapolis:20220829T170000
DTSTAMP:20260424T123513
CREATED:20220819T181619Z
LAST-MODIFIED:20220819T181619Z
UID:3541-1661792400-1661792400@www.clintoncountytoday.com
SUMMARY:High School Boys Tennis: Rossville @ Kokomo
DESCRIPTION:
URL:https://www.clintoncountytoday.com/event/high-school-boys-tennis-rossville-kokomo/
LOCATION:Kokomo High School\, 2501 S Berkley Rd\, Kokomo\, IN\, 46902\, United States
CATEGORIES:High School Boys Tennis,Local Sports,Rossville Sports
ATTACH;FMTTYPE=image/jpeg:https://www.clintoncountytoday.com/wp-content/uploads/2022/08/rossville-tennis.jpg
END:VEVENT
BEGIN:VEVENT
DTSTART;TZID=America/Indiana/Indianapolis:20220829T170000
DTEND;TZID=America/Indiana/Indianapolis:20220829T170000
DTSTAMP:20260424T123513
CREATED:20220819T120843Z
LAST-MODIFIED:20220819T124225Z
UID:3382-1661792400-1661792400@www.clintoncountytoday.com
SUMMARY:Junior High School Cross Country: Clinton Prairie & Rossville @ Wainwright
DESCRIPTION:
URL:https://www.clintoncountytoday.com/event/junior-high-school-cross-country-clinton-prairie-rossville-wainwright/
LOCATION:Wainwright Middle School\, 7501 E 700 S\, \, IN 4\, Lafayette\, IN\, 47905\, United States
CATEGORIES:Clinton Prairie Sports,Local Sports,Middle School Cross Country,Rossville Sports
ATTACH;FMTTYPE=image/jpeg:https://www.clintoncountytoday.com/wp-content/uploads/2022/08/cp-run.jpg
END:VEVENT
BEGIN:VEVENT
DTSTART;TZID=America/Indiana/Indianapolis:20220829T163000
DTEND;TZID=America/Indiana/Indianapolis:20220829T163000
DTSTAMP:20260424T123513
CREATED:20220819T181120Z
LAST-MODIFIED:20220819T181120Z
UID:3536-1661790600-1661790600@www.clintoncountytoday.com
SUMMARY:High School Girls Golf: Rossville @ Harrison
DESCRIPTION:
URL:https://www.clintoncountytoday.com/event/high-school-girls-golf-rossville-harrison/
LOCATION:Harrison High School\, 5701 N 50 W\, West Lafayette\, IN\, 47906\, United States
CATEGORIES:High School Girls Golf,Local Sports,Rossville Sports
ATTACH;FMTTYPE=image/jpeg:https://www.clintoncountytoday.com/wp-content/uploads/2022/08/rossville-golf.jpg
END:VEVENT
BEGIN:VEVENT
DTSTART;TZID=America/Indiana/Indianapolis:20220829T163000
DTEND;TZID=America/Indiana/Indianapolis:20220829T163000
DTSTAMP:20260424T123513
CREATED:20220819T120439Z
LAST-MODIFIED:20220819T135958Z
UID:3380-1661790600-1661790600@www.clintoncountytoday.com
SUMMARY:High School Girls Golf: Clinton Prairie Hosts Lafayette Jeff & Lafayette Central Catholic
DESCRIPTION:
URL:https://www.clintoncountytoday.com/event/high-school-girls-golf-clinton-prairie-hosts-lafayette-jeff-lafayette-central-catholic/
LOCATION:IN
CATEGORIES:Clinton Prairie Sports,High School Girls Golf,Local Sports
ATTACH;FMTTYPE=image/jpeg:https://www.clintoncountytoday.com/wp-content/uploads/2022/08/cp-golf.jpg
END:VEVENT
BEGIN:VEVENT
DTSTART;TZID=America/Indiana/Indianapolis:20220827T140000
DTEND;TZID=America/Indiana/Indianapolis:20220827T140000
DTSTAMP:20260424T123513
CREATED:20220819T120116Z
LAST-MODIFIED:20220819T140017Z
UID:3376-1661608800-1661608800@www.clintoncountytoday.com
SUMMARY:High School Girls Golf: County Tourney - Clinton Central\, Clinton Prairie\, Rossville @ Frankfort Commons
DESCRIPTION:
URL:https://www.clintoncountytoday.com/event/high-school-girls-golf-county-tourney-clinton-central-clinton-prairie-rossville-frankfort-commons/
LOCATION:Frankfort Commons\, 50 N. Park Drive\, Frankfort\, IN\, 46041\, United States
CATEGORIES:Clinton Central Sports,Clinton Prairie Sports,High School Girls Golf,Local Sports,Rossville Sports
ATTACH;FMTTYPE=image/jpeg:https://www.clintoncountytoday.com/wp-content/uploads/2022/08/cc-golf.jpg
END:VEVENT
BEGIN:VEVENT
DTSTART;TZID=America/Indiana/Indianapolis:20220827T113000
DTEND;TZID=America/Indiana/Indianapolis:20220827T113000
DTSTAMP:20260424T123513
CREATED:20220819T115141Z
LAST-MODIFIED:20220819T115141Z
UID:3374-1661599800-1661599800@www.clintoncountytoday.com
SUMMARY:Youth Football: Clinton Prairie Hosts Western Boone
DESCRIPTION:
URL:https://www.clintoncountytoday.com/event/youth-football-clinton-prairie-hosts-western-boone/
LOCATION:Clinton Prairie Schools\, 2400 S CR 450 W\, Frankfort\, IN\, 46041\, United States
CATEGORIES:Clinton Prairie Sports,Local Sports,Youth Football
ATTACH;FMTTYPE=image/jpeg:https://www.clintoncountytoday.com/wp-content/uploads/2022/08/cp-football.jpg
END:VEVENT
BEGIN:VEVENT
DTSTART;TZID=America/Indiana/Indianapolis:20220827T100000
DTEND;TZID=America/Indiana/Indianapolis:20220827T100000
DTSTAMP:20260424T123513
CREATED:20220819T114904Z
LAST-MODIFIED:20220819T140132Z
UID:3372-1661594400-1661594400@www.clintoncountytoday.com
SUMMARY:High School JV Football: Frankfort Hosts Clinton Prairie
DESCRIPTION:
URL:https://www.clintoncountytoday.com/event/high-school-jv-football-frankfort-hosts-clinton-prairie/
LOCATION:Frankfort Sr. High School\, 1 Maish Rd\, Frankfort\, IN\, 46041
CATEGORIES:Clinton Prairie Sports,Frankfort Sports,JV Football,Local Sports
ATTACH;FMTTYPE=image/jpeg:https://www.clintoncountytoday.com/wp-content/uploads/2022/08/frankfort-football.jpg
END:VEVENT
BEGIN:VEVENT
DTSTART;TZID=America/Indiana/Indianapolis:20220827T090000
DTEND;TZID=America/Indiana/Indianapolis:20220827T090000
DTSTAMP:20260424T123513
CREATED:20220819T192751Z
LAST-MODIFIED:20220819T192751Z
UID:3603-1661590800-1661590800@www.clintoncountytoday.com
SUMMARY:High School Volleyball: Frankfort @ Faith Christian vs South Putnam
DESCRIPTION:
URL:https://www.clintoncountytoday.com/event/high-school-volleyball-frankfort-faith-christian-vs-south-putnam/
LOCATION:Faith Christian School\, 5526 State Road 26 E\, IN\, Lafayette\, IN\, 47905\, United States
CATEGORIES:Frankfort Sports,High School Volleyball,Local Sports
ATTACH;FMTTYPE=image/jpeg:https://www.clintoncountytoday.com/wp-content/uploads/2022/08/frankfort-volleyball.jpg
END:VEVENT
BEGIN:VEVENT
DTSTART;TZID=America/Indiana/Indianapolis:20220827T090000
DTEND;TZID=America/Indiana/Indianapolis:20220827T090000
DTSTAMP:20260424T123513
CREATED:20220819T192451Z
LAST-MODIFIED:20220819T192451Z
UID:3600-1661590800-1661590800@www.clintoncountytoday.com
SUMMARY:High School Cross Country: Frankfort @ Danville
DESCRIPTION:
URL:https://www.clintoncountytoday.com/event/high-school-cross-country-frankfort-danville/
LOCATION:Danville High School\, 100 Warrior Wy\, Danville\, IN\, 46122\, United States
CATEGORIES:Frankfort Sports,High School Cross Country,Local Sports
ATTACH;FMTTYPE=image/jpeg:https://www.clintoncountytoday.com/wp-content/uploads/2022/08/frankfort-run.jpg
END:VEVENT
BEGIN:VEVENT
DTSTART;TZID=America/Indiana/Indianapolis:20220827T090000
DTEND;TZID=America/Indiana/Indianapolis:20220827T090000
DTSTAMP:20260424T123513
CREATED:20220819T180602Z
LAST-MODIFIED:20220819T180602Z
UID:3531-1661590800-1661590800@www.clintoncountytoday.com
SUMMARY:High School\, Middle School Cross Country: Rossville @ Northfield
DESCRIPTION:
URL:https://www.clintoncountytoday.com/event/high-school-middle-school-cross-country-rossville-northfield/
LOCATION:Northfield Jr./Sr. High School\, 154 W 200 N\, Wabash\, IN\, 46992\, United States
CATEGORIES:High School Cross Country,Local Sports,Middle School Cross Country,Rossville Sports
ATTACH;FMTTYPE=image/jpeg:https://www.clintoncountytoday.com/wp-content/uploads/2022/08/rossville-run.jpg
END:VEVENT
BEGIN:VEVENT
DTSTART;TZID=America/Indiana/Indianapolis:20220827T090000
DTEND;TZID=America/Indiana/Indianapolis:20220827T090000
DTSTAMP:20260424T123513
CREATED:20220819T143707Z
LAST-MODIFIED:20220819T143707Z
UID:3463-1661590800-1661590800@www.clintoncountytoday.com
SUMMARY:Middle School Cross Country: Clinton Central @ Sheridan
DESCRIPTION:
URL:https://www.clintoncountytoday.com/event/middle-school-cross-country-clinton-central-sheridan/
LOCATION:Sheridan\, 24185 Hinesley Rd\, Sheridan\, IN\, 46069\, United States
CATEGORIES:Clinton Central Sports,Local Sports,Middle School Cross Country
ATTACH;FMTTYPE=image/jpeg:https://www.clintoncountytoday.com/wp-content/uploads/2022/08/cc-run.jpg
END:VEVENT
BEGIN:VEVENT
DTSTART;TZID=America/Indiana/Indianapolis:20220827T090000
DTEND;TZID=America/Indiana/Indianapolis:20220827T090000
DTSTAMP:20260424T123513
CREATED:20220819T114332Z
LAST-MODIFIED:20220819T123220Z
UID:3368-1661590800-1661590800@www.clintoncountytoday.com
SUMMARY:High School Volleyball: Clinton Prairie @ Huntington North Invite
DESCRIPTION:
URL:https://www.clintoncountytoday.com/event/high-school-volleyball-clinton-prairie-huntington-north-invite/
LOCATION:Huntington North High School\, 450 Macgahan St\, \, IN\, Huntington\, IN\, 46750\, United States
CATEGORIES:Clinton Prairie Sports,High School Volleyball,Local Sports
ATTACH;FMTTYPE=image/jpeg:https://www.clintoncountytoday.com/wp-content/uploads/2022/08/cp-volleyball.jpg
END:VEVENT
BEGIN:VEVENT
DTSTART;TZID=America/Indiana/Indianapolis:20220827T090000
DTEND;TZID=America/Indiana/Indianapolis:20220827T090000
DTSTAMP:20260424T123513
CREATED:20220819T114007Z
LAST-MODIFIED:20220819T114007Z
UID:3366-1661590800-1661590800@www.clintoncountytoday.com
SUMMARY:High Cross Country: Clinton Prairie @ Mav Stampede
DESCRIPTION:
URL:https://www.clintoncountytoday.com/event/high-cross-country-clinton-prairie-mav-stampede/
LOCATION:Wea Ridge Middle School\, 24185 Hinesley Rd\, Sheridan\, IN\, 46069\, United States
CATEGORIES:Clinton Prairie Sports,High School Cross Country,Local Sports
ATTACH;FMTTYPE=image/jpeg:https://www.clintoncountytoday.com/wp-content/uploads/2022/08/cp-run.jpg
END:VEVENT
BEGIN:VEVENT
DTSTART;TZID=America/Indiana/Indianapolis:20220827T080000
DTEND;TZID=America/Indiana/Indianapolis:20220827T080000
DTSTAMP:20260424T123513
CREATED:20220819T143539Z
LAST-MODIFIED:20220819T143539Z
UID:3460-1661587200-1661587200@www.clintoncountytoday.com
SUMMARY:High School Cross Country: Clinton Central @ Sheridan
DESCRIPTION:
URL:https://www.clintoncountytoday.com/event/high-school-cross-country-clinton-central-sheridan/
LOCATION:Sheridan\, 24185 Hinesley Rd\, Sheridan\, IN\, 46069\, United States
CATEGORIES:Clinton Central Sports,High School Cross Country,Local Sports
ATTACH;FMTTYPE=image/jpeg:https://www.clintoncountytoday.com/wp-content/uploads/2022/08/cc-run.jpg
END:VEVENT
BEGIN:VEVENT
DTSTART;TZID=America/Indiana/Indianapolis:20220827T080000
DTEND;TZID=America/Indiana/Indianapolis:20220827T080000
DTSTAMP:20260424T123513
CREATED:20220819T113804Z
LAST-MODIFIED:20220819T124311Z
UID:3363-1661587200-1661587200@www.clintoncountytoday.com
SUMMARY:Junior High School Cross Country: Clinton Prairie @ Mav Stampede
DESCRIPTION:
URL:https://www.clintoncountytoday.com/event/junior-high-school-cross-country-clinton-prairie-mav-stampede/
LOCATION:Wea Ridge Middle School\, 24185 Hinesley Rd\, Sheridan\, IN\, 46069\, United States
CATEGORIES:Clinton Prairie Sports,Local Sports,Middle School Cross Country
ATTACH;FMTTYPE=image/jpeg:https://www.clintoncountytoday.com/wp-content/uploads/2022/08/cp-run.jpg
END:VEVENT
BEGIN:VEVENT
DTSTART;TZID=America/Indiana/Indianapolis:20220826T190000
DTEND;TZID=America/Indiana/Indianapolis:20220826T190000
DTSTAMP:20260424T123513
CREATED:20220819T142640Z
LAST-MODIFIED:20220819T162647Z
UID:3457-1661540400-1661540400@www.clintoncountytoday.com
SUMMARY:High School Varsity Football: Clinton Central Hosts Sheridan
DESCRIPTION:
URL:https://www.clintoncountytoday.com/event/high-school-varsity-football-clinton-central-hosts-sheridan/
LOCATION:Clinton Central Schools\, 815 IN-29\, Michigantown\, IN\, 46057\, United States
CATEGORIES:Clinton Central Sports,Local Sports,Varsity Football
ATTACH;FMTTYPE=image/jpeg:https://www.clintoncountytoday.com/wp-content/uploads/2022/08/cc-football.jpg
END:VEVENT
BEGIN:VEVENT
DTSTART;TZID=America/Indiana/Indianapolis:20220826T190000
DTEND;TZID=America/Indiana/Indianapolis:20220826T190000
DTSTAMP:20260424T123513
CREATED:20220819T113424Z
LAST-MODIFIED:20220819T140148Z
UID:3361-1661540400-1661540400@www.clintoncountytoday.com
SUMMARY:High School Varsity Football: Clinton Prairie Hosts Frankfort
DESCRIPTION:
URL:https://www.clintoncountytoday.com/event/high-school-varsity-football-clinton-prairie-hosts-frankfort/
LOCATION:Clinton Prairie Schools\, 2400 S CR 450 W\, Frankfort\, IN\, 46041\, United States
CATEGORIES:Clinton Prairie Sports,Frankfort Sports,Local Sports,Varsity Football
ATTACH;FMTTYPE=image/jpeg:https://www.clintoncountytoday.com/wp-content/uploads/2022/08/cp-football.jpg
END:VEVENT
BEGIN:VEVENT
DTSTART;TZID=America/Indiana/Indianapolis:20220825T190000
DTEND;TZID=America/Indiana/Indianapolis:20220825T190000
DTSTAMP:20260424T123513
CREATED:20220819T142505Z
LAST-MODIFIED:20220819T142505Z
UID:3454-1661454000-1661454000@www.clintoncountytoday.com
SUMMARY:High School Volleyball: Clinton Central @ Western
DESCRIPTION:
URL:https://www.clintoncountytoday.com/event/high-school-volleyball-clinton-central-western/
LOCATION:Western High School\, 2600 S 600 W\, Russiaville\, 46979\, United States
CATEGORIES:Clinton Central Sports,High School Volleyball,Local Sports
ATTACH;FMTTYPE=image/jpeg:https://www.clintoncountytoday.com/wp-content/uploads/2022/08/cc-volleyball.jpg
END:VEVENT
BEGIN:VEVENT
DTSTART;TZID=America/Indiana/Indianapolis:20220825T180000
DTEND;TZID=America/Indiana/Indianapolis:20220825T180000
DTSTAMP:20260424T123513
CREATED:20220819T192006Z
LAST-MODIFIED:20220819T192006Z
UID:3598-1661450400-1661450400@www.clintoncountytoday.com
SUMMARY:High School Volleyball: Frankfort Hosts Delphi
DESCRIPTION:
URL:https://www.clintoncountytoday.com/event/high-school-volleyball-frankfort-hosts-delphi/
LOCATION:Frankfort Sr. High School\, 1 Maish Rd\, Frankfort\, IN\, 46041
CATEGORIES:Frankfort Sports,High School Girls Soccer,Local Sports
ATTACH;FMTTYPE=image/jpeg:https://www.clintoncountytoday.com/wp-content/uploads/2022/08/frankfort-volleyball.jpg
END:VEVENT
BEGIN:VEVENT
DTSTART;TZID=America/Indiana/Indianapolis:20220825T180000
DTEND;TZID=America/Indiana/Indianapolis:20220825T180000
DTSTAMP:20260424T123513
CREATED:20220819T164248Z
LAST-MODIFIED:20220819T165329Z
UID:3529-1661450400-1661450400@www.clintoncountytoday.com
SUMMARY:High School Volleyball: Rossville Hosts Eastern
DESCRIPTION:
URL:https://www.clintoncountytoday.com/event/high-school-volleyball-rossville-hosts-eastern/
LOCATION:Rossville Schools\, 1 Robert Egly Dr\, Rossville\, IN\, 46065\, United States
CATEGORIES:High School Volleyball,Local Sports,Rossville Sports
ATTACH;FMTTYPE=image/jpeg:https://www.clintoncountytoday.com/wp-content/uploads/2022/08/rossville-volleyball.jpg
END:VEVENT
BEGIN:VEVENT
DTSTART;TZID=America/Indiana/Indianapolis:20220825T180000
DTEND;TZID=America/Indiana/Indianapolis:20220825T180000
DTSTAMP:20260424T123513
CREATED:20220819T142150Z
LAST-MODIFIED:20220819T142150Z
UID:3451-1661450400-1661450400@www.clintoncountytoday.com
SUMMARY:Middle School Volleyball: Clinton Central @ Western Middle School
DESCRIPTION:
URL:https://www.clintoncountytoday.com/event/middle-school-volleyball-clinton-central-western-middle-school/
LOCATION:Western Middle School\, 2600 County Rd South 600 W\, Russiaville\, IN\, 46979\, United States
CATEGORIES:Clinton Central Sports,Local Sports,Middle School Volleyball
ATTACH;FMTTYPE=image/jpeg:https://www.clintoncountytoday.com/wp-content/uploads/2022/08/cc-volleyball.jpg
END:VEVENT
BEGIN:VEVENT
DTSTART;TZID=America/Indiana/Indianapolis:20220825T180000
DTEND;TZID=America/Indiana/Indianapolis:20220825T180000
DTSTAMP:20260424T123513
CREATED:20220819T112916Z
LAST-MODIFIED:20220819T123408Z
UID:3358-1661450400-1661450400@www.clintoncountytoday.com
SUMMARY:High School Volleyball: Clinton Prairie Hosts Carroll
DESCRIPTION:
URL:https://www.clintoncountytoday.com/event/high-school-volleyball-clinton-prairie-hosts-carroll/
LOCATION:Clinton Prairie Schools\, 2400 S CR 450 W\, Frankfort\, IN\, 46041\, United States
CATEGORIES:Clinton Prairie Sports,High School Volleyball,Local Sports
ATTACH;FMTTYPE=image/jpeg:https://www.clintoncountytoday.com/wp-content/uploads/2022/08/cp-volleyball.jpg
END:VEVENT
BEGIN:VEVENT
DTSTART;TZID=America/Indiana/Indianapolis:20220825T173000
DTEND;TZID=America/Indiana/Indianapolis:20220825T173000
DTSTAMP:20260424T123513
CREATED:20220819T191742Z
LAST-MODIFIED:20220819T191742Z
UID:3596-1661448600-1661448600@www.clintoncountytoday.com
SUMMARY:High School Boys Soccer: Frankfort @ North Montgomery
DESCRIPTION:
URL:https://www.clintoncountytoday.com/event/high-school-boys-soccer-frankfort-north-montgomery/
LOCATION:North Montgomery High School\, 5945 US-231\, Crawfordsville\, IN\, 47933\, United States
CATEGORIES:Frankfort Sports,High School Boys Soccer,Local Sports
ATTACH;FMTTYPE=image/jpeg:https://www.clintoncountytoday.com/wp-content/uploads/2022/08/frankfort-soccer.jpg
END:VEVENT
BEGIN:VEVENT
DTSTART;TZID=America/Indiana/Indianapolis:20220825T173000
DTEND;TZID=America/Indiana/Indianapolis:20220825T173000
DTSTAMP:20260424T123513
CREATED:20220819T141825Z
LAST-MODIFIED:20220819T141825Z
UID:3448-1661448600-1661448600@www.clintoncountytoday.com
SUMMARY:High School & Middle School Cross Country: Clinton Central @ Attica Invite
DESCRIPTION:
URL:https://www.clintoncountytoday.com/event/high-school-middle-school-cross-country-clinton-central-attica-invite/
LOCATION:Attica High School\, 211 E Sycamore St\, Attica\, IN\, 47918\, United States
CATEGORIES:Clinton Central Sports,High School Cross Country,Local Sports,Middle School Cross Country
ATTACH;FMTTYPE=image/jpeg:https://www.clintoncountytoday.com/wp-content/uploads/2022/08/cc-run.jpg
END:VEVENT
BEGIN:VEVENT
DTSTART;TZID=America/Indiana/Indianapolis:20220825T170000
DTEND;TZID=America/Indiana/Indianapolis:20220825T170000
DTSTAMP:20260424T123513
CREATED:20220819T191627Z
LAST-MODIFIED:20220819T191627Z
UID:3594-1661446800-1661446800@www.clintoncountytoday.com
SUMMARY:Middle School Cross Country: Frankfort Hosts Tipton
DESCRIPTION:
URL:https://www.clintoncountytoday.com/event/middle-school-cross-country-frankfort-hosts-tipton/
LOCATION:Frankfort Middle School\, 329 N Maish Rd\, Frankfort\, IN\, 46041\, United States
CATEGORIES:Frankfort Sports,Local Sports,Middle School Cross Country
ATTACH;FMTTYPE=image/jpeg:https://www.clintoncountytoday.com/wp-content/uploads/2022/08/frankfort-run.jpg
END:VEVENT
END:VCALENDAR