BEGIN:VCALENDAR
VERSION:2.0
PRODID:-//Clinton County Today - ECPv6.15.20//NONSGML v1.0//EN
CALSCALE:GREGORIAN
METHOD:PUBLISH
X-ORIGINAL-URL:https://www.clintoncountytoday.com
X-WR-CALDESC:Events for Clinton County Today
REFRESH-INTERVAL;VALUE=DURATION:PT1H
X-Robots-Tag:noindex
X-PUBLISHED-TTL:PT1H
BEGIN:VTIMEZONE
TZID:America/Indiana/Indianapolis
BEGIN:DAYLIGHT
TZOFFSETFROM:-0500
TZOFFSETTO:-0400
TZNAME:EDT
DTSTART:20210314T070000
END:DAYLIGHT
BEGIN:STANDARD
TZOFFSETFROM:-0400
TZOFFSETTO:-0500
TZNAME:EST
DTSTART:20211107T060000
END:STANDARD
BEGIN:DAYLIGHT
TZOFFSETFROM:-0500
TZOFFSETTO:-0400
TZNAME:EDT
DTSTART:20220313T070000
END:DAYLIGHT
BEGIN:STANDARD
TZOFFSETFROM:-0400
TZOFFSETTO:-0500
TZNAME:EST
DTSTART:20221106T060000
END:STANDARD
BEGIN:DAYLIGHT
TZOFFSETFROM:-0500
TZOFFSETTO:-0400
TZNAME:EDT
DTSTART:20230312T070000
END:DAYLIGHT
BEGIN:STANDARD
TZOFFSETFROM:-0400
TZOFFSETTO:-0500
TZNAME:EST
DTSTART:20231105T060000
END:STANDARD
END:VTIMEZONE
BEGIN:VEVENT
DTSTART;TZID=America/Indiana/Indianapolis:20220901T080000
DTEND;TZID=America/Indiana/Indianapolis:20220901T170000
DTSTAMP:20260424T111121
CREATED:20220819T150043Z
LAST-MODIFIED:20220819T150043Z
UID:3490-1662019200-1662051600@www.clintoncountytoday.com
SUMMARY:High School Volleyball: Clinton Central Hosts Carroll
DESCRIPTION:
URL:https://www.clintoncountytoday.com/event/high-school-volleyball-clinton-central-hosts-carroll/
LOCATION:Clinton Central Schools\, 815 IN-29\, Michigantown\, IN\, 46057\, United States
CATEGORIES:Clinton Central Sports,High School Volleyball,Local Sports
ATTACH;FMTTYPE=image/jpeg:https://www.clintoncountytoday.com/wp-content/uploads/2022/08/cc-volleyball.jpg
END:VEVENT
BEGIN:VEVENT
DTSTART;TZID=America/Indiana/Indianapolis:20220831T180000
DTEND;TZID=America/Indiana/Indianapolis:20220831T180000
DTSTAMP:20260424T111121
CREATED:20220819T195636Z
LAST-MODIFIED:20220819T195636Z
UID:3627-1661968800-1661968800@www.clintoncountytoday.com
SUMMARY:High School Volleyball: Frankfort Hosts Western
DESCRIPTION:
URL:https://www.clintoncountytoday.com/event/high-school-volleyball-frankfort-hosts-western/
LOCATION:Frankfort Sr. High School\, 1 Maish Rd\, Frankfort\, IN\, 46041
CATEGORIES:Frankfort Sports,High School Volleyball,Local Sports
ATTACH;FMTTYPE=image/jpeg:https://www.clintoncountytoday.com/wp-content/uploads/2022/08/frankfort-volleyball.jpg
END:VEVENT
BEGIN:VEVENT
DTSTART;TZID=America/Indiana/Indianapolis:20220831T180000
DTEND;TZID=America/Indiana/Indianapolis:20220831T180000
DTSTAMP:20260424T111121
CREATED:20220819T145442Z
LAST-MODIFIED:20220819T145442Z
UID:3484-1661968800-1661968800@www.clintoncountytoday.com
SUMMARY:Middle School Volleyball: Rossville Hosts Clinton Central
DESCRIPTION:
URL:https://www.clintoncountytoday.com/event/middle-school-volleyball-rossville-hosts-clinton-central/
LOCATION:Rossville Schools\, 1 Robert Egly Dr\, Rossville\, IN\, 46065\, United States
CATEGORIES:Clinton Central Sports,Local Sports,Middle School Volleyball,Rossville Sports
ATTACH;FMTTYPE=image/jpeg:https://www.clintoncountytoday.com/wp-content/uploads/2022/08/rossville-volleyball.jpg
END:VEVENT
BEGIN:VEVENT
DTSTART;TZID=America/Indiana/Indianapolis:20220831T174500
DTEND;TZID=America/Indiana/Indianapolis:20220831T174500
DTSTAMP:20260424T111121
CREATED:20220819T195516Z
LAST-MODIFIED:20220819T195516Z
UID:3625-1661967900-1661967900@www.clintoncountytoday.com
SUMMARY:Middle School Boys Tennis: Frankfort @ Crawfordsville
DESCRIPTION:
URL:https://www.clintoncountytoday.com/event/middle-school-boys-tennis-frankfort-crawfordsville/
LOCATION:Crawfordsville High School\, 1 W Athenian Dr\, Crawfordsville\, IN\, 47933\, United States
CATEGORIES:Frankfort Sports,Local Sports,Middle School Boys Tennis
ATTACH;FMTTYPE=image/jpeg:https://www.clintoncountytoday.com/wp-content/uploads/2022/08/frankfort-tennis.jpg
END:VEVENT
BEGIN:VEVENT
DTSTART;TZID=America/Indiana/Indianapolis:20220831T170000
DTEND;TZID=America/Indiana/Indianapolis:20220831T170000
DTSTAMP:20260424T111121
CREATED:20220819T195354Z
LAST-MODIFIED:20220819T195354Z
UID:3623-1661965200-1661965200@www.clintoncountytoday.com
SUMMARY:Middle School Cross Country: Frankfort Hosts Western Boone
DESCRIPTION:
URL:https://www.clintoncountytoday.com/event/middle-school-cross-country-frankfort-hosts-western-boone/
LOCATION:Frankfort Middle School\, 329 N Maish Rd\, Frankfort\, IN\, 46041\, United States
CATEGORIES:Frankfort Sports,Local Sports,Middle School Cross Country
ATTACH;FMTTYPE=image/jpeg:https://www.clintoncountytoday.com/wp-content/uploads/2022/08/frankfort-run.jpg
END:VEVENT
BEGIN:VEVENT
DTSTART;TZID=America/Indiana/Indianapolis:20220831T170000
DTEND;TZID=America/Indiana/Indianapolis:20220831T170000
DTSTAMP:20260424T111121
CREATED:20220819T182648Z
LAST-MODIFIED:20220819T182648Z
UID:3551-1661965200-1661965200@www.clintoncountytoday.com
SUMMARY:High School Boys Tennis: Rossville Hosts McCutcheon
DESCRIPTION:
URL:https://www.clintoncountytoday.com/event/high-school-boys-tennis-rossville-hosts-mccutcheon/
LOCATION:Rossville Schools\, 1 Robert Egly Dr\, Rossville\, IN\, 46065\, United States
CATEGORIES:High School Boys Tennis,Local Sports,Rossville Sports
ATTACH;FMTTYPE=image/jpeg:https://www.clintoncountytoday.com/wp-content/uploads/2022/08/rossville-tennis.jpg
END:VEVENT
BEGIN:VEVENT
DTSTART;TZID=America/Indiana/Indianapolis:20220831T170000
DTEND;TZID=America/Indiana/Indianapolis:20220831T170000
DTSTAMP:20260424T111121
CREATED:20220819T145144Z
LAST-MODIFIED:20220819T145144Z
UID:3480-1661965200-1661965200@www.clintoncountytoday.com
SUMMARY:Middle School Cross Country: Clinton Central Hosts Delphi & Carroll
DESCRIPTION:
URL:https://www.clintoncountytoday.com/event/middle-school-cross-country-clinton-central-hosts-delphi-carroll/
LOCATION:Clinton Central Schools\, 815 IN-29\, Michigantown\, IN\, 46057\, United States
CATEGORIES:Clinton Central Sports,Local Sports,Middle School Cross Country
ATTACH;FMTTYPE=image/jpeg:https://www.clintoncountytoday.com/wp-content/uploads/2022/08/cc-run.jpg
END:VEVENT
BEGIN:VEVENT
DTSTART;TZID=America/Indiana/Indianapolis:20220831T163000
DTEND;TZID=America/Indiana/Indianapolis:20220831T163000
DTSTAMP:20260424T111121
CREATED:20220819T144822Z
LAST-MODIFIED:20220819T144822Z
UID:3473-1661963400-1661963400@www.clintoncountytoday.com
SUMMARY:High School Girls Golf: Rossville Hosts Clinton Central
DESCRIPTION:
URL:https://www.clintoncountytoday.com/event/high-school-girls-golf-rossville-hosts-clinton-central/
LOCATION:Angel Hill Golf Course\, 9980 N Co Rd 480 W\, Rossville\, IN\, 46065\, United States
CATEGORIES:Clinton Central Sports,High School Girls Golf,Local Sports,Rossville Sports
ATTACH;FMTTYPE=image/jpeg:https://www.clintoncountytoday.com/wp-content/uploads/2022/08/rossville-golf.jpg
END:VEVENT
BEGIN:VEVENT
DTSTART;TZID=America/Indiana/Indianapolis:20220830T190000
DTEND;TZID=America/Indiana/Indianapolis:20220830T190000
DTSTAMP:20260424T111121
CREATED:20220819T144333Z
LAST-MODIFIED:20220819T144333Z
UID:3471-1661886000-1661886000@www.clintoncountytoday.com
SUMMARY:High School Volleyball: Clinton Central Hosts Northwestern
DESCRIPTION:
URL:https://www.clintoncountytoday.com/event/high-school-volleyball-clinton-central-hosts-northwestern/
LOCATION:Clinton Central Schools\, 815 IN-29\, Michigantown\, IN\, 46057\, United States
CATEGORIES:Clinton Central Sports,High School Volleyball,Local Sports
ATTACH;FMTTYPE=image/jpeg:https://www.clintoncountytoday.com/wp-content/uploads/2022/08/cc-volleyball.jpg
END:VEVENT
BEGIN:VEVENT
DTSTART;TZID=America/Indiana/Indianapolis:20220830T180000
DTEND;TZID=America/Indiana/Indianapolis:20220830T180000
DTSTAMP:20260424T111122
CREATED:20220819T182245Z
LAST-MODIFIED:20220819T182245Z
UID:3549-1661882400-1661882400@www.clintoncountytoday.com
SUMMARY:High School Volleyball: Rossville @ Western
DESCRIPTION:
URL:https://www.clintoncountytoday.com/event/high-school-volleyball-rossville-western/
LOCATION:Western High School\, 2600 S 600 W\, Russiaville\, 46979\, United States
CATEGORIES:High School Volleyball,Local Sports,Rossville Sports
ATTACH;FMTTYPE=image/jpeg:https://www.clintoncountytoday.com/wp-content/uploads/2022/08/rossville-volleyball.jpg
END:VEVENT
BEGIN:VEVENT
DTSTART;TZID=America/Indiana/Indianapolis:20220830T180000
DTEND;TZID=America/Indiana/Indianapolis:20220830T180000
DTSTAMP:20260424T111122
CREATED:20220819T144215Z
LAST-MODIFIED:20220819T144215Z
UID:3469-1661882400-1661882400@www.clintoncountytoday.com
SUMMARY:Middle School Football: Clinton Central Hosts Sheridan
DESCRIPTION:
URL:https://www.clintoncountytoday.com/event/middle-school-football-clinton-central-hosts-sheridan/
LOCATION:Clinton Central Schools\, 815 IN-29\, Michigantown\, IN\, 46057\, United States
CATEGORIES:Clinton Central Sports,Local Sports,Middle School Football
ATTACH;FMTTYPE=image/jpeg:https://www.clintoncountytoday.com/wp-content/uploads/2022/08/cc-football.jpg
END:VEVENT
BEGIN:VEVENT
DTSTART;TZID=America/Indiana/Indianapolis:20220830T180000
DTEND;TZID=America/Indiana/Indianapolis:20220830T180000
DTSTAMP:20260424T111122
CREATED:20220819T123119Z
LAST-MODIFIED:20220819T123119Z
UID:3389-1661882400-1661882400@www.clintoncountytoday.com
SUMMARY:High School Volleyball: Clinton Prairie @ Tri-Central
DESCRIPTION:
URL:https://www.clintoncountytoday.com/event/high-school-volleyball-clinton-prairie-tri-central/
LOCATION:Tri-Central Middle/High School\, 2115 W 500 N\, Sharpsville\, IN\, 46068\, United States
CATEGORIES:Clinton Prairie Sports,High School Volleyball,Local Sports
ATTACH;FMTTYPE=image/jpeg:https://www.clintoncountytoday.com/wp-content/uploads/2022/08/cp-volleyball.jpg
END:VEVENT
BEGIN:VEVENT
DTSTART;TZID=America/Indiana/Indianapolis:20220830T180000
DTEND;TZID=America/Indiana/Indianapolis:20220830T180000
DTSTAMP:20260424T111122
CREATED:20220819T122554Z
LAST-MODIFIED:20220819T124139Z
UID:3387-1661882400-1661882400@www.clintoncountytoday.com
SUMMARY:Junior High School Volleyball: Clinton Prairie Hosts Zionsville West
DESCRIPTION:
URL:https://www.clintoncountytoday.com/event/junior-high-school-volleyball-clinton-prairie-hosts-zionsville-west/
LOCATION:Clinton Prairie Schools\, 2400 S CR 450 W\, Frankfort\, IN\, 46041\, United States
CATEGORIES:Clinton Prairie Sports,Local Sports,Middle School Volleyball
ATTACH;FMTTYPE=image/jpeg:https://www.clintoncountytoday.com/wp-content/uploads/2022/08/cp-volleyball.jpg
END:VEVENT
BEGIN:VEVENT
DTSTART;TZID=America/Indiana/Indianapolis:20220830T180000
DTEND;TZID=America/Indiana/Indianapolis:20220830T180000
DTSTAMP:20260424T111122
CREATED:20220819T122340Z
LAST-MODIFIED:20220819T124202Z
UID:3385-1661882400-1661882400@www.clintoncountytoday.com
SUMMARY:Junior High School Football: Clinton Prairie Hosts Tecumseh Middle School
DESCRIPTION:
URL:https://www.clintoncountytoday.com/event/junior-high-school-football-clinton-prairie-hosts-tecumseh-middle-school/
LOCATION:Clinton Prairie Schools\, 2400 S CR 450 W\, Frankfort\, IN\, 46041\, United States
CATEGORIES:Clinton Prairie Sports,Local Sports,Middle School Football
ATTACH;FMTTYPE=image/jpeg:https://www.clintoncountytoday.com/wp-content/uploads/2022/08/cp-football.jpg
END:VEVENT
BEGIN:VEVENT
DTSTART;TZID=America/Indiana/Indianapolis:20220830T173000
DTEND;TZID=America/Indiana/Indianapolis:20220830T173000
DTSTAMP:20260424T111122
CREATED:20220819T195216Z
LAST-MODIFIED:20220819T195216Z
UID:3621-1661880600-1661880600@www.clintoncountytoday.com
SUMMARY:Middle School Cross Country: Frankfort Hosts Tri-West
DESCRIPTION:
URL:https://www.clintoncountytoday.com/event/middle-school-cross-country-frankfort-hosts-tri-west/
LOCATION:Frankfort Middle School\, 329 N Maish Rd\, Frankfort\, IN\, 46041\, United States
CATEGORIES:Frankfort Sports,Local Sports,Middle School Cross Country
ATTACH;FMTTYPE=image/jpeg:https://www.clintoncountytoday.com/wp-content/uploads/2022/08/frankfort-run.jpg
END:VEVENT
BEGIN:VEVENT
DTSTART;TZID=America/Indiana/Indianapolis:20220830T173000
DTEND;TZID=America/Indiana/Indianapolis:20220830T173000
DTSTAMP:20260424T111122
CREATED:20220819T195106Z
LAST-MODIFIED:20220819T195106Z
UID:3619-1661880600-1661880600@www.clintoncountytoday.com
SUMMARY:Middle School Football: Frankfort Hosts Tri-West
DESCRIPTION:
URL:https://www.clintoncountytoday.com/event/middle-school-football-frankfort-hosts-tri-west/
LOCATION:Frankfort Sr. High School\, 1 Maish Rd\, Frankfort\, IN\, 46041
CATEGORIES:Frankfort Sports,Local Sports,Middle School Football
ATTACH;FMTTYPE=image/jpeg:https://www.clintoncountytoday.com/wp-content/uploads/2022/08/frankfort-football.jpg
END:VEVENT
BEGIN:VEVENT
DTSTART;TZID=America/Indiana/Indianapolis:20220830T173000
DTEND;TZID=America/Indiana/Indianapolis:20220830T173000
DTSTAMP:20260424T111122
CREATED:20220819T194924Z
LAST-MODIFIED:20220819T194924Z
UID:3617-1661880600-1661880600@www.clintoncountytoday.com
SUMMARY:High School Boys Soccer: Frankfort Hosts Lebanon
DESCRIPTION:
URL:https://www.clintoncountytoday.com/event/high-school-boys-soccer-frankfort-hosts-lebanon/
LOCATION:Frankfort Sr. High School\, 1 Maish Rd\, Frankfort\, IN\, 46041
CATEGORIES:Frankfort Sports,High School Boys Soccer,Local Sports
ATTACH;FMTTYPE=image/jpeg:https://www.clintoncountytoday.com/wp-content/uploads/2022/08/frankfort-soccer.jpg
END:VEVENT
BEGIN:VEVENT
DTSTART;TZID=America/Indiana/Indianapolis:20220830T170000
DTEND;TZID=America/Indiana/Indianapolis:20220830T170000
DTSTAMP:20260424T111122
CREATED:20220819T193923Z
LAST-MODIFIED:20220819T193923Z
UID:3615-1661878800-1661878800@www.clintoncountytoday.com
SUMMARY:Middle School Girls & Boys Soccer: Frankfort Hosts Tecumseh
DESCRIPTION:
URL:https://www.clintoncountytoday.com/event/middle-school-girls-boys-soccer-frankfort-hosts-tecumseh/
LOCATION:Frankfort Middle School\, 329 N Maish Rd\, Frankfort\, IN\, 46041\, United States
CATEGORIES:Frankfort Sports,Local Sports,Middle School Boys Soccer,Middle School Girls Soccer
ATTACH;FMTTYPE=image/jpeg:https://www.clintoncountytoday.com/wp-content/uploads/2022/08/frankfort-soccer.jpg
END:VEVENT
BEGIN:VEVENT
DTSTART;TZID=America/Indiana/Indianapolis:20220830T170000
DTEND;TZID=America/Indiana/Indianapolis:20220830T170000
DTSTAMP:20260424T111122
CREATED:20220819T193651Z
LAST-MODIFIED:20220819T193651Z
UID:3613-1661878800-1661878800@www.clintoncountytoday.com
SUMMARY:High School Cross Country: Frankfort @ Southmont
DESCRIPTION:
URL:https://www.clintoncountytoday.com/event/high-school-cross-country-frankfort-southmont/
LOCATION:Southmont JH/SH\, 6425 US-231\, Crawfordsville\, IN\, 47933\, United States
CATEGORIES:Frankfort Sports,Local Sports,Middle School Cross Country
ATTACH;FMTTYPE=image/jpeg:https://www.clintoncountytoday.com/wp-content/uploads/2022/08/frankfort-run.jpg
END:VEVENT
BEGIN:VEVENT
DTSTART;TZID=America/Indiana/Indianapolis:20220830T170000
DTEND;TZID=America/Indiana/Indianapolis:20220830T170000
DTSTAMP:20260424T111122
CREATED:20220819T193417Z
LAST-MODIFIED:20220819T193417Z
UID:3610-1661878800-1661878800@www.clintoncountytoday.com
SUMMARY:High School Boys Tennis: Frankfort @ Western Boone
DESCRIPTION:
URL:https://www.clintoncountytoday.com/event/high-school-boys-tennis-frankfort-western-boone/
LOCATION:Western Boone High School\, 1205 IN-75\, Thorntown\, 46071\, United States
CATEGORIES:Frankfort Sports,High School Boys Tennis,Local Sports
ATTACH;FMTTYPE=image/jpeg:https://www.clintoncountytoday.com/wp-content/uploads/2022/08/frankfort-tennis.jpg
END:VEVENT
BEGIN:VEVENT
DTSTART;TZID=America/Indiana/Indianapolis:20220830T170000
DTEND;TZID=America/Indiana/Indianapolis:20220830T170000
DTSTAMP:20260424T111122
CREATED:20220819T181802Z
LAST-MODIFIED:20220819T181802Z
UID:3544-1661878800-1661878800@www.clintoncountytoday.com
SUMMARY:High School Cross Country: Rossville Hosts Invite
DESCRIPTION:
URL:https://www.clintoncountytoday.com/event/high-school-cross-country-rossville-hosts-invite/
LOCATION:Rossville Schools\, 1 Robert Egly Dr\, Rossville\, IN\, 46065\, United States
CATEGORIES:High School Cross Country,Local Sports,Rossville Sports
ATTACH;FMTTYPE=image/jpeg:https://www.clintoncountytoday.com/wp-content/uploads/2022/08/rossville-run.jpg
END:VEVENT
BEGIN:VEVENT
DTSTART;TZID=America/Indiana/Indianapolis:20220830T170000
DTEND;TZID=America/Indiana/Indianapolis:20220830T170000
DTSTAMP:20260424T111122
CREATED:20220819T144050Z
LAST-MODIFIED:20220819T144050Z
UID:3467-1661878800-1661878800@www.clintoncountytoday.com
SUMMARY:High School Girls Golf: Clinton Central Hosts Carroll
DESCRIPTION:
URL:https://www.clintoncountytoday.com/event/high-school-girls-golf-clinton-central-hosts-carroll/
LOCATION:Clinton Central Schools\, 815 IN-29\, Michigantown\, IN\, 46057\, United States
CATEGORIES:Clinton Central Sports,High School Girls Golf,Local Sports
ATTACH;FMTTYPE=image/jpeg:https://www.clintoncountytoday.com/wp-content/uploads/2022/08/cc-golf.jpg
END:VEVENT
BEGIN:VEVENT
DTSTART;TZID=America/Indiana/Indianapolis:20220830T163000
DTEND;TZID=America/Indiana/Indianapolis:20220830T163000
DTSTAMP:20260424T111122
CREATED:20220819T193153Z
LAST-MODIFIED:20220819T193153Z
UID:3608-1661877000-1661877000@www.clintoncountytoday.com
SUMMARY:Middle School Boys Tennis: Frankfort Hosts Lebanon Middle School
DESCRIPTION:
URL:https://www.clintoncountytoday.com/event/middle-school-boys-tennis-frankfort-hosts-lebanon-middle-school/
LOCATION:Frankfort Sr. High School\, 1 Maish Rd\, Frankfort\, IN\, 46041
CATEGORIES:Frankfort Sports,Local Sports,Middle School Boys Tennis
ATTACH;FMTTYPE=image/jpeg:https://www.clintoncountytoday.com/wp-content/uploads/2022/08/frankfort-tennis.jpg
END:VEVENT
BEGIN:VEVENT
DTSTART;TZID=America/Indiana/Indianapolis:20220829T180000
DTEND;TZID=America/Indiana/Indianapolis:20220829T180000
DTSTAMP:20260424T111122
CREATED:20220819T192959Z
LAST-MODIFIED:20220819T192959Z
UID:3605-1661796000-1661796000@www.clintoncountytoday.com
SUMMARY:High School Volleyball: Frankfort @ Peru
DESCRIPTION:
URL:https://www.clintoncountytoday.com/event/high-school-volleyball-frankfort-peru/
LOCATION:Peru High School\, 401 N Broadway St\, Peru\, IN\, 46970\, United States
CATEGORIES:Frankfort Sports,High School Volleyball,Local Sports
ATTACH;FMTTYPE=image/jpeg:https://www.clintoncountytoday.com/wp-content/uploads/2022/08/frankfort-volleyball.jpg
END:VEVENT
BEGIN:VEVENT
DTSTART;TZID=America/Indiana/Indianapolis:20220829T173000
DTEND;TZID=America/Indiana/Indianapolis:20220829T173000
DTSTAMP:20260424T111122
CREATED:20220819T143928Z
LAST-MODIFIED:20220819T143928Z
UID:3465-1661794200-1661794200@www.clintoncountytoday.com
SUMMARY:Middle School Volleyball: Clinton Central Hosts Hamilton Heights Middle School
DESCRIPTION:
URL:https://www.clintoncountytoday.com/event/middle-school-volleyball-clinton-central-hosts-hamilton-heights-middle-school/
LOCATION:Clinton Central Schools\, 815 IN-29\, Michigantown\, IN\, 46057\, United States
CATEGORIES:Clinton Central Sports,Local Sports,Middle School Volleyball
ATTACH;FMTTYPE=image/jpeg:https://www.clintoncountytoday.com/wp-content/uploads/2022/08/cc-volleyball.jpg
END:VEVENT
BEGIN:VEVENT
DTSTART;TZID=America/Indiana/Indianapolis:20220829T170000
DTEND;TZID=America/Indiana/Indianapolis:20220829T170000
DTSTAMP:20260424T111122
CREATED:20220819T181619Z
LAST-MODIFIED:20220819T181619Z
UID:3541-1661792400-1661792400@www.clintoncountytoday.com
SUMMARY:High School Boys Tennis: Rossville @ Kokomo
DESCRIPTION:
URL:https://www.clintoncountytoday.com/event/high-school-boys-tennis-rossville-kokomo/
LOCATION:Kokomo High School\, 2501 S Berkley Rd\, Kokomo\, IN\, 46902\, United States
CATEGORIES:High School Boys Tennis,Local Sports,Rossville Sports
ATTACH;FMTTYPE=image/jpeg:https://www.clintoncountytoday.com/wp-content/uploads/2022/08/rossville-tennis.jpg
END:VEVENT
BEGIN:VEVENT
DTSTART;TZID=America/Indiana/Indianapolis:20220829T170000
DTEND;TZID=America/Indiana/Indianapolis:20220829T170000
DTSTAMP:20260424T111122
CREATED:20220819T120843Z
LAST-MODIFIED:20220819T124225Z
UID:3382-1661792400-1661792400@www.clintoncountytoday.com
SUMMARY:Junior High School Cross Country: Clinton Prairie & Rossville @ Wainwright
DESCRIPTION:
URL:https://www.clintoncountytoday.com/event/junior-high-school-cross-country-clinton-prairie-rossville-wainwright/
LOCATION:Wainwright Middle School\, 7501 E 700 S\, \, IN 4\, Lafayette\, IN\, 47905\, United States
CATEGORIES:Clinton Prairie Sports,Local Sports,Middle School Cross Country,Rossville Sports
ATTACH;FMTTYPE=image/jpeg:https://www.clintoncountytoday.com/wp-content/uploads/2022/08/cp-run.jpg
END:VEVENT
BEGIN:VEVENT
DTSTART;TZID=America/Indiana/Indianapolis:20220829T163000
DTEND;TZID=America/Indiana/Indianapolis:20220829T163000
DTSTAMP:20260424T111122
CREATED:20220819T181120Z
LAST-MODIFIED:20220819T181120Z
UID:3536-1661790600-1661790600@www.clintoncountytoday.com
SUMMARY:High School Girls Golf: Rossville @ Harrison
DESCRIPTION:
URL:https://www.clintoncountytoday.com/event/high-school-girls-golf-rossville-harrison/
LOCATION:Harrison High School\, 5701 N 50 W\, West Lafayette\, IN\, 47906\, United States
CATEGORIES:High School Girls Golf,Local Sports,Rossville Sports
ATTACH;FMTTYPE=image/jpeg:https://www.clintoncountytoday.com/wp-content/uploads/2022/08/rossville-golf.jpg
END:VEVENT
BEGIN:VEVENT
DTSTART;TZID=America/Indiana/Indianapolis:20220829T163000
DTEND;TZID=America/Indiana/Indianapolis:20220829T163000
DTSTAMP:20260424T111122
CREATED:20220819T120439Z
LAST-MODIFIED:20220819T135958Z
UID:3380-1661790600-1661790600@www.clintoncountytoday.com
SUMMARY:High School Girls Golf: Clinton Prairie Hosts Lafayette Jeff & Lafayette Central Catholic
DESCRIPTION:
URL:https://www.clintoncountytoday.com/event/high-school-girls-golf-clinton-prairie-hosts-lafayette-jeff-lafayette-central-catholic/
LOCATION:IN
CATEGORIES:Clinton Prairie Sports,High School Girls Golf,Local Sports
ATTACH;FMTTYPE=image/jpeg:https://www.clintoncountytoday.com/wp-content/uploads/2022/08/cp-golf.jpg
END:VEVENT
BEGIN:VEVENT
DTSTART;TZID=America/Indiana/Indianapolis:20220827T140000
DTEND;TZID=America/Indiana/Indianapolis:20220827T140000
DTSTAMP:20260424T111122
CREATED:20220819T120116Z
LAST-MODIFIED:20220819T140017Z
UID:3376-1661608800-1661608800@www.clintoncountytoday.com
SUMMARY:High School Girls Golf: County Tourney - Clinton Central\, Clinton Prairie\, Rossville @ Frankfort Commons
DESCRIPTION:
URL:https://www.clintoncountytoday.com/event/high-school-girls-golf-county-tourney-clinton-central-clinton-prairie-rossville-frankfort-commons/
LOCATION:Frankfort Commons\, 50 N. Park Drive\, Frankfort\, IN\, 46041\, United States
CATEGORIES:Clinton Central Sports,Clinton Prairie Sports,High School Girls Golf,Local Sports,Rossville Sports
ATTACH;FMTTYPE=image/jpeg:https://www.clintoncountytoday.com/wp-content/uploads/2022/08/cc-golf.jpg
END:VEVENT
END:VCALENDAR