BEGIN:VCALENDAR
VERSION:2.0
PRODID:-//Clinton County Today - ECPv6.15.20//NONSGML v1.0//EN
CALSCALE:GREGORIAN
METHOD:PUBLISH
X-WR-CALNAME:Clinton County Today
X-ORIGINAL-URL:https://www.clintoncountytoday.com
X-WR-CALDESC:Events for Clinton County Today
REFRESH-INTERVAL;VALUE=DURATION:PT1H
X-Robots-Tag:noindex
X-PUBLISHED-TTL:PT1H
BEGIN:VTIMEZONE
TZID:America/Indiana/Indianapolis
BEGIN:DAYLIGHT
TZOFFSETFROM:-0500
TZOFFSETTO:-0400
TZNAME:EDT
DTSTART:20210314T070000
END:DAYLIGHT
BEGIN:STANDARD
TZOFFSETFROM:-0400
TZOFFSETTO:-0500
TZNAME:EST
DTSTART:20211107T060000
END:STANDARD
BEGIN:DAYLIGHT
TZOFFSETFROM:-0500
TZOFFSETTO:-0400
TZNAME:EDT
DTSTART:20220313T070000
END:DAYLIGHT
BEGIN:STANDARD
TZOFFSETFROM:-0400
TZOFFSETTO:-0500
TZNAME:EST
DTSTART:20221106T060000
END:STANDARD
BEGIN:DAYLIGHT
TZOFFSETFROM:-0500
TZOFFSETTO:-0400
TZNAME:EDT
DTSTART:20230312T070000
END:DAYLIGHT
BEGIN:STANDARD
TZOFFSETFROM:-0400
TZOFFSETTO:-0500
TZNAME:EST
DTSTART:20231105T060000
END:STANDARD
END:VTIMEZONE
BEGIN:VEVENT
DTSTART;TZID=America/Indiana/Indianapolis:20220907T163000
DTEND;TZID=America/Indiana/Indianapolis:20220907T163000
DTSTAMP:20260424T080613
CREATED:20220905T152133Z
LAST-MODIFIED:20220905T152133Z
UID:3796-1662568200-1662568200@www.clintoncountytoday.com
SUMMARY:High School Girls Golf: Clinton Central Hosts Delphi
DESCRIPTION:
URL:https://www.clintoncountytoday.com/event/high-school-girls-golf-clinton-central-hosts-delphi/
LOCATION:Clinton Central Schools\, 815 IN-29\, Michigantown\, IN\, 46057\, United States
CATEGORIES:Clinton Central Sports,High School Girls Golf,Local Sports
ATTACH;FMTTYPE=image/jpeg:https://www.clintoncountytoday.com/wp-content/uploads/2022/08/cc-golf.jpg
END:VEVENT
BEGIN:VEVENT
DTSTART;TZID=America/Indiana/Indianapolis:20220907T163000
DTEND;TZID=America/Indiana/Indianapolis:20220907T163000
DTSTAMP:20260424T080613
CREATED:20220905T144551Z
LAST-MODIFIED:20220905T144551Z
UID:3763-1662568200-1662568200@www.clintoncountytoday.com
SUMMARY:High School Girls Golf: Rossville Hosts Lafayette Central Catholic
DESCRIPTION:
URL:https://www.clintoncountytoday.com/event/high-school-girls-golf-rossville-hosts-lafayette-central-catholic/
LOCATION:Angel Hill Golf Course\, 9980 N Co Rd 480 W\, Rossville\, IN\, 46065\, United States
CATEGORIES:High School Girls Golf,Local Sports,Rossville Sports
ATTACH;FMTTYPE=image/jpeg:https://www.clintoncountytoday.com/wp-content/uploads/2022/08/rossville-golf.jpg
END:VEVENT
BEGIN:VEVENT
DTSTART;TZID=America/Indiana/Indianapolis:20220906T190000
DTEND;TZID=America/Indiana/Indianapolis:20220906T190000
DTSTAMP:20260424T080613
CREATED:20220905T152013Z
LAST-MODIFIED:20220905T152013Z
UID:3794-1662490800-1662490800@www.clintoncountytoday.com
SUMMARY:High School Volleyball: Clinton Central Hosts Tipton
DESCRIPTION:
URL:https://www.clintoncountytoday.com/event/high-school-volleyball-clinton-central-hosts-tipton/
LOCATION:Clinton Central Schools\, 815 IN-29\, Michigantown\, IN\, 46057\, United States
CATEGORIES:Clinton Central Sports,High School JV Volleyball,Local Sports
ATTACH;FMTTYPE=image/jpeg:https://www.clintoncountytoday.com/wp-content/uploads/2022/08/cc-volleyball.jpg
END:VEVENT
BEGIN:VEVENT
DTSTART;TZID=America/Indiana/Indianapolis:20220906T180000
DTEND;TZID=America/Indiana/Indianapolis:20220906T180000
DTSTAMP:20260424T080613
CREATED:20220905T153504Z
LAST-MODIFIED:20220905T153504Z
UID:3809-1662487200-1662487200@www.clintoncountytoday.com
SUMMARY:Elementary Volleyball: Clinton Prairie @ Western Boone
DESCRIPTION:
URL:https://www.clintoncountytoday.com/event/elementary-volleyball-clinton-prairie-western-boone/
LOCATION:Western Boone High School\, 1205 IN-75\, Thorntown\, 46071\, United States
CATEGORIES:Clinton Prairie Sports,Elementary Volleyball,Local Sports
ATTACH;FMTTYPE=image/jpeg:https://www.clintoncountytoday.com/wp-content/uploads/2022/08/cp-volleyball.jpg
END:VEVENT
BEGIN:VEVENT
DTSTART;TZID=America/Indiana/Indianapolis:20220906T180000
DTEND;TZID=America/Indiana/Indianapolis:20220906T180000
DTSTAMP:20260424T080613
CREATED:20220905T144328Z
LAST-MODIFIED:20220905T144328Z
UID:3761-1662487200-1662487200@www.clintoncountytoday.com
SUMMARY:High School Volleyball: Rossville @ Tri-Central
DESCRIPTION:
URL:https://www.clintoncountytoday.com/event/high-school-volleyball-rossville-tri-central/
LOCATION:Tri-Central Middle/High School\, 2115 W 500 N\, Sharpsville\, IN\, 46068\, United States
CATEGORIES:High School Volleyball,Local Sports,Rossville Sports
ATTACH;FMTTYPE=image/jpeg:https://www.clintoncountytoday.com/wp-content/uploads/2022/08/rossville-volleyball.jpg
END:VEVENT
BEGIN:VEVENT
DTSTART;TZID=America/Indiana/Indianapolis:20220906T180000
DTEND;TZID=America/Indiana/Indianapolis:20220906T180000
DTSTAMP:20260424T080613
CREATED:20220905T144205Z
LAST-MODIFIED:20220905T144205Z
UID:3759-1662487200-1662487200@www.clintoncountytoday.com
SUMMARY:Middle School Volleyball: Rossville Hosts Faith Christian
DESCRIPTION:
URL:https://www.clintoncountytoday.com/event/middle-school-volleyball-rossville-hosts-faith-christian/
LOCATION:Rossville Schools\, 1 Robert Egly Dr\, Rossville\, IN\, 46065\, United States
CATEGORIES:Local Sports,Middle School Volleyball,Rossville Sports
ATTACH;FMTTYPE=image/jpeg:https://www.clintoncountytoday.com/wp-content/uploads/2022/08/rossville-volleyball.jpg
END:VEVENT
BEGIN:VEVENT
DTSTART;TZID=America/Indiana/Indianapolis:20220906T180000
DTEND;TZID=America/Indiana/Indianapolis:20220906T180000
DTSTAMP:20260424T080613
CREATED:20220905T132554Z
LAST-MODIFIED:20220905T132554Z
UID:3711-1662487200-1662487200@www.clintoncountytoday.com
SUMMARY:Middle Scholl Volleyball (7th & 8th): Frankfort Hosts Southmont
DESCRIPTION:
URL:https://www.clintoncountytoday.com/event/middle-scholl-volleyball-7th-8th-frankfort-hosts-southmont/
LOCATION:Frankfort Middle School\, 329 N Maish Rd\, Frankfort\, IN\, 46041\, United States
CATEGORIES:Frankfort Sports,Local Sports,Middle School Volleyball
ATTACH;FMTTYPE=image/jpeg:https://www.clintoncountytoday.com/wp-content/uploads/2022/08/frankfort-volleyball.jpg
END:VEVENT
BEGIN:VEVENT
DTSTART;TZID=America/Indiana/Indianapolis:20220906T180000
DTEND;TZID=America/Indiana/Indianapolis:20220906T180000
DTSTAMP:20260424T080613
CREATED:20220905T132302Z
LAST-MODIFIED:20220905T132408Z
UID:3709-1662487200-1662487200@www.clintoncountytoday.com
SUMMARY:High School Girls Soccer (V & JV): Frankfort Hosts Southmont
DESCRIPTION:
URL:https://www.clintoncountytoday.com/event/high-school-girls-soccer-frankfort-hosts-southmont/
LOCATION:Frankfort Sr. High School\, 1 Maish Rd\, Frankfort\, IN\, 46041
CATEGORIES:Frankfort Sports,High School Girls Soccer,High School JV Soccer,Local Sports
ATTACH;FMTTYPE=image/jpeg:https://www.clintoncountytoday.com/wp-content/uploads/2022/08/frankfort-soccer.jpg
END:VEVENT
BEGIN:VEVENT
DTSTART;TZID=America/Indiana/Indianapolis:20220906T174500
DTEND;TZID=America/Indiana/Indianapolis:20220906T174500
DTSTAMP:20260424T080613
CREATED:20220905T151849Z
LAST-MODIFIED:20220905T151849Z
UID:3791-1662486300-1662486300@www.clintoncountytoday.com
SUMMARY:Middle School Co-ed Cross Country: Clinton Central @ Broncho Invitational
DESCRIPTION:
URL:https://www.clintoncountytoday.com/event/middle-school-co-ed-cross-country-clinton-central-broncho-invitational/
LOCATION:Tippecanoe Amphitheater\, 4449 IN-43\, West Lafayette\, IN\, 47906\, United States
CATEGORIES:Clinton Central Sports,Local Sports,Middle School Cross Country
ATTACH;FMTTYPE=image/jpeg:https://www.clintoncountytoday.com/wp-content/uploads/2022/08/cc-run.jpg
END:VEVENT
BEGIN:VEVENT
DTSTART;TZID=America/Indiana/Indianapolis:20220906T173000
DTEND;TZID=America/Indiana/Indianapolis:20220906T173000
DTSTAMP:20260424T080613
CREATED:20220905T153315Z
LAST-MODIFIED:20220905T153315Z
UID:3806-1662485400-1662485400@www.clintoncountytoday.com
SUMMARY:Elementary Volleyball: Clinton Prairie @ Granville Wells
DESCRIPTION:
URL:https://www.clintoncountytoday.com/event/elementary-volleyball-clinton-prairie-granville-wells/
LOCATION:Granville Wells Elementary\, 5046 IN-75\, Jamestown\, IN\, 46147\, United States
CATEGORIES:Clinton Prairie Sports,Elementary Volleyball
ATTACH;FMTTYPE=image/jpeg:https://www.clintoncountytoday.com/wp-content/uploads/2022/08/cp-volleyball.jpg
END:VEVENT
BEGIN:VEVENT
DTSTART;TZID=America/Indiana/Indianapolis:20220906T173000
DTEND;TZID=America/Indiana/Indianapolis:20220906T173000
DTSTAMP:20260424T080613
CREATED:20220905T151409Z
LAST-MODIFIED:20220905T151409Z
UID:3789-1662485400-1662485400@www.clintoncountytoday.com
SUMMARY:Middle School Football: Clinton Prairie Hosts Clinton Central
DESCRIPTION:
URL:https://www.clintoncountytoday.com/event/middle-school-football-clinton-prairie-hosts-clinton-central/
LOCATION:Clinton Prairie Schools\, 2400 S CR 450 W\, Frankfort\, IN\, 46041\, United States
CATEGORIES:Clinton Central Sports,Clinton Prairie Sports,Local Sports,Middle School Football
ATTACH;FMTTYPE=image/jpeg:https://www.clintoncountytoday.com/wp-content/uploads/2022/08/cp-football.jpg
END:VEVENT
BEGIN:VEVENT
DTSTART;TZID=America/Indiana/Indianapolis:20220906T173000
DTEND;TZID=America/Indiana/Indianapolis:20220906T173000
DTSTAMP:20260424T080613
CREATED:20220905T144029Z
LAST-MODIFIED:20220905T144029Z
UID:3757-1662485400-1662485400@www.clintoncountytoday.com
SUMMARY:Middle School Co-ed Cross Country: Rossville Hornet Invitational
DESCRIPTION:
URL:https://www.clintoncountytoday.com/event/middle-school-co-ed-cross-country-rossville-hornet-invitational/
LOCATION:Rossville Schools\, 1 Robert Egly Dr\, Rossville\, IN\, 46065\, United States
CATEGORIES:Local Sports,Middle School Cross Country,Rossville Sports
ATTACH;FMTTYPE=image/jpeg:https://www.clintoncountytoday.com/wp-content/uploads/2022/08/rossville-run.jpg
END:VEVENT
BEGIN:VEVENT
DTSTART;TZID=America/Indiana/Indianapolis:20220906T173000
DTEND;TZID=America/Indiana/Indianapolis:20220906T173000
DTSTAMP:20260424T080613
CREATED:20220905T132118Z
LAST-MODIFIED:20220905T132118Z
UID:3707-1662485400-1662485400@www.clintoncountytoday.com
SUMMARY:Middle School Soccer Boys & Girls: Frankfort @ North Montgomery
DESCRIPTION:
URL:https://www.clintoncountytoday.com/event/middle-school-soccer-boys-girls-frankfort-north-montgomery/
LOCATION:North Montgomery High School\, 5945 US-231\, Crawfordsville\, IN\, 47933\, United States
CATEGORIES:Frankfort Sports,Local Sports,Middle School Boys Soccer,Middle School Girls Soccer
ATTACH;FMTTYPE=image/jpeg:https://www.clintoncountytoday.com/wp-content/uploads/2022/08/frankfort-soccer.jpg
END:VEVENT
BEGIN:VEVENT
DTSTART;TZID=America/Indiana/Indianapolis:20220906T173000
DTEND;TZID=America/Indiana/Indianapolis:20220906T173000
DTSTAMP:20260424T080613
CREATED:20220905T131931Z
LAST-MODIFIED:20220905T131931Z
UID:3705-1662485400-1662485400@www.clintoncountytoday.com
SUMMARY:High School Boys Tennis: Frankfort Hosts Southmont
DESCRIPTION:
URL:https://www.clintoncountytoday.com/event/high-school-boys-tennis-frankfort-hosts-southmont/
LOCATION:Frankfort Sr. High School\, 1 Maish Rd\, Frankfort\, IN\, 46041
CATEGORIES:Frankfort Sports,High School Boys Tennis,Local Sports
ATTACH;FMTTYPE=image/jpeg:https://www.clintoncountytoday.com/wp-content/uploads/2022/08/frankfort-tennis.jpg
END:VEVENT
BEGIN:VEVENT
DTSTART;TZID=America/Indiana/Indianapolis:20220906T170000
DTEND;TZID=America/Indiana/Indianapolis:20220906T170000
DTSTAMP:20260424T080613
CREATED:20220905T153006Z
LAST-MODIFIED:20220905T153006Z
UID:3804-1662483600-1662483600@www.clintoncountytoday.com
SUMMARY:High School Co-ed Cross Country: Clinton Prairie Hosts Eastern
DESCRIPTION:
URL:https://www.clintoncountytoday.com/event/high-school-co-ed-cross-country-clinton-prairie-hosts-eastern/
LOCATION:Clinton Prairie Schools\, 2400 S CR 450 W\, Frankfort\, IN\, 46041\, United States
CATEGORIES:Clinton Prairie Sports,High School Cross Country,Local Sports
ATTACH;FMTTYPE=image/jpeg:https://www.clintoncountytoday.com/wp-content/uploads/2022/08/cp-run.jpg
END:VEVENT
BEGIN:VEVENT
DTSTART;TZID=America/Indiana/Indianapolis:20220906T170000
DTEND;TZID=America/Indiana/Indianapolis:20220906T170000
DTSTAMP:20260424T080613
CREATED:20220905T143711Z
LAST-MODIFIED:20220905T143711Z
UID:3755-1662483600-1662483600@www.clintoncountytoday.com
SUMMARY:High School Boys Soccer: Rossville Hosts Tri-Central
DESCRIPTION:
URL:https://www.clintoncountytoday.com/event/high-school-boys-soccer-rossville-hosts-tri-central/
LOCATION:Rossville Schools\, 1 Robert Egly Dr\, Rossville\, IN\, 46065\, United States
CATEGORIES:High School Boys Soccer,Local Sports,Rossville Sports
ATTACH;FMTTYPE=image/jpeg:https://www.clintoncountytoday.com/wp-content/uploads/2022/08/rossville-soccer.jpg
END:VEVENT
BEGIN:VEVENT
DTSTART;TZID=America/Indiana/Indianapolis:20220906T170000
DTEND;TZID=America/Indiana/Indianapolis:20220906T170000
DTSTAMP:20260424T080613
CREATED:20220905T131726Z
LAST-MODIFIED:20220905T131726Z
UID:3702-1662483600-1662483600@www.clintoncountytoday.com
SUMMARY:Middle School Cross Country: Frankfort @ Tecumseh
DESCRIPTION:
URL:https://www.clintoncountytoday.com/event/middle-school-cross-country-frankfort-tecumseh/
LOCATION:Tecumseh\, 2101 S 18TH St\, Lafayette\, IN\, 47905\, United States
CATEGORIES:Frankfort Sports,Middle School Cross Country
ATTACH;FMTTYPE=image/jpeg:https://www.clintoncountytoday.com/wp-content/uploads/2022/08/frankfort-run.jpg
END:VEVENT
BEGIN:VEVENT
DTSTART;TZID=America/Indiana/Indianapolis:20220906T164500
DTEND;TZID=America/Indiana/Indianapolis:20220906T164500
DTSTAMP:20260424T080613
CREATED:20220905T152843Z
LAST-MODIFIED:20220905T152843Z
UID:3802-1662482700-1662482700@www.clintoncountytoday.com
SUMMARY:High School Girls Golf: Clinton Prairie @ Attica
DESCRIPTION:
URL:https://www.clintoncountytoday.com/event/high-school-girls-golf-clinton-prairie-attica/
LOCATION:Attica High School\, 211 E Sycamore St\, Attica\, IN\, 47918\, United States
CATEGORIES:Clinton Prairie Sports,High School Girls Golf,Local Sports
ATTACH;FMTTYPE=image/jpeg:https://www.clintoncountytoday.com/wp-content/uploads/2022/08/cp-golf.jpg
END:VEVENT
BEGIN:VEVENT
DTSTART;TZID=America/Indiana/Indianapolis:20220906T163000
DTEND;TZID=America/Indiana/Indianapolis:20220906T163000
DTSTAMP:20260424T080613
CREATED:20220905T143543Z
LAST-MODIFIED:20220905T143543Z
UID:3753-1662481800-1662481800@www.clintoncountytoday.com
SUMMARY:High School Boys Tennis: Rossville @ Carrol
DESCRIPTION:
URL:https://www.clintoncountytoday.com/event/high-school-boys-tennis-rossville-carrol/
LOCATION:Carroll High School\, 2362 IN-18\, Flora\, IN\, 46929\, United States
CATEGORIES:High School Boys Tennis,Local Sports,Rossville Sports
ATTACH;FMTTYPE=image/jpeg:https://www.clintoncountytoday.com/wp-content/uploads/2022/08/rossville-tennis.jpg
END:VEVENT
BEGIN:VEVENT
DTSTART;TZID=America/Indiana/Indianapolis:20220903T100000
DTEND;TZID=America/Indiana/Indianapolis:20220903T100000
DTSTAMP:20260424T080613
CREATED:20220819T201943Z
LAST-MODIFIED:20220819T201943Z
UID:3648-1662199200-1662199200@www.clintoncountytoday.com
SUMMARY:High School JV Football: Frankfort Hosts Tri-West
DESCRIPTION:
URL:https://www.clintoncountytoday.com/event/high-school-jv-football-frankfort-hosts-tri-west/
LOCATION:Frankfort Sr. High School\, 1 Maish Rd\, Frankfort\, IN\, 46041
CATEGORIES:Frankfort Sports,JV Football,Local Sports
ATTACH;FMTTYPE=image/jpeg:https://www.clintoncountytoday.com/wp-content/uploads/2022/08/frankfort-football.jpg
END:VEVENT
BEGIN:VEVENT
DTSTART;TZID=America/Indiana/Indianapolis:20220903T100000
DTEND;TZID=America/Indiana/Indianapolis:20220903T100000
DTSTAMP:20260424T080613
CREATED:20220819T132355Z
LAST-MODIFIED:20220819T132355Z
UID:3410-1662199200-1662199200@www.clintoncountytoday.com
SUMMARY:High School Cross Country: Clinton Prairie @ Marion Invite
DESCRIPTION:
URL:https://www.clintoncountytoday.com/event/high-school-cross-country-clinton-prairie-marion-invite/
LOCATION:Indiana Wesleyan University\, 4201 S Washington St\, Marion\, IN\, 46953\, United States
CATEGORIES:Clinton Prairie Sports,High School Cross Country,Local Sports
ATTACH;FMTTYPE=image/jpeg:https://www.clintoncountytoday.com/wp-content/uploads/2022/08/cp-run.jpg
END:VEVENT
BEGIN:VEVENT
DTSTART;TZID=America/Indiana/Indianapolis:20220903T090000
DTEND;TZID=America/Indiana/Indianapolis:20220903T090000
DTSTAMP:20260424T080613
CREATED:20220819T201735Z
LAST-MODIFIED:20220819T201735Z
UID:3646-1662195600-1662195600@www.clintoncountytoday.com
SUMMARY:High School Cross Country: Frankfort @ Harrison
DESCRIPTION:
URL:https://www.clintoncountytoday.com/event/high-school-cross-country-frankfort-harrison-2/
LOCATION:Harrison High School\, 5701 N 50 W\, West Lafayette\, IN\, 47906\, United States
CATEGORIES:Frankfort Sports,High School Cross Country,Local Sports
ATTACH;FMTTYPE=image/jpeg:https://www.clintoncountytoday.com/wp-content/uploads/2022/08/frankfort-run.jpg
END:VEVENT
BEGIN:VEVENT
DTSTART;TZID=America/Indiana/Indianapolis:20220903T090000
DTEND;TZID=America/Indiana/Indianapolis:20220903T090000
DTSTAMP:20260424T080613
CREATED:20220819T184350Z
LAST-MODIFIED:20220819T184530Z
UID:3567-1662195600-1662195600@www.clintoncountytoday.com
SUMMARY:High School Girls Golf: Rossville @ Lady Broncho Invitational
DESCRIPTION:
URL:https://www.clintoncountytoday.com/event/high-school-girls-golf-rossville-lady-broncho-invitational/
LOCATION:Lafayette Jeffereson High School\, 1801 S 18th St\, Lafayette\, IN\, 47905\, United States
CATEGORIES:High School Girls Golf,Local Sports
ATTACH;FMTTYPE=image/jpeg:https://www.clintoncountytoday.com/wp-content/uploads/2022/08/rossville-golf.jpg
END:VEVENT
BEGIN:VEVENT
DTSTART;TZID=America/Indiana/Indianapolis:20220903T090000
DTEND;TZID=America/Indiana/Indianapolis:20220903T090000
DTSTAMP:20260424T080613
CREATED:20220819T184109Z
LAST-MODIFIED:20220819T184109Z
UID:3563-1662195600-1662195600@www.clintoncountytoday.com
SUMMARY:Middle School Cross Country: Rossville @ Harrison
DESCRIPTION:
URL:https://www.clintoncountytoday.com/event/middle-school-cross-country-rossville-harrison/
LOCATION:Harrison High School\, 5701 N 50 W\, West Lafayette\, IN\, 47906\, United States
CATEGORIES:Local Sports,Middle School Cross Country,Rossville Sports
ATTACH;FMTTYPE=image/jpeg:https://www.clintoncountytoday.com/wp-content/uploads/2022/08/rossville-run.jpg
END:VEVENT
BEGIN:VEVENT
DTSTART;TZID=America/Indiana/Indianapolis:20220903T090000
DTEND;TZID=America/Indiana/Indianapolis:20220903T090000
DTSTAMP:20260424T080613
CREATED:20220819T124908Z
LAST-MODIFIED:20220819T124908Z
UID:3408-1662195600-1662195600@www.clintoncountytoday.com
SUMMARY:High School Volleyball: Clinton Prairie Hosts JV/Varsity Invite
DESCRIPTION:
URL:https://www.clintoncountytoday.com/event/high-school-volleyball-clinton-prairie-hosts-jv-varsity-invite/
LOCATION:Clinton Prairie Schools\, 2400 S CR 450 W\, Frankfort\, IN\, 46041\, United States
CATEGORIES:Clinton Prairie Sports,High School Volleyball,Local Sports
ATTACH;FMTTYPE=image/jpeg:https://www.clintoncountytoday.com/wp-content/uploads/2022/08/cp-volleyball.jpg
END:VEVENT
BEGIN:VEVENT
DTSTART;TZID=America/Indiana/Indianapolis:20220902T190000
DTEND;TZID=America/Indiana/Indianapolis:20220902T190000
DTSTAMP:20260424T080613
CREATED:20220819T201438Z
LAST-MODIFIED:20220819T201438Z
UID:3643-1662145200-1662145200@www.clintoncountytoday.com
SUMMARY:High School Varsity Football: Frankfort @ Tri-West
DESCRIPTION:
URL:https://www.clintoncountytoday.com/event/high-school-varsity-football-frankfort-tri-west/
LOCATION:Tri-West High School\, 7883 IN-39\, Lizton\, IN\, 46149\, United States
CATEGORIES:Frankfort Sports,Local Sports,Varsity Football
ATTACH;FMTTYPE=image/jpeg:https://www.clintoncountytoday.com/wp-content/uploads/2022/08/frankfort-football.jpg
END:VEVENT
BEGIN:VEVENT
DTSTART;TZID=America/Indiana/Indianapolis:20220902T190000
DTEND;TZID=America/Indiana/Indianapolis:20220902T190000
DTSTAMP:20260424T080613
CREATED:20220819T124709Z
LAST-MODIFIED:20220819T140108Z
UID:3406-1662145200-1662145200@www.clintoncountytoday.com
SUMMARY:High School Varsity Football: Clinton Prairie Hosts Clinton Central
DESCRIPTION:
URL:https://www.clintoncountytoday.com/event/high-school-varsity-football-clinton-prairie-hosts-clinton-central/
LOCATION:Clinton Prairie Schools\, 2400 S CR 450 W\, Frankfort\, IN\, 46041\, United States
CATEGORIES:Clinton Central Sports,Clinton Prairie Sports,Local Sports,Varsity Football
ATTACH;FMTTYPE=image/jpeg:https://www.clintoncountytoday.com/wp-content/uploads/2022/08/cp-football.jpg
END:VEVENT
BEGIN:VEVENT
DTSTART;TZID=America/Indiana/Indianapolis:20220901T190000
DTEND;TZID=America/Indiana/Indianapolis:20220901T190000
DTSTAMP:20260424T080613
CREATED:20220819T201056Z
LAST-MODIFIED:20220819T201056Z
UID:3641-1662058800-1662058800@www.clintoncountytoday.com
SUMMARY:High School JV Girls Soccer: Frankfort Hosts Northwestern
DESCRIPTION:
URL:https://www.clintoncountytoday.com/event/high-school-jv-girls-soccer-frankfort-hosts-northwestern/
LOCATION:Frankfort Sr. High School\, 1 Maish Rd\, Frankfort\, IN\, 46041
CATEGORIES:Frankfort Sports,High School JV Soccer,Local Sports
ATTACH;FMTTYPE=image/jpeg:https://www.clintoncountytoday.com/wp-content/uploads/2022/08/frankfort-soccer.jpg
END:VEVENT
BEGIN:VEVENT
DTSTART;TZID=America/Indiana/Indianapolis:20220901T180000
DTEND;TZID=America/Indiana/Indianapolis:20220901T180000
DTSTAMP:20260424T080613
CREATED:20220819T200757Z
LAST-MODIFIED:20220819T200757Z
UID:3639-1662055200-1662055200@www.clintoncountytoday.com
SUMMARY:6th Grade Volleyball: Frankfort Hosts North Montgomery
DESCRIPTION:
URL:https://www.clintoncountytoday.com/event/6th-grade-volleyball-frankfort-hosts-north-montgomery/
LOCATION:Frankfort Middle School\, 329 N Maish Rd\, Frankfort\, IN\, 46041\, United States
CATEGORIES:6th Grade Volleyball,Frankfort Sports,Local Sports
ATTACH;FMTTYPE=image/jpeg:https://www.clintoncountytoday.com/wp-content/uploads/2022/08/frankfort-volleyball.jpg
END:VEVENT
BEGIN:VEVENT
DTSTART;TZID=America/Indiana/Indianapolis:20220901T180000
DTEND;TZID=America/Indiana/Indianapolis:20220901T180000
DTSTAMP:20260424T080613
CREATED:20220819T200559Z
LAST-MODIFIED:20220819T200559Z
UID:3637-1662055200-1662055200@www.clintoncountytoday.com
SUMMARY:High School Volleyball: Frankfort Hosts West Lafayette
DESCRIPTION:
URL:https://www.clintoncountytoday.com/event/high-school-volleyball-frankfort-hosts-west-lafayette/
LOCATION:Frankfort Sr. High School\, 1 Maish Rd\, Frankfort\, IN\, 46041
CATEGORIES:Frankfort Sports,High School Volleyball,Local Sports
ATTACH;FMTTYPE=image/jpeg:https://www.clintoncountytoday.com/wp-content/uploads/2022/08/frankfort-volleyball.jpg
END:VEVENT
END:VCALENDAR