BEGIN:VCALENDAR
VERSION:2.0
PRODID:-//Clinton County Today - ECPv6.15.20//NONSGML v1.0//EN
CALSCALE:GREGORIAN
METHOD:PUBLISH
X-ORIGINAL-URL:https://www.clintoncountytoday.com
X-WR-CALDESC:Events for Clinton County Today
REFRESH-INTERVAL;VALUE=DURATION:PT1H
X-Robots-Tag:noindex
X-PUBLISHED-TTL:PT1H
BEGIN:VTIMEZONE
TZID:America/Indiana/Indianapolis
BEGIN:DAYLIGHT
TZOFFSETFROM:-0500
TZOFFSETTO:-0400
TZNAME:EDT
DTSTART:20210314T070000
END:DAYLIGHT
BEGIN:STANDARD
TZOFFSETFROM:-0400
TZOFFSETTO:-0500
TZNAME:EST
DTSTART:20211107T060000
END:STANDARD
BEGIN:DAYLIGHT
TZOFFSETFROM:-0500
TZOFFSETTO:-0400
TZNAME:EDT
DTSTART:20220313T070000
END:DAYLIGHT
BEGIN:STANDARD
TZOFFSETFROM:-0400
TZOFFSETTO:-0500
TZNAME:EST
DTSTART:20221106T060000
END:STANDARD
BEGIN:DAYLIGHT
TZOFFSETFROM:-0500
TZOFFSETTO:-0400
TZNAME:EDT
DTSTART:20230312T070000
END:DAYLIGHT
BEGIN:STANDARD
TZOFFSETFROM:-0400
TZOFFSETTO:-0500
TZNAME:EST
DTSTART:20231105T060000
END:STANDARD
END:VTIMEZONE
BEGIN:VEVENT
DTSTART;TZID=America/Indiana/Indianapolis:20220908T180000
DTEND;TZID=America/Indiana/Indianapolis:20220908T180000
DTSTAMP:20260424T062754
CREATED:20220905T145053Z
LAST-MODIFIED:20220905T145053Z
UID:3769-1662660000-1662660000@www.clintoncountytoday.com
SUMMARY:High School Girls Soccer: Rossville Hosts Rensselaer Central
DESCRIPTION:
URL:https://www.clintoncountytoday.com/event/high-school-girls-soccer-rossville-hosts-rensselaer-central/
LOCATION:Rossville Schools\, 1 Robert Egly Dr\, Rossville\, IN\, 46065\, United States
CATEGORIES:High School Girls Soccer,Local Sports,Rossville Sports
ATTACH;FMTTYPE=image/jpeg:https://www.clintoncountytoday.com/wp-content/uploads/2022/08/rossville-soccer.jpg
END:VEVENT
BEGIN:VEVENT
DTSTART;TZID=America/Indiana/Indianapolis:20220908T180000
DTEND;TZID=America/Indiana/Indianapolis:20220908T180000
DTSTAMP:20260424T062754
CREATED:20220905T134750Z
LAST-MODIFIED:20220905T134750Z
UID:3736-1662660000-1662660000@www.clintoncountytoday.com
SUMMARY:6th Grade Volleyball: Rossville Hosts Frankfort
DESCRIPTION:
URL:https://www.clintoncountytoday.com/event/6th-grade-volleyball-rossville-hosts-frankfort/
LOCATION:Rossville Schools\, 1 Robert Egly Dr\, Rossville\, IN\, 46065\, United States
CATEGORIES:6th Grade Volleyball,Frankfort Sports,Local Sports,Rossville Sports
ATTACH;FMTTYPE=image/jpeg:https://www.clintoncountytoday.com/wp-content/uploads/2022/08/rossville-volleyball.jpg
END:VEVENT
BEGIN:VEVENT
DTSTART;TZID=America/Indiana/Indianapolis:20220908T180000
DTEND;TZID=America/Indiana/Indianapolis:20220908T180000
DTSTAMP:20260424T062754
CREATED:20220905T134632Z
LAST-MODIFIED:20220905T134632Z
UID:3734-1662660000-1662660000@www.clintoncountytoday.com
SUMMARY:High School Volleyball: Frankfort Hosts Lebanon
DESCRIPTION:
URL:https://www.clintoncountytoday.com/event/high-school-volleyball-frankfort-hosts-lebanon/
LOCATION:Frankfort Sr. High School\, 1 Maish Rd\, Frankfort\, IN\, 46041
CATEGORIES:Frankfort Sports,High School Volleyball,Local Sports
ATTACH;FMTTYPE=image/jpeg:https://www.clintoncountytoday.com/wp-content/uploads/2022/08/frankfort-volleyball.jpg
END:VEVENT
BEGIN:VEVENT
DTSTART;TZID=America/Indiana/Indianapolis:20220908T173000
DTEND;TZID=America/Indiana/Indianapolis:20220908T173000
DTSTAMP:20260424T062754
CREATED:20220905T154333Z
LAST-MODIFIED:20220905T154333Z
UID:3819-1662658200-1662658200@www.clintoncountytoday.com
SUMMARY:Middle School Co-ed Cross Country: Clinton Prairie Hosts Southwestern/Attica
DESCRIPTION:
URL:https://www.clintoncountytoday.com/event/middle-school-co-ed-cross-country-clinton-prairie-hosts-southwestern-attica/
LOCATION:Clinton Prairie Schools\, 2400 S CR 450 W\, Frankfort\, IN\, 46041\, United States
CATEGORIES:Clinton Prairie Sports,Local Sports,Middle School Cross Country
ATTACH;FMTTYPE=image/jpeg:https://www.clintoncountytoday.com/wp-content/uploads/2022/08/cp-run.jpg
END:VEVENT
BEGIN:VEVENT
DTSTART;TZID=America/Indiana/Indianapolis:20220908T173000
DTEND;TZID=America/Indiana/Indianapolis:20220908T173000
DTSTAMP:20260424T062754
CREATED:20220905T134434Z
LAST-MODIFIED:20220905T134434Z
UID:3732-1662658200-1662658200@www.clintoncountytoday.com
SUMMARY:Middle School Volleyball: Frankfort Hosts North Montgomery
DESCRIPTION:
URL:https://www.clintoncountytoday.com/event/middle-school-volleyball-frankfort-hosts-north-montgomery/
LOCATION:Frankfort Middle School\, 329 N Maish Rd\, Frankfort\, IN\, 46041\, United States
CATEGORIES:Frankfort Sports,Local Sports,Middle School Volleyball
ATTACH;FMTTYPE=image/jpeg:https://www.clintoncountytoday.com/wp-content/uploads/2022/08/frankfort-volleyball.jpg
END:VEVENT
BEGIN:VEVENT
DTSTART;TZID=America/Indiana/Indianapolis:20220908T173000
DTEND;TZID=America/Indiana/Indianapolis:20220908T173000
DTSTAMP:20260424T062754
CREATED:20220905T134227Z
LAST-MODIFIED:20220905T134227Z
UID:3730-1662658200-1662658200@www.clintoncountytoday.com
SUMMARY:High School Boys Soccer: Frankfort Hosts Crawfordsville
DESCRIPTION:
URL:https://www.clintoncountytoday.com/event/high-school-boys-soccer-frankfort-hosts-crawfordsville/
LOCATION:Frankfort Sr. High School\, 1 Maish Rd\, Frankfort\, IN\, 46041
CATEGORIES:Frankfort Sports,High School Boys Soccer,Local Sports
ATTACH;FMTTYPE=image/jpeg:https://www.clintoncountytoday.com/wp-content/uploads/2022/08/frankfort-soccer.jpg
END:VEVENT
BEGIN:VEVENT
DTSTART;TZID=America/Indiana/Indianapolis:20220908T170000
DTEND;TZID=America/Indiana/Indianapolis:20220908T170000
DTSTAMP:20260424T062754
CREATED:20220905T134006Z
LAST-MODIFIED:20220905T134006Z
UID:3727-1662656400-1662656400@www.clintoncountytoday.com
SUMMARY:Middle School Boys Tennis: Frankfort @ Zionsville
DESCRIPTION:
URL:https://www.clintoncountytoday.com/event/middle-school-boys-tennis-frankfort-zionsville/
LOCATION:Zionsville High School\, 900 N Ford Rd\, Zionsville\, IN\, 46077\, United States
CATEGORIES:Frankfort Sports,Local Sports,Middle School Boys Tennis
ATTACH;FMTTYPE=image/jpeg:https://www.clintoncountytoday.com/wp-content/uploads/2022/08/frankfort-tennis.jpg
END:VEVENT
BEGIN:VEVENT
DTSTART;TZID=America/Indiana/Indianapolis:20220908T163000
DTEND;TZID=America/Indiana/Indianapolis:20220908T163000
DTSTAMP:20260424T062754
CREATED:20220905T133712Z
LAST-MODIFIED:20220905T133712Z
UID:3725-1662654600-1662654600@www.clintoncountytoday.com
SUMMARY:High School Boys Tennis: Frankfort Hosts Lebanon
DESCRIPTION:
URL:https://www.clintoncountytoday.com/event/high-school-boys-tennis-frankfort-hosts-lebanon/
LOCATION:Frankfort Sr. High School\, 1 Maish Rd\, Frankfort\, IN\, 46041
CATEGORIES:Frankfort Sports,High School Boys Tennis,Local Sports
ATTACH;FMTTYPE=image/jpeg:https://www.clintoncountytoday.com/wp-content/uploads/2022/08/frankfort-tennis.jpg
END:VEVENT
BEGIN:VEVENT
DTSTART;TZID=America/Indiana/Indianapolis:20220907T180000
DTEND;TZID=America/Indiana/Indianapolis:20220907T180000
DTSTAMP:20260424T062754
CREATED:20220905T154201Z
LAST-MODIFIED:20220905T154201Z
UID:3817-1662573600-1662573600@www.clintoncountytoday.com
SUMMARY:Middle School Volleyball: Clinton Prairie Hosts Southwestern
DESCRIPTION:
URL:https://www.clintoncountytoday.com/event/middle-school-volleyball-clinton-prairie-hosts-southwestern/
LOCATION:Clinton Prairie Schools\, 2400 S CR 450 W\, Frankfort\, IN\, 46041\, United States
CATEGORIES:Clinton Prairie Sports,Local Sports,Middle School Volleyball
ATTACH;FMTTYPE=image/jpeg:https://www.clintoncountytoday.com/wp-content/uploads/2022/08/cp-volleyball.jpg
END:VEVENT
BEGIN:VEVENT
DTSTART;TZID=America/Indiana/Indianapolis:20220907T180000
DTEND;TZID=America/Indiana/Indianapolis:20220907T180000
DTSTAMP:20260424T062754
CREATED:20220905T154041Z
LAST-MODIFIED:20220905T154041Z
UID:3815-1662573600-1662573600@www.clintoncountytoday.com
SUMMARY:Youth Football: Clinton Prairie Hosts Lebanon
DESCRIPTION:
URL:https://www.clintoncountytoday.com/event/youth-football-clinton-prairie-hosts-lebanon/
LOCATION:Clinton Prairie Schools\, 2400 S CR 450 W\, Frankfort\, IN\, 46041\, United States
CATEGORIES:Clinton Prairie Sports,Local Sports,Youth Football
ATTACH;FMTTYPE=image/jpeg:https://www.clintoncountytoday.com/wp-content/uploads/2022/08/cp-football.jpg
END:VEVENT
BEGIN:VEVENT
DTSTART;TZID=America/Indiana/Indianapolis:20220907T180000
DTEND;TZID=America/Indiana/Indianapolis:20220907T180000
DTSTAMP:20260424T062754
CREATED:20220905T152324Z
LAST-MODIFIED:20220905T152324Z
UID:3798-1662573600-1662573600@www.clintoncountytoday.com
SUMMARY:Middle School Volleyball: Clinton Central Hosts Northwestern
DESCRIPTION:
URL:https://www.clintoncountytoday.com/event/middle-school-volleyball-clinton-central-hosts-northwestern/
LOCATION:Clinton Central Schools\, 815 IN-29\, Michigantown\, IN\, 46057\, United States
CATEGORIES:Clinton Central Sports,Local Sports,Middle School Volleyball
ATTACH;FMTTYPE=image/jpeg:https://www.clintoncountytoday.com/wp-content/uploads/2022/08/cc-volleyball.jpg
END:VEVENT
BEGIN:VEVENT
DTSTART;TZID=America/Indiana/Indianapolis:20220907T180000
DTEND;TZID=America/Indiana/Indianapolis:20220907T180000
DTSTAMP:20260424T062754
CREATED:20220905T133541Z
LAST-MODIFIED:20220905T133541Z
UID:3723-1662573600-1662573600@www.clintoncountytoday.com
SUMMARY:Middle School Football: Frankfort @ Southmont
DESCRIPTION:
URL:https://www.clintoncountytoday.com/event/middle-school-football-frankfort-southmont/
LOCATION:Southmont JH/SH\, 6425 US-231\, Crawfordsville\, IN\, 47933\, United States
CATEGORIES:Local Sports,Middle School Football
ATTACH;FMTTYPE=image/jpeg:https://www.clintoncountytoday.com/wp-content/uploads/2022/08/frankfort-football.jpg
END:VEVENT
BEGIN:VEVENT
DTSTART;TZID=America/Indiana/Indianapolis:20220907T180000
DTEND;TZID=America/Indiana/Indianapolis:20220907T180000
DTSTAMP:20260424T062754
CREATED:20220905T133350Z
LAST-MODIFIED:20220905T133350Z
UID:3720-1662573600-1662573600@www.clintoncountytoday.com
SUMMARY:Middle School Soccer (Boys & Girls): Frankfort @ Lebanon
DESCRIPTION:
URL:https://www.clintoncountytoday.com/event/middle-school-soccer-boys-girls-frankfort-lebanon/
LOCATION:Lebanon Middle School\, 1800 N Grant St\, Lebanon\, IN\, 46052\, United States
CATEGORIES:Frankfort Sports,Local Sports,Middle School Boys Soccer,Middle School Girls Soccer
ATTACH;FMTTYPE=image/jpeg:https://www.clintoncountytoday.com/wp-content/uploads/2022/08/frankfort-soccer.jpg
END:VEVENT
BEGIN:VEVENT
DTSTART;TZID=America/Indiana/Indianapolis:20220907T180000
DTEND;TZID=America/Indiana/Indianapolis:20220907T180000
DTSTAMP:20260424T062754
CREATED:20220905T133055Z
LAST-MODIFIED:20220905T133055Z
UID:3718-1662573600-1662573600@www.clintoncountytoday.com
SUMMARY:6th Grade Volleyball: Frankfort Hosts Western Boone
DESCRIPTION:
URL:https://www.clintoncountytoday.com/event/6th-grade-volleyball-frankfort-hosts-western-boone/
LOCATION:Frankfort Middle School\, 329 N Maish Rd\, Frankfort\, IN\, 46041\, United States
CATEGORIES:6th Grade Volleyball,Frankfort Sports,Local Sports
ATTACH;FMTTYPE=image/jpeg:https://www.clintoncountytoday.com/wp-content/uploads/2022/08/frankfort-volleyball.jpg
END:VEVENT
BEGIN:VEVENT
DTSTART;TZID=America/Indiana/Indianapolis:20220907T180000
DTEND;TZID=America/Indiana/Indianapolis:20220907T180000
DTSTAMP:20260424T062754
CREATED:20220905T132930Z
LAST-MODIFIED:20220905T132930Z
UID:3716-1662573600-1662573600@www.clintoncountytoday.com
SUMMARY:High School Volleyball (V & JV): Frankfort @ Tri-West
DESCRIPTION:
URL:https://www.clintoncountytoday.com/event/high-school-volleyball-v-jv-frankfort-tri-west/
LOCATION:Tri-West High School\, 7883 IN-39\, Lizton\, IN\, 46149\, United States
CATEGORIES:Frankfort Sports,High School Volleyball,Local Sports
ATTACH;FMTTYPE=image/jpeg:https://www.clintoncountytoday.com/wp-content/uploads/2022/08/frankfort-volleyball.jpg
END:VEVENT
BEGIN:VEVENT
DTSTART;TZID=America/Indiana/Indianapolis:20220907T174500
DTEND;TZID=America/Indiana/Indianapolis:20220907T174500
DTSTAMP:20260424T062754
CREATED:20220905T153923Z
LAST-MODIFIED:20220905T153923Z
UID:3813-1662572700-1662572700@www.clintoncountytoday.com
SUMMARY:7th Grade Volleyball: Clinton Prairie @ Southwestern
DESCRIPTION:
URL:https://www.clintoncountytoday.com/event/7th-grade-volleyball-clinton-prairie-southwestern/
LOCATION:Southwestern High School\, 3406 W 600 S\, Shelbyville\, IN\, 46176\, United States
CATEGORIES:7th Grade Volleyball,Clinton Prairie Sports,Local Sports
ATTACH;FMTTYPE=image/jpeg:https://www.clintoncountytoday.com/wp-content/uploads/2022/08/cp-volleyball.jpg
END:VEVENT
BEGIN:VEVENT
DTSTART;TZID=America/Indiana/Indianapolis:20220907T173000
DTEND;TZID=America/Indiana/Indianapolis:20220907T173000
DTSTAMP:20260424T062754
CREATED:20220905T144834Z
LAST-MODIFIED:20220905T144834Z
UID:3767-1662571800-1662571800@www.clintoncountytoday.com
SUMMARY:High School Boys Soccer: Rossville @ North Montgomery
DESCRIPTION:
URL:https://www.clintoncountytoday.com/event/high-school-boys-soccer-rossville-north-montgomery/
LOCATION:North Montgomery High School\, 5945 US-231\, Crawfordsville\, IN\, 47933\, United States
CATEGORIES:High School Boys Soccer,Local Sports,Rossville Sports
ATTACH;FMTTYPE=image/jpeg:https://www.clintoncountytoday.com/wp-content/uploads/2022/08/rossville-soccer.jpg
END:VEVENT
BEGIN:VEVENT
DTSTART;TZID=America/Indiana/Indianapolis:20220907T173000
DTEND;TZID=America/Indiana/Indianapolis:20220907T173000
DTSTAMP:20260424T062754
CREATED:20220905T132746Z
LAST-MODIFIED:20220905T132746Z
UID:3714-1662571800-1662571800@www.clintoncountytoday.com
SUMMARY:Middle School Boys Tennis: Frankfort Hosts North Montgomery
DESCRIPTION:
URL:https://www.clintoncountytoday.com/event/middle-school-boys-tennis-frankfort-hosts-north-montgomery/
LOCATION:Frankfort Sr. High School\, 1 Maish Rd\, Frankfort\, IN\, 46041
CATEGORIES:Frankfort Sports,Local Sports,Middle School Boys Tennis
ATTACH;FMTTYPE=image/jpeg:https://www.clintoncountytoday.com/wp-content/uploads/2022/08/frankfort-tennis.jpg
END:VEVENT
BEGIN:VEVENT
DTSTART;TZID=America/Indiana/Indianapolis:20220907T170000
DTEND;TZID=America/Indiana/Indianapolis:20220907T170000
DTSTAMP:20260424T062754
CREATED:20220905T144718Z
LAST-MODIFIED:20220905T144718Z
UID:3765-1662570000-1662570000@www.clintoncountytoday.com
SUMMARY:High School Boys Tennis: Rossville Hosts Taylor
DESCRIPTION:
URL:https://www.clintoncountytoday.com/event/high-school-boys-tennis-rossville-hosts-taylor/
LOCATION:Rossville Schools\, 1 Robert Egly Dr\, Rossville\, IN\, 46065\, United States
CATEGORIES:High School Boys Tennis,Local Sports,Rossville Sports
ATTACH;FMTTYPE=image/jpeg:https://www.clintoncountytoday.com/wp-content/uploads/2022/08/rossville-tennis.jpg
END:VEVENT
BEGIN:VEVENT
DTSTART;TZID=America/Indiana/Indianapolis:20220907T163000
DTEND;TZID=America/Indiana/Indianapolis:20220907T163000
DTSTAMP:20260424T062754
CREATED:20220905T153635Z
LAST-MODIFIED:20220905T153635Z
UID:3811-1662568200-1662568200@www.clintoncountytoday.com
SUMMARY:High School Girls Golf: Clinton Prairie @ Eastern
DESCRIPTION:
URL:https://www.clintoncountytoday.com/event/high-school-girls-golf-clinton-prairie-eastern/
LOCATION:Eastern High School\, 421 S Harrison St\, \, IN\, Greentown\, IN\, 46936\, United States
CATEGORIES:Clinton Prairie Sports,High School Girls Golf,Local Sports
ATTACH;FMTTYPE=image/jpeg:https://www.clintoncountytoday.com/wp-content/uploads/2022/08/cp-golf.jpg
END:VEVENT
BEGIN:VEVENT
DTSTART;TZID=America/Indiana/Indianapolis:20220907T163000
DTEND;TZID=America/Indiana/Indianapolis:20220907T163000
DTSTAMP:20260424T062754
CREATED:20220905T152133Z
LAST-MODIFIED:20220905T152133Z
UID:3796-1662568200-1662568200@www.clintoncountytoday.com
SUMMARY:High School Girls Golf: Clinton Central Hosts Delphi
DESCRIPTION:
URL:https://www.clintoncountytoday.com/event/high-school-girls-golf-clinton-central-hosts-delphi/
LOCATION:Clinton Central Schools\, 815 IN-29\, Michigantown\, IN\, 46057\, United States
CATEGORIES:Clinton Central Sports,High School Girls Golf,Local Sports
ATTACH;FMTTYPE=image/jpeg:https://www.clintoncountytoday.com/wp-content/uploads/2022/08/cc-golf.jpg
END:VEVENT
BEGIN:VEVENT
DTSTART;TZID=America/Indiana/Indianapolis:20220907T163000
DTEND;TZID=America/Indiana/Indianapolis:20220907T163000
DTSTAMP:20260424T062754
CREATED:20220905T144551Z
LAST-MODIFIED:20220905T144551Z
UID:3763-1662568200-1662568200@www.clintoncountytoday.com
SUMMARY:High School Girls Golf: Rossville Hosts Lafayette Central Catholic
DESCRIPTION:
URL:https://www.clintoncountytoday.com/event/high-school-girls-golf-rossville-hosts-lafayette-central-catholic/
LOCATION:Angel Hill Golf Course\, 9980 N Co Rd 480 W\, Rossville\, IN\, 46065\, United States
CATEGORIES:High School Girls Golf,Local Sports,Rossville Sports
ATTACH;FMTTYPE=image/jpeg:https://www.clintoncountytoday.com/wp-content/uploads/2022/08/rossville-golf.jpg
END:VEVENT
BEGIN:VEVENT
DTSTART;TZID=America/Indiana/Indianapolis:20220906T190000
DTEND;TZID=America/Indiana/Indianapolis:20220906T190000
DTSTAMP:20260424T062754
CREATED:20220905T152013Z
LAST-MODIFIED:20220905T152013Z
UID:3794-1662490800-1662490800@www.clintoncountytoday.com
SUMMARY:High School Volleyball: Clinton Central Hosts Tipton
DESCRIPTION:
URL:https://www.clintoncountytoday.com/event/high-school-volleyball-clinton-central-hosts-tipton/
LOCATION:Clinton Central Schools\, 815 IN-29\, Michigantown\, IN\, 46057\, United States
CATEGORIES:Clinton Central Sports,High School JV Volleyball,Local Sports
ATTACH;FMTTYPE=image/jpeg:https://www.clintoncountytoday.com/wp-content/uploads/2022/08/cc-volleyball.jpg
END:VEVENT
BEGIN:VEVENT
DTSTART;TZID=America/Indiana/Indianapolis:20220906T180000
DTEND;TZID=America/Indiana/Indianapolis:20220906T180000
DTSTAMP:20260424T062754
CREATED:20220905T153504Z
LAST-MODIFIED:20220905T153504Z
UID:3809-1662487200-1662487200@www.clintoncountytoday.com
SUMMARY:Elementary Volleyball: Clinton Prairie @ Western Boone
DESCRIPTION:
URL:https://www.clintoncountytoday.com/event/elementary-volleyball-clinton-prairie-western-boone/
LOCATION:Western Boone High School\, 1205 IN-75\, Thorntown\, 46071\, United States
CATEGORIES:Clinton Prairie Sports,Elementary Volleyball,Local Sports
ATTACH;FMTTYPE=image/jpeg:https://www.clintoncountytoday.com/wp-content/uploads/2022/08/cp-volleyball.jpg
END:VEVENT
BEGIN:VEVENT
DTSTART;TZID=America/Indiana/Indianapolis:20220906T180000
DTEND;TZID=America/Indiana/Indianapolis:20220906T180000
DTSTAMP:20260424T062754
CREATED:20220905T144328Z
LAST-MODIFIED:20220905T144328Z
UID:3761-1662487200-1662487200@www.clintoncountytoday.com
SUMMARY:High School Volleyball: Rossville @ Tri-Central
DESCRIPTION:
URL:https://www.clintoncountytoday.com/event/high-school-volleyball-rossville-tri-central/
LOCATION:Tri-Central Middle/High School\, 2115 W 500 N\, Sharpsville\, IN\, 46068\, United States
CATEGORIES:High School Volleyball,Local Sports,Rossville Sports
ATTACH;FMTTYPE=image/jpeg:https://www.clintoncountytoday.com/wp-content/uploads/2022/08/rossville-volleyball.jpg
END:VEVENT
BEGIN:VEVENT
DTSTART;TZID=America/Indiana/Indianapolis:20220906T180000
DTEND;TZID=America/Indiana/Indianapolis:20220906T180000
DTSTAMP:20260424T062754
CREATED:20220905T144205Z
LAST-MODIFIED:20220905T144205Z
UID:3759-1662487200-1662487200@www.clintoncountytoday.com
SUMMARY:Middle School Volleyball: Rossville Hosts Faith Christian
DESCRIPTION:
URL:https://www.clintoncountytoday.com/event/middle-school-volleyball-rossville-hosts-faith-christian/
LOCATION:Rossville Schools\, 1 Robert Egly Dr\, Rossville\, IN\, 46065\, United States
CATEGORIES:Local Sports,Middle School Volleyball,Rossville Sports
ATTACH;FMTTYPE=image/jpeg:https://www.clintoncountytoday.com/wp-content/uploads/2022/08/rossville-volleyball.jpg
END:VEVENT
BEGIN:VEVENT
DTSTART;TZID=America/Indiana/Indianapolis:20220906T180000
DTEND;TZID=America/Indiana/Indianapolis:20220906T180000
DTSTAMP:20260424T062754
CREATED:20220905T132554Z
LAST-MODIFIED:20220905T132554Z
UID:3711-1662487200-1662487200@www.clintoncountytoday.com
SUMMARY:Middle Scholl Volleyball (7th & 8th): Frankfort Hosts Southmont
DESCRIPTION:
URL:https://www.clintoncountytoday.com/event/middle-scholl-volleyball-7th-8th-frankfort-hosts-southmont/
LOCATION:Frankfort Middle School\, 329 N Maish Rd\, Frankfort\, IN\, 46041\, United States
CATEGORIES:Frankfort Sports,Local Sports,Middle School Volleyball
ATTACH;FMTTYPE=image/jpeg:https://www.clintoncountytoday.com/wp-content/uploads/2022/08/frankfort-volleyball.jpg
END:VEVENT
BEGIN:VEVENT
DTSTART;TZID=America/Indiana/Indianapolis:20220906T180000
DTEND;TZID=America/Indiana/Indianapolis:20220906T180000
DTSTAMP:20260424T062754
CREATED:20220905T132302Z
LAST-MODIFIED:20220905T132408Z
UID:3709-1662487200-1662487200@www.clintoncountytoday.com
SUMMARY:High School Girls Soccer (V & JV): Frankfort Hosts Southmont
DESCRIPTION:
URL:https://www.clintoncountytoday.com/event/high-school-girls-soccer-frankfort-hosts-southmont/
LOCATION:Frankfort Sr. High School\, 1 Maish Rd\, Frankfort\, IN\, 46041
CATEGORIES:Frankfort Sports,High School Girls Soccer,High School JV Soccer,Local Sports
ATTACH;FMTTYPE=image/jpeg:https://www.clintoncountytoday.com/wp-content/uploads/2022/08/frankfort-soccer.jpg
END:VEVENT
BEGIN:VEVENT
DTSTART;TZID=America/Indiana/Indianapolis:20220906T174500
DTEND;TZID=America/Indiana/Indianapolis:20220906T174500
DTSTAMP:20260424T062754
CREATED:20220905T151849Z
LAST-MODIFIED:20220905T151849Z
UID:3791-1662486300-1662486300@www.clintoncountytoday.com
SUMMARY:Middle School Co-ed Cross Country: Clinton Central @ Broncho Invitational
DESCRIPTION:
URL:https://www.clintoncountytoday.com/event/middle-school-co-ed-cross-country-clinton-central-broncho-invitational/
LOCATION:Tippecanoe Amphitheater\, 4449 IN-43\, West Lafayette\, IN\, 47906\, United States
CATEGORIES:Clinton Central Sports,Local Sports,Middle School Cross Country
ATTACH;FMTTYPE=image/jpeg:https://www.clintoncountytoday.com/wp-content/uploads/2022/08/cc-run.jpg
END:VEVENT
BEGIN:VEVENT
DTSTART;TZID=America/Indiana/Indianapolis:20220906T173000
DTEND;TZID=America/Indiana/Indianapolis:20220906T173000
DTSTAMP:20260424T062754
CREATED:20220905T153315Z
LAST-MODIFIED:20220905T153315Z
UID:3806-1662485400-1662485400@www.clintoncountytoday.com
SUMMARY:Elementary Volleyball: Clinton Prairie @ Granville Wells
DESCRIPTION:
URL:https://www.clintoncountytoday.com/event/elementary-volleyball-clinton-prairie-granville-wells/
LOCATION:Granville Wells Elementary\, 5046 IN-75\, Jamestown\, IN\, 46147\, United States
CATEGORIES:Clinton Prairie Sports,Elementary Volleyball
ATTACH;FMTTYPE=image/jpeg:https://www.clintoncountytoday.com/wp-content/uploads/2022/08/cp-volleyball.jpg
END:VEVENT
END:VCALENDAR