BEGIN:VCALENDAR
VERSION:2.0
PRODID:-//Clinton County Today - ECPv6.15.20//NONSGML v1.0//EN
CALSCALE:GREGORIAN
METHOD:PUBLISH
X-ORIGINAL-URL:https://www.clintoncountytoday.com
X-WR-CALDESC:Events for Clinton County Today
REFRESH-INTERVAL;VALUE=DURATION:PT1H
X-Robots-Tag:noindex
X-PUBLISHED-TTL:PT1H
BEGIN:VTIMEZONE
TZID:America/Indiana/Indianapolis
BEGIN:DAYLIGHT
TZOFFSETFROM:-0500
TZOFFSETTO:-0400
TZNAME:EDT
DTSTART:20190310T070000
END:DAYLIGHT
BEGIN:STANDARD
TZOFFSETFROM:-0400
TZOFFSETTO:-0500
TZNAME:EST
DTSTART:20191103T060000
END:STANDARD
BEGIN:DAYLIGHT
TZOFFSETFROM:-0500
TZOFFSETTO:-0400
TZNAME:EDT
DTSTART:20200308T070000
END:DAYLIGHT
BEGIN:STANDARD
TZOFFSETFROM:-0400
TZOFFSETTO:-0500
TZNAME:EST
DTSTART:20201101T060000
END:STANDARD
BEGIN:DAYLIGHT
TZOFFSETFROM:-0500
TZOFFSETTO:-0400
TZNAME:EDT
DTSTART:20210314T070000
END:DAYLIGHT
BEGIN:STANDARD
TZOFFSETFROM:-0400
TZOFFSETTO:-0500
TZNAME:EST
DTSTART:20211107T060000
END:STANDARD
END:VTIMEZONE
BEGIN:VEVENT
DTSTART;TZID=America/Indiana/Indianapolis:20200117T160000
DTEND;TZID=America/Indiana/Indianapolis:20200117T173000
DTSTAMP:20260424T092925
CREATED:20200113T114831Z
LAST-MODIFIED:20200113T114831Z
UID:88-1579276800-1579282200@www.clintoncountytoday.com
SUMMARY:Proclamation & Mentor Fair
DESCRIPTION:January is National Mentoring Month! Clinton County’s youth serving agencies are celebrating with a Proclamation by Mayor Chris McBarnes and a Mentor Fair in Old Stoney! The Clinton County Boys & Girls Club\, The Y and COACH Kids will all be represented\, with information for prospective youth mentors. There will be BREAD PUDDING from Angry Donkey and coffee available for those who stop in. Come see us!
URL:https://www.clintoncountytoday.com/event/proclamation-mentor-fair/
CATEGORIES:Frankfort IN
END:VEVENT
BEGIN:VEVENT
DTSTART;TZID=America/Indiana/Indianapolis:20200115T180000
DTEND;TZID=America/Indiana/Indianapolis:20200115T210000
DTSTAMP:20260424T092925
CREATED:20200113T180549Z
LAST-MODIFIED:20200113T180549Z
UID:117-1579111200-1579122000@www.clintoncountytoday.com
SUMMARY:Gibson Wells at Hoops Sports Bar & Restaurant
DESCRIPTION:Gibson Wells – Live Music\nHoops Sports Bar & Restaurant\nFrankfort\, IN\n6-9pm
URL:https://www.clintoncountytoday.com/event/gibson-wells-at-hoops-sports-bar-restaurant/
LOCATION:Hoops Sports Bar and Restaurant\, 1601 Rossville Ave\, Frankfort\, IN\, 46041\, US
CATEGORIES:Frankfort IN
END:VEVENT
BEGIN:VEVENT
DTSTART;TZID=America/Indiana/Indianapolis:20200115T180000
DTEND;TZID=America/Indiana/Indianapolis:20200115T190000
DTSTAMP:20260424T092925
CREATED:20200113T180525Z
LAST-MODIFIED:20200113T180525Z
UID:114-1579111200-1579114800@www.clintoncountytoday.com
SUMMARY:Financial Peace University
DESCRIPTION:Planning for the future is hard when you’re still paying for the past! Listen—there’s a better way! Join my Financial Peace University class\, and we’ll learn how to beat debt and make a plan for the future . . . together! Interested? Join me at Clinton County Family YMCA starting Wednesday\, January 15\, 2020.@ 6 pm and will be held every Wednesday thru March 11th. Feel free to contact  me at 765-654-9622 with your questions or sign up at the CCF YMCA. The program is $99 with a +1 with proof of living in same household (your program material is shared with your +1).
URL:https://www.clintoncountytoday.com/event/financial-peace-university/
LOCATION:Clinton County Family YMCA\, Indiana\, 950 S Maish Rd\, Frankfort\, IN\, 46041\, US
CATEGORIES:Frankfort IN
END:VEVENT
BEGIN:VEVENT
DTSTART;TZID=America/Indiana/Indianapolis:20200114T180000
DTEND;TZID=America/Indiana/Indianapolis:20200114T200000
DTSTAMP:20260424T092925
CREATED:20200113T180613Z
LAST-MODIFIED:20200113T180613Z
UID:120-1579024800-1579032000@www.clintoncountytoday.com
SUMMARY:Hunter Wainscott - Johnny V's
DESCRIPTION:Live music Tuesday’s with Hunter Wainscott a Johnny V’s downtown Frankfort! 6-8pm.
URL:https://www.clintoncountytoday.com/event/hunter-wainscott-johnny-vs/
LOCATION:Johnny V’s MainStreet Grille\, 58 N Main St\, Frankfort\, IN\, 46041\, US
CATEGORIES:Frankfort IN
END:VEVENT
END:VCALENDAR