BEGIN:VCALENDAR
VERSION:2.0
PRODID:-//Clinton County Today - ECPv6.15.20//NONSGML v1.0//EN
CALSCALE:GREGORIAN
METHOD:PUBLISH
X-WR-CALNAME:Clinton County Today
X-ORIGINAL-URL:https://www.clintoncountytoday.com
X-WR-CALDESC:Events for Clinton County Today
REFRESH-INTERVAL;VALUE=DURATION:PT1H
X-Robots-Tag:noindex
X-PUBLISHED-TTL:PT1H
BEGIN:VTIMEZONE
TZID:America/Indiana/Indianapolis
BEGIN:DAYLIGHT
TZOFFSETFROM:-0500
TZOFFSETTO:-0400
TZNAME:EDT
DTSTART:20190310T070000
END:DAYLIGHT
BEGIN:STANDARD
TZOFFSETFROM:-0400
TZOFFSETTO:-0500
TZNAME:EST
DTSTART:20191103T060000
END:STANDARD
BEGIN:DAYLIGHT
TZOFFSETFROM:-0500
TZOFFSETTO:-0400
TZNAME:EDT
DTSTART:20200308T070000
END:DAYLIGHT
BEGIN:STANDARD
TZOFFSETFROM:-0400
TZOFFSETTO:-0500
TZNAME:EST
DTSTART:20201101T060000
END:STANDARD
BEGIN:DAYLIGHT
TZOFFSETFROM:-0500
TZOFFSETTO:-0400
TZNAME:EDT
DTSTART:20210314T070000
END:DAYLIGHT
BEGIN:STANDARD
TZOFFSETFROM:-0400
TZOFFSETTO:-0500
TZNAME:EST
DTSTART:20211107T060000
END:STANDARD
BEGIN:DAYLIGHT
TZOFFSETFROM:-0500
TZOFFSETTO:-0400
TZNAME:EDT
DTSTART:20220313T070000
END:DAYLIGHT
BEGIN:STANDARD
TZOFFSETFROM:-0400
TZOFFSETTO:-0500
TZNAME:EST
DTSTART:20221106T060000
END:STANDARD
BEGIN:DAYLIGHT
TZOFFSETFROM:-0500
TZOFFSETTO:-0400
TZNAME:EDT
DTSTART:20230312T070000
END:DAYLIGHT
BEGIN:STANDARD
TZOFFSETFROM:-0400
TZOFFSETTO:-0500
TZNAME:EST
DTSTART:20231105T060000
END:STANDARD
END:VTIMEZONE
BEGIN:VEVENT
DTSTART;TZID=America/Indiana/Indianapolis:20220729T163000
DTEND;TZID=America/Indiana/Indianapolis:20220729T173000
DTSTAMP:20260424T080502
CREATED:20220729T031641Z
LAST-MODIFIED:20220729T031641Z
UID:2993-1659112200-1659115800@www.clintoncountytoday.com
SUMMARY:Paul Green Rock Academy
DESCRIPTION:The Paul Green Rock Academy (PGRA) is an advanced touring ensemble of young musicians between the ages of 10 and 18 who have been selected for their musical prowess\, showmanship\, love of performing\, and ability to share the stage with professional musicians as they tour the world. This summer the students will be touring as the backing band for Jon Anderson\, from the band Yes\, and Gibby Haynes of Butthole Surfers. They play many genres of music from Abba to Zappa. Veterans Park – Main St & Washington St.
URL:https://www.clintoncountytoday.com/event/paul-green-rock-academy/
LOCATION:Veterans Park – Main St & Washington St\, Frankfort\, IN\, 46041
CATEGORIES:Frankfort IN,Hot Dog Festival 2022
ATTACH;FMTTYPE=image/jpeg:https://www.clintoncountytoday.com/wp-content/uploads/2022/07/pgra.jpg
END:VEVENT
BEGIN:VEVENT
DTSTART;TZID=America/Indiana/Indianapolis:20220729T150000
DTEND;TZID=America/Indiana/Indianapolis:20220729T160000
DTSTAMP:20260424T080502
CREATED:20220729T030707Z
LAST-MODIFIED:20220729T031126Z
UID:2987-1659106800-1659110400@www.clintoncountytoday.com
SUMMARY:DockDogs® Big Air Wave #2
DESCRIPTION:Big Air is a “long jump for dogs”. The dog\, which may be placed anywhere on the 40′ dock\, runs and jumps into the water after a throw toy (provided by the handler) is tossed. The distance is judged from the end of the dock to where the tail set of the dog breaks the water’s surface. W Washington St.
URL:https://www.clintoncountytoday.com/event/dockdogs-big-air-wave-2/
LOCATION:W Washington St.\, Frankfort\, IN\, 46041
CATEGORIES:Frankfort IN,Hot Dog Festival 2022
ATTACH;FMTTYPE=image/jpeg:https://www.clintoncountytoday.com/wp-content/uploads/2022/07/dockdogs-wave2.jpg
END:VEVENT
BEGIN:VEVENT
DTSTART;TZID=America/Indiana/Indianapolis:20220729T150000
DTEND;TZID=America/Indiana/Indianapolis:20220729T160000
DTSTAMP:20260424T080502
CREATED:20220729T030401Z
LAST-MODIFIED:20220729T030909Z
UID:2984-1659106800-1659110400@www.clintoncountytoday.com
SUMMARY:Ma Bell
DESCRIPTION:A one of a kind\, singer\, songwriter\, and musician. Veterans Park – Main St & Washington St.
URL:https://www.clintoncountytoday.com/event/ma-bell/
LOCATION:Veterans Park – Main St & Washington St\, Frankfort\, IN\, 46041
CATEGORIES:Frankfort IN,Hot Dog Festival 2022
ATTACH;FMTTYPE=image/jpeg:https://www.clintoncountytoday.com/wp-content/uploads/2022/07/ma-bell.jpg
END:VEVENT
BEGIN:VEVENT
DTSTART;TZID=America/Indiana/Indianapolis:20220729T130000
DTEND;TZID=America/Indiana/Indianapolis:20220729T140000
DTSTAMP:20260424T080502
CREATED:20220729T030041Z
LAST-MODIFIED:20220729T031146Z
UID:2981-1659099600-1659103200@www.clintoncountytoday.com
SUMMARY:DockDogs® Big Air Wave #1
DESCRIPTION:Big Air is a “long jump for dogs”. The dog\, which may be placed anywhere on the 40′ dock\, runs and jumps into the water after a throw toy (provided by the handler) is tossed. The distance is judged from the end of the dock to where the tail set of the dog breaks the water’s surface. W Washington St.
URL:https://www.clintoncountytoday.com/event/dockdogs-big-air-wave-1/
LOCATION:W Washington St.\, Frankfort\, IN\, 46041
CATEGORIES:Frankfort IN,Hot Dog Festival 2022
ATTACH;FMTTYPE=image/jpeg:https://www.clintoncountytoday.com/wp-content/uploads/2022/07/dockdogs-wave1.jpg
END:VEVENT
BEGIN:VEVENT
DTSTART;TZID=America/Indiana/Indianapolis:20220729T120000
DTEND;TZID=America/Indiana/Indianapolis:20220729T150000
DTSTAMP:20260424T080502
CREATED:20220729T025622Z
LAST-MODIFIED:20220729T030957Z
UID:2978-1659096000-1659106800@www.clintoncountytoday.com
SUMMARY:Frankfort’s Got Talent Contest
DESCRIPTION:Bring your best talent and share it with the community. All contestants in the Frankfort’s Got Talent Contest must register in one of these age groups: Pre-K – Elementary; Middle – High School; Adult – 18 and up. All contestants must be registered no later than 11:30 am\, Friday\, July 29th. Veterans Park – Main St & Washington St.
URL:https://www.clintoncountytoday.com/event/frankforts-got-talent-contest/
LOCATION:Veterans Park – Main St & Washington St\, Frankfort\, IN\, 46041
CATEGORIES:Frankfort IN,Hot Dog Festival 2022
ATTACH;FMTTYPE=image/jpeg:https://www.clintoncountytoday.com/wp-content/uploads/2022/07/frankfort-got-talent.jpg
END:VEVENT
BEGIN:VEVENT
DTSTART;TZID=America/Indiana/Indianapolis:20220729T120000
DTEND;TZID=America/Indiana/Indianapolis:20220729T150000
DTSTAMP:20260424T080502
CREATED:20220729T025411Z
LAST-MODIFIED:20220729T031014Z
UID:2975-1659096000-1659106800@www.clintoncountytoday.com
SUMMARY:Senior Talent Show
DESCRIPTION:All participants in the Senior Citizen Talent Show must be 55 years of age or older. Entries will be accepted in the following categories: Vocal Solo\, Vocal Group\, Instrumental Solo / Group; Open Class / Free Choice (i.e. Dance\, Story Telling\, Poetry Recital\, Comedy\, Etc.). All acts shall be of quality nature. Any lewd or inappropriate acts will be immediately asked to leave the stage. Veterans Park – Main St & Washington St.
URL:https://www.clintoncountytoday.com/event/senior-talent-show/
LOCATION:Veterans Park – Main St & Washington St\, Frankfort\, IN\, 46041
CATEGORIES:Frankfort IN,Hot Dog Festival 2022
ATTACH;FMTTYPE=image/jpeg:https://www.clintoncountytoday.com/wp-content/uploads/2022/07/senior-talent-show.jpg
END:VEVENT
BEGIN:VEVENT
DTSTART;TZID=America/Indiana/Indianapolis:20220729T113000
DTEND;TZID=America/Indiana/Indianapolis:20220729T120000
DTSTAMP:20260424T080502
CREATED:20220729T024922Z
LAST-MODIFIED:20220729T031033Z
UID:2972-1659094200-1659096000@www.clintoncountytoday.com
SUMMARY:Stage 1 Dance Academy
DESCRIPTION:Come out and support our local dance studio. These kids work really hard and do an amazing job! Veterans Park – Main St & Washington St.
URL:https://www.clintoncountytoday.com/event/stage-1-dance-academy/
LOCATION:Veterans Park – Main St & Washington St\, Frankfort\, IN\, 46041
CATEGORIES:Frankfort IN,Hot Dog Festival 2022
ATTACH;FMTTYPE=image/jpeg:https://www.clintoncountytoday.com/wp-content/uploads/2022/07/stage-1-dance.jpg
END:VEVENT
BEGIN:VEVENT
DTSTART;TZID=America/Indiana/Indianapolis:20220729T110000
DTEND;TZID=America/Indiana/Indianapolis:20220729T220000
DTSTAMP:20260424T080502
CREATED:20220729T023409Z
LAST-MODIFIED:20220729T031045Z
UID:2963-1659092400-1659132000@www.clintoncountytoday.com
SUMMARY:Family Fun Zone Opens
DESCRIPTION:Family Fun Zone Opens on S Columbia St.
URL:https://www.clintoncountytoday.com/event/family-fun-zone-opens/
LOCATION:S Columbia St.\, Frankfort\, IN\, 46041
CATEGORIES:Frankfort IN,Hot Dog Festival 2022
ATTACH;FMTTYPE=image/jpeg:https://www.clintoncountytoday.com/wp-content/uploads/2022/07/family-fun-zone.jpg
END:VEVENT
BEGIN:VEVENT
DTSTART;TZID=America/Indiana/Indianapolis:20220729T110000
DTEND;TZID=America/Indiana/Indianapolis:20220729T220000
DTSTAMP:20260424T080502
CREATED:20220729T022624Z
LAST-MODIFIED:20220729T022911Z
UID:2958-1659092400-1659132000@www.clintoncountytoday.com
SUMMARY:Official Hot Dog Festival Tent by Shoup’s Country Foods opens
DESCRIPTION:Official Hot Dog Festival Tent by Shoup’s Country Foods opens. Located at Main St & Washington St.
URL:https://www.clintoncountytoday.com/event/official-hot-dog-festival-tent-by-shoups-country-foods-opens/
LOCATION:Main St & Washington St\, Frankfort\, IN\, 46041
CATEGORIES:Frankfort IN,Hot Dog Festival 2022
ATTACH;FMTTYPE=image/jpeg:https://www.clintoncountytoday.com/wp-content/uploads/2022/07/shoups-tent.jpg
END:VEVENT
BEGIN:VEVENT
DTSTART;TZID=America/Indiana/Indianapolis:20220729T110000
DTEND;TZID=America/Indiana/Indianapolis:20220729T180000
DTSTAMP:20260424T080502
CREATED:20220729T024401Z
LAST-MODIFIED:20220729T031210Z
UID:2967-1659092400-1659117600@www.clintoncountytoday.com
SUMMARY:DockDogs®- Registration & Practice
DESCRIPTION:DockDogs® was born in 2000 to create a nationally recognized competitive sport based on rules and precedents in Track and Field competitions. Much of DockDogs® Big Air Dog competitions’ popularity comes from having national standards and objective measures that allow people to train competitively and have objective feedback on their progress. Also\, our open competitions allow “anyone with a dog and toy” to participate in the sport and have a chance at national recognition \nDockDogs® is an organization about having fun and celebrates every improvement with our competitors\, staff\, sponsors\, and spectators. Even an inch improvement over a team’s previous jump is something to be happy about. We continue to work hard to keep the sport as simple and fun as possible\, and to create a culture of camaraderie amongst the Novice through the experienced competitors. We want teams to participate at whatever level they and their dogs can compete\, so we created divisions for each of the different disciplines\, which in turn allows teams to be ranked and awarded fairly against other competing teams\, based on their current performance abilities. \nDockDogs® consists of 3 different sporting disciplines: \nBig Air – the first sport of DockDogs® and the most popular\, this is the Long Jump of canine aquatics. \nExtreme Vertical – introduced in 2005 it is considered the High Jump of canine aquatics. \nSpeed Retrieve – launched in 2008 this is a timed sport involving the combination of run\, jump\, swim and retrieve. \nFor more information visit: Website or Facebook
URL:https://www.clintoncountytoday.com/event/dockdogs-registration-practice/
LOCATION:W Washington St.\, Frankfort\, IN\, 46041
CATEGORIES:Frankfort IN,Hot Dog Festival 2022
ATTACH;FMTTYPE=image/jpeg:https://www.clintoncountytoday.com/wp-content/uploads/2022/07/dockdogs-reg.jpg
END:VEVENT
BEGIN:VEVENT
DTSTART;TZID=America/Indiana/Indianapolis:20220729T110000
DTEND;TZID=America/Indiana/Indianapolis:20220729T111500
DTSTAMP:20260424T080502
CREATED:20220729T021202Z
LAST-MODIFIED:20220729T022812Z
UID:2951-1659092400-1659093300@www.clintoncountytoday.com
SUMMARY:Hot Dog Festival Opening Ceremony
DESCRIPTION:The 2022 Frankfort Hot Dog Festival Opening Ceremony at Veterans Park – Main St & Washington St.
URL:https://www.clintoncountytoday.com/event/hot-dog-festival-opening-ceremony/
LOCATION:Veterans Park – Main St & Washington St\, Frankfort\, IN\, 46041
CATEGORIES:Frankfort IN,Hot Dog Festival 2022
ATTACH;FMTTYPE=image/jpeg:https://www.clintoncountytoday.com/wp-content/uploads/2022/07/opening-ceremony.jpg
END:VEVENT
BEGIN:VEVENT
DTSTART;TZID=America/Indiana/Indianapolis:20200214T180000
DTEND;TZID=America/Indiana/Indianapolis:20200214T220000
DTSTAMP:20260424T080502
CREATED:20200113T175052Z
LAST-MODIFIED:20200113T175052Z
UID:108-1581703200-1581717600@www.clintoncountytoday.com
SUMMARY:February Parent Night Out
DESCRIPTION:Super Bowl Showdown!  Does your child like to play board games? Are they a champion at card games?  Sign them up for February’s PNO: Game Night\, and let them show off their skills!  (There may even be a life size board game involved!)  We will be serving dinner and having multiple games for all skill levels!  Come make new friends and memories! Ages: 3-13
URL:https://www.clintoncountytoday.com/event/february-parent-night-out/
LOCATION:Clinton County Family YMCA\, Indiana\, 950 S Maish Rd\, Frankfort\, IN\, 46041\, US
CATEGORIES:Frankfort IN
END:VEVENT
BEGIN:VEVENT
DTSTART;TZID=America/Indiana/Indianapolis:20200201T090000
DTEND;TZID=America/Indiana/Indianapolis:20200201T170000
DTSTAMP:20260424T080502
CREATED:20200113T175050Z
LAST-MODIFIED:20200113T175050Z
UID:105-1580547600-1580576400@www.clintoncountytoday.com
SUMMARY:No Regrets Men's Conference
DESCRIPTION:Join us for our annual live simulcast of the No Regrets Men’s Conference on February 1\, 2020!
URL:https://www.clintoncountytoday.com/event/no-regrets-mens-conference/
LOCATION:Faith Family\, 508 W Green St\, Frankfort\, IN\, 46041\, US
CATEGORIES:Frankfort IN
END:VEVENT
BEGIN:VEVENT
DTSTART;TZID=America/Indiana/Indianapolis:20200128T173000
DTEND;TZID=America/Indiana/Indianapolis:20200128T200000
DTSTAMP:20260424T080502
CREATED:20200113T175044Z
LAST-MODIFIED:20200113T175044Z
UID:97-1580232600-1580241600@www.clintoncountytoday.com
SUMMARY:Free Family Movie Night
DESCRIPTION:Join us for Free Family Movie Night!  We will be showing The Addam’s Family (2019 film) at 5:30 pm in the Skanta theatre.  Water and popcorn will be provided to those who attend.  This is a free event.\nSponsored by the Frankfort Lions Club.
URL:https://www.clintoncountytoday.com/event/free-family-movie-night/
LOCATION:Frankfort Community Public Library\, 208 W Clinton St\, Frankfort\, IN\, 46041
CATEGORIES:Frankfort IN
END:VEVENT
BEGIN:VEVENT
DTSTART;TZID=America/Indiana/Indianapolis:20200125T193000
DTEND;TZID=America/Indiana/Indianapolis:20200125T210000
DTSTAMP:20260424T080502
CREATED:20200113T175048Z
LAST-MODIFIED:20200113T175048Z
UID:102-1579980600-1579986000@www.clintoncountytoday.com
SUMMARY:Jason Wells Concert
DESCRIPTION:Jason Wells Concert\nSkanta Theatre\nSaturday\, January 25 at 7:30 p.m.\nTickets go on sale November 18 at Frankfort Library\nTickets $10 General Admission \nFrankfort’s local favorite the Jason Wells Band will be performing once again in the Skanta theatre on Saturday\, January 25 at 7:30 p.m.  Tickets will be $10.00 for this performance and will go on sale November 25 at the Frankfort Library Circulation desk. You may also purchase your ticket over the phone with a credit card. Tickets are general admission. \nThe Jason Wells Band He has performed at Buddy Guy’s Legends in Chicago\, IL\, The Slippery Noodle Inn in Indianapolis\, IN\, The Arcada Theater\, Hard Rock Cafe in Memphis\, Indianapolis\, and St. Louis\, and on the side stage at Klipsch Music Center. He now tours with his band all throughout the Midwest\, gaining fans wherever they go. Jason has become one of the most sought after blues and rock guitarists in the mid-west. He has not wasted a single opportunity to live his dream. His unique sound and entertaining live performance is a show you will not forget.  \nJason has shared the stage with Candlebox\, Jimmie Van Zant\, The Kentucky Headhunters\, Jackyl and Tantric. He has played on the same stage for Earth\, Wind and Fire/Chicago.
URL:https://www.clintoncountytoday.com/event/jason-wells-concert/
LOCATION:Frankfort Community Public Library\, 208 W Clinton St\, Frankfort\, IN\, 46041
CATEGORIES:Frankfort IN
END:VEVENT
BEGIN:VEVENT
DTSTART;TZID=America/Indiana/Indianapolis:20200124T203000
DTEND;TZID=America/Indiana/Indianapolis:20200124T233000
DTSTAMP:20260424T080502
CREATED:20200113T180637Z
LAST-MODIFIED:20200113T180637Z
UID:125-1579897800-1579908600@www.clintoncountytoday.com
SUMMARY:Hunter Wainscott - Frankfort Moose Lodge
DESCRIPTION:Local musician/songwriter Hunter Wainscott will perform at the Frankfort Moose Lodge Friday January 24 8:30-11:30pm!
URL:https://www.clintoncountytoday.com/event/hunter-wainscott-frankfort-moose-lodge/
LOCATION:Frankfort Moose Lodge\, 2880 E Wabash St\, Frankfort\, IN\, 46041\, US
CATEGORIES:Frankfort IN
END:VEVENT
BEGIN:VEVENT
DTSTART;TZID=America/Indiana/Indianapolis:20200123T120000
DTEND;TZID=America/Indiana/Indianapolis:20200123T133000
DTSTAMP:20260424T080502
CREATED:20200113T174659Z
LAST-MODIFIED:20200113T174659Z
UID:93-1579780800-1579786200@www.clintoncountytoday.com
SUMMARY:State of the Chamber 2020 "The Vision is Clear"
DESCRIPTION:The State of the Chamber is Clinton County’s premiere awards luncheon.  There will be awards\, fun\, music\, and recognition for businesses\, educators\, and individuals.  Join us!
URL:https://www.clintoncountytoday.com/event/state-of-the-chamber-2020-the-vision-is-clear/
LOCATION:Arborwood\, 100 North Park Drive\, Frankfort\, IN\, 46041\, US
CATEGORIES:Frankfort IN
END:VEVENT
BEGIN:VEVENT
DTSTART;TZID=America/Indiana/Indianapolis:20200118T193000
DTEND;TZID=America/Indiana/Indianapolis:20200118T210000
DTSTAMP:20260424T080502
CREATED:20200113T180630Z
LAST-MODIFIED:20200113T180630Z
UID:122-1579375800-1579381200@www.clintoncountytoday.com
SUMMARY:Kennedy's Kitchen
DESCRIPTION:Kennedy’s Kitchen\nAll things Irish\nSaturday\, January 18 at 7:30 p.m.\nDoors open at 6:30 p.m. \nTheir music is rooted in traditional Irish Music\, jigs\, reels\, hornpipes\, recitations\, stories\, and songs…..adding their own compositions along the way.  \nTickets are $13\nThey can be purchased at the Library Circulation Desk with a credit card\, check or cash.  You can also reserve your ticket over the phone with a credit card.  Call the library at 765-654-8746 to reserve yours today.
URL:https://www.clintoncountytoday.com/event/kennedys-kitchen/
LOCATION:Frankfort Community Public Library\, 208 W Clinton St\, Frankfort\, IN\, 46041
CATEGORIES:Frankfort IN
END:VEVENT
BEGIN:VEVENT
DTSTART;TZID=America/Indiana/Indianapolis:20200118T100000
DTEND;TZID=America/Indiana/Indianapolis:20200118T170000
DTSTAMP:20260424T080502
CREATED:20200113T175047Z
LAST-MODIFIED:20200113T175047Z
UID:100-1579341600-1579366800@www.clintoncountytoday.com
SUMMARY:Moxie Mavens Semi Annual Sale
DESCRIPTION:Lots of 50% off items and a $10 rack!! In store only\, come see us 10 AM- 5PM ♡
URL:https://www.clintoncountytoday.com/event/moxie-mavens-semi-annual-sale/
LOCATION:Moxie Mavens\, 54 N Main St\, Frankfort\, IN\, 46041\, US
CATEGORIES:Frankfort IN
END:VEVENT
BEGIN:VEVENT
DTSTART;TZID=America/Indiana/Indianapolis:20200117T190000
DTEND;TZID=America/Indiana/Indianapolis:20200117T220000
DTSTAMP:20260424T080502
CREATED:20200113T180509Z
LAST-MODIFIED:20200113T180509Z
UID:112-1579287600-1579298400@www.clintoncountytoday.com
SUMMARY:Jason Gray Concert
DESCRIPTION:Come to the Jason Gray Concert\, January 17th\, at 7pm. Tickets are only $5!
URL:https://www.clintoncountytoday.com/event/jason-gray-concert/
LOCATION:Frankfort First Church Of The Nazarene\, 2056 E Wabash St\, Frankfort\, IN\, 46041-2753\, US
CATEGORIES:Frankfort IN
END:VEVENT
BEGIN:VEVENT
DTSTART;TZID=America/Indiana/Indianapolis:20200117T160000
DTEND;TZID=America/Indiana/Indianapolis:20200117T173000
DTSTAMP:20260424T080502
CREATED:20200113T114831Z
LAST-MODIFIED:20200113T114831Z
UID:88-1579276800-1579282200@www.clintoncountytoday.com
SUMMARY:Proclamation & Mentor Fair
DESCRIPTION:January is National Mentoring Month! Clinton County’s youth serving agencies are celebrating with a Proclamation by Mayor Chris McBarnes and a Mentor Fair in Old Stoney! The Clinton County Boys & Girls Club\, The Y and COACH Kids will all be represented\, with information for prospective youth mentors. There will be BREAD PUDDING from Angry Donkey and coffee available for those who stop in. Come see us!
URL:https://www.clintoncountytoday.com/event/proclamation-mentor-fair/
LOCATION:IN
CATEGORIES:Frankfort IN
END:VEVENT
BEGIN:VEVENT
DTSTART;TZID=America/Indiana/Indianapolis:20200115T180000
DTEND;TZID=America/Indiana/Indianapolis:20200115T210000
DTSTAMP:20260424T080502
CREATED:20200113T180549Z
LAST-MODIFIED:20200113T180549Z
UID:117-1579111200-1579122000@www.clintoncountytoday.com
SUMMARY:Gibson Wells at Hoops Sports Bar & Restaurant
DESCRIPTION:Gibson Wells – Live Music\nHoops Sports Bar & Restaurant\nFrankfort\, IN\n6-9pm
URL:https://www.clintoncountytoday.com/event/gibson-wells-at-hoops-sports-bar-restaurant/
LOCATION:Hoops Sports Bar and Restaurant\, 1601 Rossville Ave\, Frankfort\, IN\, 46041\, US
CATEGORIES:Frankfort IN
END:VEVENT
BEGIN:VEVENT
DTSTART;TZID=America/Indiana/Indianapolis:20200115T180000
DTEND;TZID=America/Indiana/Indianapolis:20200115T190000
DTSTAMP:20260424T080502
CREATED:20200113T180525Z
LAST-MODIFIED:20200113T180525Z
UID:114-1579111200-1579114800@www.clintoncountytoday.com
SUMMARY:Financial Peace University
DESCRIPTION:Planning for the future is hard when you’re still paying for the past! Listen—there’s a better way! Join my Financial Peace University class\, and we’ll learn how to beat debt and make a plan for the future . . . together! Interested? Join me at Clinton County Family YMCA starting Wednesday\, January 15\, 2020.@ 6 pm and will be held every Wednesday thru March 11th. Feel free to contact  me at 765-654-9622 with your questions or sign up at the CCF YMCA. The program is $99 with a +1 with proof of living in same household (your program material is shared with your +1).
URL:https://www.clintoncountytoday.com/event/financial-peace-university/
LOCATION:Clinton County Family YMCA\, Indiana\, 950 S Maish Rd\, Frankfort\, IN\, 46041\, US
CATEGORIES:Frankfort IN
END:VEVENT
BEGIN:VEVENT
DTSTART;TZID=America/Indiana/Indianapolis:20200114T180000
DTEND;TZID=America/Indiana/Indianapolis:20200114T200000
DTSTAMP:20260424T080502
CREATED:20200113T180613Z
LAST-MODIFIED:20200113T180613Z
UID:120-1579024800-1579032000@www.clintoncountytoday.com
SUMMARY:Hunter Wainscott - Johnny V's
DESCRIPTION:Live music Tuesday’s with Hunter Wainscott a Johnny V’s downtown Frankfort! 6-8pm.
URL:https://www.clintoncountytoday.com/event/hunter-wainscott-johnny-vs/
LOCATION:Johnny V’s MainStreet Grille\, 58 N Main St\, Frankfort\, IN\, 46041\, US
CATEGORIES:Frankfort IN
END:VEVENT
END:VCALENDAR