BEGIN:VCALENDAR
VERSION:2.0
PRODID:-//Clinton County Today - ECPv6.15.20//NONSGML v1.0//EN
CALSCALE:GREGORIAN
METHOD:PUBLISH
X-WR-CALNAME:Clinton County Today
X-ORIGINAL-URL:https://www.clintoncountytoday.com
X-WR-CALDESC:Events for Clinton County Today
REFRESH-INTERVAL;VALUE=DURATION:PT1H
X-Robots-Tag:noindex
X-PUBLISHED-TTL:PT1H
BEGIN:VTIMEZONE
TZID:America/Indiana/Indianapolis
BEGIN:DAYLIGHT
TZOFFSETFROM:-0500
TZOFFSETTO:-0400
TZNAME:EDT
DTSTART:20210314T070000
END:DAYLIGHT
BEGIN:STANDARD
TZOFFSETFROM:-0400
TZOFFSETTO:-0500
TZNAME:EST
DTSTART:20211107T060000
END:STANDARD
BEGIN:DAYLIGHT
TZOFFSETFROM:-0500
TZOFFSETTO:-0400
TZNAME:EDT
DTSTART:20220313T070000
END:DAYLIGHT
BEGIN:STANDARD
TZOFFSETFROM:-0400
TZOFFSETTO:-0500
TZNAME:EST
DTSTART:20221106T060000
END:STANDARD
BEGIN:DAYLIGHT
TZOFFSETFROM:-0500
TZOFFSETTO:-0400
TZNAME:EDT
DTSTART:20230312T070000
END:DAYLIGHT
BEGIN:STANDARD
TZOFFSETFROM:-0400
TZOFFSETTO:-0500
TZNAME:EST
DTSTART:20231105T060000
END:STANDARD
END:VTIMEZONE
BEGIN:VEVENT
DTSTART;TZID=America/Indiana/Indianapolis:20220827T090000
DTEND;TZID=America/Indiana/Indianapolis:20220827T140000
DTSTAMP:20260424T035145
CREATED:20220820T125247Z
LAST-MODIFIED:20220820T125247Z
UID:3653-1661590800-1661608800@www.clintoncountytoday.com
SUMMARY:Frankfort Farmers Market
DESCRIPTION:
URL:https://www.clintoncountytoday.com/event/frankfort-farmers-market-20220827/
LOCATION:Veterans Park – Main St & Washington St\, Frankfort\, IN\, 46041
CATEGORIES:Farmers Market,Frankfort IN
ATTACH;FMTTYPE=image/jpeg:https://www.clintoncountytoday.com/wp-content/uploads/2022/08/frankfort-farmers-market.jpg
END:VEVENT
BEGIN:VEVENT
DTSTART;TZID=America/Indiana/Indianapolis:20220820T090000
DTEND;TZID=America/Indiana/Indianapolis:20220820T140000
DTSTAMP:20260424T035145
CREATED:20220820T125037Z
LAST-MODIFIED:20220820T125337Z
UID:3650-1660986000-1661004000@www.clintoncountytoday.com
SUMMARY:Frankfort Farmers Market
DESCRIPTION:
URL:https://www.clintoncountytoday.com/event/frankfort-farmers-market-20220820/
LOCATION:Veterans Park – Main St & Washington St\, Frankfort\, IN\, 46041
CATEGORIES:Farmers Market,Frankfort IN
ATTACH;FMTTYPE=image/jpeg:https://www.clintoncountytoday.com/wp-content/uploads/2022/08/frankfort-farmers-market.jpg
END:VEVENT
BEGIN:VEVENT
DTSTART;TZID=America/Indiana/Indianapolis:20220731T100000
DTEND;TZID=America/Indiana/Indianapolis:20220731T120000
DTSTAMP:20260424T035145
CREATED:20220729T150341Z
LAST-MODIFIED:20220729T150341Z
UID:3182-1659261600-1659268800@www.clintoncountytoday.com
SUMMARY:Community Worship Service
DESCRIPTION:One Christ\, One Body. A non-denominational worship service featuring VOX5 Acapella. Sponsored by the Clinton County Ministerial Association and Frankfort Main Street\, Inc. Join us for a UNIFIED worship experience to close the annual Frankfort Hot Dog Festival! Please bring your own chair. The Farmers Bank Performance Center Stage at Prairie Creek Park – E Washington St.
URL:https://www.clintoncountytoday.com/event/community-worship-service/
LOCATION:IN
CATEGORIES:Frankfort IN,Hot Dog Festival 2022
ATTACH;FMTTYPE=image/jpeg:https://www.clintoncountytoday.com/wp-content/uploads/2022/07/sunday.jpg
END:VEVENT
BEGIN:VEVENT
DTSTART;TZID=America/Indiana/Indianapolis:20220730T230000
DTEND;TZID=America/Indiana/Indianapolis:20220730T233000
DTSTAMP:20260424T035145
CREATED:20220729T150036Z
LAST-MODIFIED:20220729T150036Z
UID:3179-1659222000-1659223800@www.clintoncountytoday.com
SUMMARY:Fireworks!
DESCRIPTION:Fireworks! Thank you all so much and be safe going home – see you next year at the Frankfort Main Street Hot Dog Festival! Put it on your calendar – July 28\, 29 & 30\, 2023!
URL:https://www.clintoncountytoday.com/event/fireworks/
LOCATION:E Washington St\, Frankfort\, IN\, 46041
CATEGORIES:Frankfort IN,Hot Dog Festival 2022
ATTACH;FMTTYPE=image/jpeg:https://www.clintoncountytoday.com/wp-content/uploads/2022/07/fireworks.jpg
END:VEVENT
BEGIN:VEVENT
DTSTART;TZID=America/Indiana/Indianapolis:20220730T210000
DTEND;TZID=America/Indiana/Indianapolis:20220730T230000
DTSTAMP:20260424T035145
CREATED:20220729T145756Z
LAST-MODIFIED:20220729T145756Z
UID:3176-1659214800-1659222000@www.clintoncountytoday.com
SUMMARY:CRUSH Bon Jovi Experience
DESCRIPTION:Crush the Ultimate Bon Jovi Experience based out of Indianapolis\, Indiana formed in 2019 and is led by front man and lead singer Doug Shepard. Doug\, who strongly resembles Jon Bon Jovi captures not only Jon’s look but also his energetic showmanship and dynamic vocal expression. E Washington St.
URL:https://www.clintoncountytoday.com/event/crush-bon-jovi-experience/
LOCATION:E Washington St\, Frankfort\, IN\, 46041
CATEGORIES:Frankfort IN,Hot Dog Festival 2022
ATTACH;FMTTYPE=image/jpeg:https://www.clintoncountytoday.com/wp-content/uploads/2022/07/crush.jpg
END:VEVENT
BEGIN:VEVENT
DTSTART;TZID=America/Indiana/Indianapolis:20220730T204500
DTEND;TZID=America/Indiana/Indianapolis:20220730T210000
DTSTAMP:20260424T035145
CREATED:20220729T145401Z
LAST-MODIFIED:20220729T145401Z
UID:3173-1659213900-1659214800@www.clintoncountytoday.com
SUMMARY:Frankfort Senior High School Band
DESCRIPTION:Frankfort Senior High School Band – Led by band director Jason Hutton. E Washington St.
URL:https://www.clintoncountytoday.com/event/frankfort-senior-high-school-band/
LOCATION:E Washington St\, Frankfort\, IN\, 46041
CATEGORIES:Frankfort IN,Hot Dog Festival 2022
ATTACH;FMTTYPE=image/jpeg:https://www.clintoncountytoday.com/wp-content/uploads/2022/07/fhs-band.jpg
END:VEVENT
BEGIN:VEVENT
DTSTART;TZID=America/Indiana/Indianapolis:20220730T203000
DTEND;TZID=America/Indiana/Indianapolis:20220730T220000
DTSTAMP:20260424T035145
CREATED:20220729T144941Z
LAST-MODIFIED:20220729T144941Z
UID:3170-1659213000-1659218400@www.clintoncountytoday.com
SUMMARY:Sidewalk Prophets
DESCRIPTION:Integrating worship with real life – that is one of the simple truths Sidewalk Prophets has learned to live by. The two friends had no idea what was in store for them when their paths crossed at Anderson University eight years ago\, but one listen to their hugely anticipated major label debut\, These Simple Truths\, confirms the band’s undeniable talent. The fact that they have been on the road for 150+ dates per year for the past half-decade and show no signs of slowing down attests to their tenacious work ethic. But while there are tons of bands with talent and tenacity who never progress beyond the garage\, Sidewalk Prophets insist it is the ever-present hand of the Lord that has lifted them to the next level of their career. Veterans Park – Main St & Washington St.
URL:https://www.clintoncountytoday.com/event/sidewalk-prophets/
LOCATION:Veterans Park – Main St & Washington St\, Frankfort\, IN\, 46041
CATEGORIES:Frankfort IN,Hot Dog Festival 2022
ATTACH;FMTTYPE=image/jpeg:https://www.clintoncountytoday.com/wp-content/uploads/2022/07/sidewalk.jpg
END:VEVENT
BEGIN:VEVENT
DTSTART;TZID=America/Indiana/Indianapolis:20220730T200000
DTEND;TZID=America/Indiana/Indianapolis:20220730T203000
DTSTAMP:20260424T035145
CREATED:20220729T144559Z
LAST-MODIFIED:20220729T144559Z
UID:3167-1659211200-1659213000@www.clintoncountytoday.com
SUMMARY:VOX5 Acapella
DESCRIPTION:Come and celebrate Frankfort’s very own celebrity – Patrick Day & Friends. E Washington St.
URL:https://www.clintoncountytoday.com/event/vox5-acapella/
LOCATION:E Washington St\, Frankfort\, IN\, 46041
CATEGORIES:Frankfort IN,Hot Dog Festival 2022
ATTACH;FMTTYPE=image/jpeg:https://www.clintoncountytoday.com/wp-content/uploads/2022/07/vox5.jpg
END:VEVENT
BEGIN:VEVENT
DTSTART;TZID=America/Indiana/Indianapolis:20220730T190000
DTEND;TZID=America/Indiana/Indianapolis:20220730T200000
DTSTAMP:20260424T035145
CREATED:20220729T144254Z
LAST-MODIFIED:20220729T144254Z
UID:3164-1659207600-1659211200@www.clintoncountytoday.com
SUMMARY:DockDogs® – Big Air Finals
DESCRIPTION:DockDogs® – Big Air Finals on W Washington St.
URL:https://www.clintoncountytoday.com/event/dockdogs-big-air-finals/
LOCATION:W Washington St.\, Frankfort\, IN\, 46041
CATEGORIES:Frankfort IN,Hot Dog Festival 2022
ATTACH;FMTTYPE=image/jpeg:https://www.clintoncountytoday.com/wp-content/uploads/2022/07/dockdogs-finals.jpg
END:VEVENT
BEGIN:VEVENT
DTSTART;TZID=America/Indiana/Indianapolis:20220730T183000
DTEND;TZID=America/Indiana/Indianapolis:20220730T200000
DTSTAMP:20260424T035145
CREATED:20220729T144029Z
LAST-MODIFIED:20220729T144029Z
UID:3161-1659205800-1659211200@www.clintoncountytoday.com
SUMMARY:Mellencougar
DESCRIPTION:Tribute to John Mellencamp – Mellencougar is made up of a group of musicians from the Illinois/Wisconsin scene. Our appreciation of the music of Heartland U.S.A. and specifically John Cougar Mellencamp helped to create our band and gain the respect of many venues\, fans and musicians. Mellencougar has shared the stage with Eddie Money\, Blake Shelton\, the Spin Doctors\, Styx\, Night Ranger\, Jamey Johnson and many other national acts. The Farmers Bank Performance Center Stage at Prairie Creek Park – E Washington St.
URL:https://www.clintoncountytoday.com/event/mellencougar/
LOCATION:The Farmers Bank Performance Center Stage at Prairie Creek Park\, Frankfort\, IN\, 46041
CATEGORIES:Frankfort IN,Hot Dog Festival 2022
ATTACH;FMTTYPE=image/jpeg:https://www.clintoncountytoday.com/wp-content/uploads/2022/07/mellencougar.jpg
END:VEVENT
BEGIN:VEVENT
DTSTART;TZID=America/Indiana/Indianapolis:20220730T180000
DTEND;TZID=America/Indiana/Indianapolis:20220730T200000
DTSTAMP:20260424T035145
CREATED:20220729T143228Z
LAST-MODIFIED:20220729T143228Z
UID:3154-1659204000-1659211200@www.clintoncountytoday.com
SUMMARY:Hot Dog Hall of Fame Ceremony
DESCRIPTION:Hot Dog Hall of Fame ceremony at Frankfort High School auditorium.
URL:https://www.clintoncountytoday.com/event/hot-dog-hall-of-fame-ceremony/
LOCATION:Frankfort Sr. High School\, 1 Maish Rd\, Frankfort\, IN\, 46041
CATEGORIES:Frankfort IN,Hot Dog Festival 2022
ATTACH;FMTTYPE=image/jpeg:https://www.clintoncountytoday.com/wp-content/uploads/2022/07/hdhf-ceremony.jpg
END:VEVENT
BEGIN:VEVENT
DTSTART;TZID=America/Indiana/Indianapolis:20220730T180000
DTEND;TZID=America/Indiana/Indianapolis:20220730T183000
DTSTAMP:20260424T035145
CREATED:20220729T143547Z
LAST-MODIFIED:20220729T143547Z
UID:3158-1659204000-1659205800@www.clintoncountytoday.com
SUMMARY:Mike Hemmelgarn – Comedy\, Juggler\, Ventriloquist
DESCRIPTION:Mike learned the art of ventriloquism like so many have\, from a “Jimmy Nelson Instant Ventriloquism” record album. He first learned to juggle from a talented co-worker. He started with tennis balls\, and has evolved to bowling balls\, knives\, machetes\, torches and other ridiculous things! Finally\, magic and balloon sculpting were incorporated to compliment one of the most unique acts in the business. Since graduating from Wright-State University in Dayton\, OH\, Mike has performed at thousands of Corporate Events\, banquets\, Schools\, Libraries\, Fairs & Festivals\, and Theaters. He has been the opening act for Dennis DeYoung and Styx\, has been a recurring “family friendly” performer at Funny bone comedy clubs\, and has appeared as a special guest (6 times) on FOX news doing entertainment segments. The Farmers Bank Performance Center Stage at Prairie Creek Park – E Washington St.
URL:https://www.clintoncountytoday.com/event/mike-hemmelgarn-comedy-juggler-ventriloquist-3/
LOCATION:The Farmers Bank Performance Center Stage at Prairie Creek Park\, Frankfort\, IN\, 46041
CATEGORIES:Frankfort IN,Hot Dog Festival 2022
ATTACH;FMTTYPE=image/jpeg:https://www.clintoncountytoday.com/wp-content/uploads/2022/07/mike3.jpg
END:VEVENT
BEGIN:VEVENT
DTSTART;TZID=America/Indiana/Indianapolis:20220730T173000
DTEND;TZID=America/Indiana/Indianapolis:20220730T183000
DTSTAMP:20260424T035145
CREATED:20220729T142521Z
LAST-MODIFIED:20220729T142521Z
UID:3148-1659202200-1659205800@www.clintoncountytoday.com
SUMMARY:Modern Day Cure
DESCRIPTION:A worship collective led by husband-and-wife team Aaron and Tamar Chipp. The band’s heart is to exalt Jesus\, share His truth\, and see people changed by His power. Their name is inspired by Hebrews 13:8\, which states“Jesus Christ is the same yesterday\, today\, and forever.” This truth makes Him the modern day cure. They believe Jesus is the answer the world needs today. With more than a decade of experience as worship leaders and pastors\, the Nashville-based band is known for its energetic and engaging worship and teaching that crosses cultural and denominational boundaries. Veterans Park – Main St & Washington St.
URL:https://www.clintoncountytoday.com/event/modern-day-cure/
LOCATION:Veterans Park – Main St & Washington St\, Frankfort\, IN\, 46041
CATEGORIES:Frankfort IN,Hot Dog Festival 2022
ATTACH;FMTTYPE=image/jpeg:https://www.clintoncountytoday.com/wp-content/uploads/2022/07/mdc.jpg
END:VEVENT
BEGIN:VEVENT
DTSTART;TZID=America/Indiana/Indianapolis:20220730T173000
DTEND;TZID=America/Indiana/Indianapolis:20220730T180000
DTSTAMP:20260424T035145
CREATED:20220729T142750Z
LAST-MODIFIED:20220729T142750Z
UID:3151-1659202200-1659204000@www.clintoncountytoday.com
SUMMARY:Hot Dog Eating Contest
DESCRIPTION:Contestants will compete in the 4th Annual Hot Dog Eating Contest sponsored in part by NHK Seating. Grand prize is $500 to the contestant who eats the most hot dogs and buns in 10 minutes. Will the winner have what it takes to become a challenger for world record holder Joey Chestnut. Chestnut holds the record for eating 63 hot dogs in 10 minutes in 2022. E Washington St.
URL:https://www.clintoncountytoday.com/event/hot-dog-eating-contest/
LOCATION:E Washington St\, Frankfort\, IN\, 46041
CATEGORIES:Frankfort IN,Hot Dog Festival 2022
ATTACH;FMTTYPE=image/jpeg:https://www.clintoncountytoday.com/wp-content/uploads/2022/07/eatiing.jpg
END:VEVENT
BEGIN:VEVENT
DTSTART;TZID=America/Indiana/Indianapolis:20220730T170000
DTEND;TZID=America/Indiana/Indianapolis:20220730T220000
DTSTAMP:20260424T035145
CREATED:20220729T141950Z
LAST-MODIFIED:20220729T141950Z
UID:3145-1659200400-1659218400@www.clintoncountytoday.com
SUMMARY:Beer Garden Opens
DESCRIPTION:
URL:https://www.clintoncountytoday.com/event/beer-garden-opens-2/
LOCATION:Prairie Creek Park – E Washington St\, Frankfort\, IN\, 46041
CATEGORIES:Frankfort IN,Hot Dog Festival 2022
ATTACH;FMTTYPE=image/jpeg:https://www.clintoncountytoday.com/wp-content/uploads/2022/07/beer-garden2.jpg
END:VEVENT
BEGIN:VEVENT
DTSTART;TZID=America/Indiana/Indianapolis:20220730T170000
DTEND;TZID=America/Indiana/Indianapolis:20220730T180000
DTSTAMP:20260424T035145
CREATED:20220729T141657Z
LAST-MODIFIED:20220729T141657Z
UID:3142-1659200400-1659204000@www.clintoncountytoday.com
SUMMARY:DockDogs® Speed Retrieve
DESCRIPTION:Speed Retrieve is a “timed event”. At the far end of the pool a bumper toy is suspended 2” above the water with a starting indicator light above it. The dog is then placed at the 20’ white starting mark on the dock\, when the light turns green the handler releases the dog\, the time clock stops when the dog has pulled the toy from the Speed Retrieve bracket. W Washington St.
URL:https://www.clintoncountytoday.com/event/dockdogs-speed-retrieve/
LOCATION:W Washington St.\, Frankfort\, IN\, 46041
CATEGORIES:Frankfort IN,Hot Dog Festival 2022
ATTACH;FMTTYPE=image/jpeg:https://www.clintoncountytoday.com/wp-content/uploads/2022/07/dockdogs-speed.jpg
END:VEVENT
BEGIN:VEVENT
DTSTART;TZID=America/Indiana/Indianapolis:20220730T170000
DTEND;TZID=America/Indiana/Indianapolis:20220730T173000
DTSTAMP:20260424T035145
CREATED:20220729T141450Z
LAST-MODIFIED:20220729T141450Z
UID:3139-1659200400-1659202200@www.clintoncountytoday.com
SUMMARY:Karate Demonstrations #2
DESCRIPTION:Frank Harness KARATE USA students will demonstrate the art of Shorei Goju Ryu\, empty hand techniques and weapons. Kyoshi Harness is an 8th degree Blackbelt with over 45 years of experience in the Martial Arts. He opened his dojo (school) in March 1993 in Frankfort. Kyoshi says “We aren’t just training black belts but future leaders in our community. Making America stronger one black belt at a time”. E Washington St.
URL:https://www.clintoncountytoday.com/event/karate-demonstrations-2/
LOCATION:E Washington St\, Frankfort\, IN\, 46041
CATEGORIES:Frankfort IN,Hot Dog Festival 2022
ATTACH;FMTTYPE=image/jpeg:https://www.clintoncountytoday.com/wp-content/uploads/2022/07/karate2.jpg
END:VEVENT
BEGIN:VEVENT
DTSTART;TZID=America/Indiana/Indianapolis:20220730T160000
DTEND;TZID=America/Indiana/Indianapolis:20220730T163000
DTSTAMP:20260424T035145
CREATED:20220729T141328Z
LAST-MODIFIED:20220729T141328Z
UID:3136-1659196800-1659198600@www.clintoncountytoday.com
SUMMARY:Silly Safaris Live Animal Show & Meet & Greet #4
DESCRIPTION:Silly Safaris is the leading provider of live animal conservation education in Indiana and provides over 3\,000 conservation inspiring live animal shows every year throughout the United States of America. The Farmers Bank Performance Center Stage at Prairie Creek Park – E Washington St.
URL:https://www.clintoncountytoday.com/event/silly-safaris-live-animal-show-meet-greet-4/
LOCATION:The Farmers Bank Performance Center Stage at Prairie Creek Park\, Frankfort\, IN\, 46041
CATEGORIES:Frankfort IN,Hot Dog Festival 2022
ATTACH;FMTTYPE=image/jpeg:https://www.clintoncountytoday.com/wp-content/uploads/2022/07/silly4.jpg
END:VEVENT
BEGIN:VEVENT
DTSTART;TZID=America/Indiana/Indianapolis:20220730T153000
DTEND;TZID=America/Indiana/Indianapolis:20220730T160000
DTSTAMP:20260424T035145
CREATED:20220729T140952Z
LAST-MODIFIED:20220729T140952Z
UID:3133-1659195000-1659196800@www.clintoncountytoday.com
SUMMARY:Karate Demonstrations
DESCRIPTION:Frank Harness KARATE USA students will demonstrate the art of Shorei Goju Ryu\, empty hand techniques and weapons. Kyoshi Harness is an 8th degree Blackbelt with over 45 years of experience in the Martial Arts. He opened his dojo (school) in March 1993 in Frankfort. Kyoshi says “We aren’t just training black belts but future leaders in our community. Making America stronger one black belt at a time”. E Washington St.
URL:https://www.clintoncountytoday.com/event/karate-demonstrations/
LOCATION:E Washington St\, Frankfort\, IN\, 46041
CATEGORIES:Frankfort IN,Hot Dog Festival 2022
ATTACH;FMTTYPE=image/jpeg:https://www.clintoncountytoday.com/wp-content/uploads/2022/07/karate.jpg
END:VEVENT
BEGIN:VEVENT
DTSTART;TZID=America/Indiana/Indianapolis:20220730T150000
DTEND;TZID=America/Indiana/Indianapolis:20220730T160000
DTSTAMP:20260424T035145
CREATED:20220729T140624Z
LAST-MODIFIED:20220729T140624Z
UID:3130-1659193200-1659196800@www.clintoncountytoday.com
SUMMARY:Amonte King
DESCRIPTION:Amonte is a pastor and recording artist from Marion\, IN who has been all over the country preaching and singing at a very young age. Veterans Park – Main St & Washington St.
URL:https://www.clintoncountytoday.com/event/amonte-king/
LOCATION:Veterans Park – Main St & Washington St\, Frankfort\, IN\, 46041
CATEGORIES:Frankfort IN,Hot Dog Festival 2022
ATTACH;FMTTYPE=image/jpeg:https://www.clintoncountytoday.com/wp-content/uploads/2022/07/amonte.jpg
END:VEVENT
BEGIN:VEVENT
DTSTART;TZID=America/Indiana/Indianapolis:20220730T150000
DTEND;TZID=America/Indiana/Indianapolis:20220730T160000
DTSTAMP:20260424T035145
CREATED:20220729T140351Z
LAST-MODIFIED:20220729T140351Z
UID:3127-1659193200-1659196800@www.clintoncountytoday.com
SUMMARY:DockDogs® Big Air Wave #6
DESCRIPTION:Big Air is a “long jump for dogs”. The dog\, which may be placed anywhere on the 40′dock\, runs and jumps into the water after a throw toy (provided by the handler) is tossed. The distance is judged from the end of the dock to where the tail set of the dog breaks the water’s surface. W Washington St.
URL:https://www.clintoncountytoday.com/event/dockdogs-big-air-wave-6/
LOCATION:W Washington St.\, Frankfort\, IN\, 46041
CATEGORIES:Frankfort IN,Hot Dog Festival 2022
ATTACH;FMTTYPE=image/jpeg:https://www.clintoncountytoday.com/wp-content/uploads/2022/07/dockdogs-wave6.jpg
END:VEVENT
BEGIN:VEVENT
DTSTART;TZID=America/Indiana/Indianapolis:20220730T143000
DTEND;TZID=America/Indiana/Indianapolis:20220730T150000
DTSTAMP:20260424T035145
CREATED:20220729T140116Z
LAST-MODIFIED:20220729T140116Z
UID:3124-1659191400-1659193200@www.clintoncountytoday.com
SUMMARY:Silly Safaris Live Animal Show & Meet & Greet #3
DESCRIPTION:Silly Safaris is the leading provider of live animal conservation education in Indiana and provides over 3\,000 conservation inspiring live animal shows every year throughout the United States of America. The Farmers Bank Performance Center Stage at Prairie Creek Park – E Washington St.
URL:https://www.clintoncountytoday.com/event/silly-safaris-live-animal-show-meet-greet-3/
LOCATION:The Farmers Bank Performance Center Stage at Prairie Creek Park\, Frankfort\, IN\, 46041
CATEGORIES:Frankfort IN,Hot Dog Festival 2022
ATTACH;FMTTYPE=image/jpeg:https://www.clintoncountytoday.com/wp-content/uploads/2022/07/silly3.jpg
END:VEVENT
BEGIN:VEVENT
DTSTART;TZID=America/Indiana/Indianapolis:20220730T140000
DTEND;TZID=America/Indiana/Indianapolis:20220730T150000
DTSTAMP:20260424T035145
CREATED:20220729T135634Z
LAST-MODIFIED:20220729T135634Z
UID:3120-1659189600-1659193200@www.clintoncountytoday.com
SUMMARY:Hoosier Storytellers
DESCRIPTION:Come hear Hot Dog Hall of Fame Board Members Don Rusk and Don Stock speak with HDHF inductees Randall “Boe” Workman and Chad Buntin on the Skanta stage at the Frankfort Community Public Library as a part of the library’s Hoosier Storytellers series. Hosted by librarian Mike Clossin\, the program will take a look at the origins of the Hall of Fame\, find out about the lives of the two inductees\, encourage the community to nominate deserving members and end after about an hour with a brief Q&A session. Frankfort Public Library – W Clinton St.
URL:https://www.clintoncountytoday.com/event/hoosier-storytellers/
LOCATION:Frankfort Community Public Library\, 208 W Clinton St\, Frankfort\, IN\, 46041
CATEGORIES:Frankfort IN,Hot Dog Festival 2022
ATTACH;FMTTYPE=image/jpeg:https://www.clintoncountytoday.com/wp-content/uploads/2022/07/hoosier-storytellers.jpg
END:VEVENT
BEGIN:VEVENT
DTSTART;TZID=America/Indiana/Indianapolis:20220730T134500
DTEND;TZID=America/Indiana/Indianapolis:20220730T141500
DTSTAMP:20260424T035145
CREATED:20220729T134843Z
LAST-MODIFIED:20220729T134843Z
UID:3117-1659188700-1659190500@www.clintoncountytoday.com
SUMMARY:Mike Hemmelgarn – Comedy\, Juggler\, Ventriloquist
DESCRIPTION:He learned the art of ventriloquism like so many have\, from a “Jimmy Nelson Instant Ventriloquism” record album. He first learned to juggle from a talented co-worker. He started with tennis balls\, and has evolved to bowling balls\, knives\, machetes\, torches and other ridiculous things! Finally\, magic and balloon sculpting were incorporated to compliment one of the most unique acts in the business. Mike has performed at thousands of Corporate Events\, banquets\, Schools\, Libraries\, Fairs & Festivals\, and Theaters. He has been the opening act for Dennis DeYoung and Styx\, has been a recurring “family friendly” performer at Funny bone comedy clubs\, and has appeared as a special guest (6 times) on FOX news. The Farmers Bank Performance Center Stage – E Washington St.
URL:https://www.clintoncountytoday.com/event/mike-hemmelgarn-comedy-juggler-ventriloquist-2/
LOCATION:The Farmers Bank Performance Center Stage at Prairie Creek Park\, Frankfort\, IN\, 46041
CATEGORIES:Frankfort IN,Hot Dog Festival 2022
ATTACH;FMTTYPE=image/jpeg:https://www.clintoncountytoday.com/wp-content/uploads/2022/07/mike2.jpg
END:VEVENT
BEGIN:VEVENT
DTSTART;TZID=America/Indiana/Indianapolis:20220730T133000
DTEND;TZID=America/Indiana/Indianapolis:20220730T140000
DTSTAMP:20260424T035145
CREATED:20220729T134028Z
LAST-MODIFIED:20220729T134028Z
UID:3114-1659187800-1659189600@www.clintoncountytoday.com
SUMMARY:BMX Wonder Wheels Stunt Show #3
DESCRIPTION:You can expect the biggest jaw dropping tricks imaginable. The non-stop action will keep your group riveted. The emcee will announce all the action while the stunt team executes thrilling feats to an energizing soundtrack. The ramp used is the larger 5’ x 8’ x 24’ box jump. This allows for bigger stunts and for multiple riders to be performing simultaneously. E Washington St.
URL:https://www.clintoncountytoday.com/event/bmx-wonder-wheels-stunt-show-3/
LOCATION:E Washington St\, Frankfort\, IN\, 46041
CATEGORIES:Frankfort IN,Hot Dog Festival 2022
ATTACH;FMTTYPE=image/jpeg:https://www.clintoncountytoday.com/wp-content/uploads/2022/07/bmx3.jpg
END:VEVENT
BEGIN:VEVENT
DTSTART;TZID=America/Indiana/Indianapolis:20220730T130000
DTEND;TZID=America/Indiana/Indianapolis:20220730T150000
DTSTAMP:20260424T035145
CREATED:20220729T133853Z
LAST-MODIFIED:20220729T133853Z
UID:3111-1659186000-1659193200@www.clintoncountytoday.com
SUMMARY:Harry Potter Party
DESCRIPTION:It’s that time of year again! Brush up on that magic\, wrangle some dragons and compete in some wizarding games! It’s our annual Harry Potter Party. Frankfort Public Library 2nd floor in the Art Room 204\, 1-3 pm for all ages! E Clinton St.
URL:https://www.clintoncountytoday.com/event/harry-potter-party/
LOCATION:Frankfort Community Public Library\, 208 W Clinton St\, Frankfort\, IN\, 46041
CATEGORIES:Frankfort IN,Hot Dog Festival 2022
ATTACH;FMTTYPE=image/jpeg:https://www.clintoncountytoday.com/wp-content/uploads/2022/07/harry-potter.jpg
END:VEVENT
BEGIN:VEVENT
DTSTART;TZID=America/Indiana/Indianapolis:20220730T130000
DTEND;TZID=America/Indiana/Indianapolis:20220730T140000
DTSTAMP:20260424T035145
CREATED:20220729T133619Z
LAST-MODIFIED:20220729T133619Z
UID:3108-1659186000-1659189600@www.clintoncountytoday.com
SUMMARY:DockDogs® Big Air Wave #5
DESCRIPTION:Big Air is a “long jump for dogs”. The dog\, which may be placed anywhere on the 40′ dock\, runs and jumps into the water after a throw toy (provided by the handler) is tossed. The distance is judged from the end of the dock to where the tail set of the dog breaks the water’s surface. W Washington St.
URL:https://www.clintoncountytoday.com/event/dockdogs-big-air-wave-5/
LOCATION:W Washington St.\, Frankfort\, IN\, 46041
CATEGORIES:Frankfort IN,Hot Dog Festival 2022
ATTACH;FMTTYPE=image/jpeg:https://www.clintoncountytoday.com/wp-content/uploads/2022/07/dockdogs-wave5.jpg
END:VEVENT
BEGIN:VEVENT
DTSTART;TZID=America/Indiana/Indianapolis:20220730T130000
DTEND;TZID=America/Indiana/Indianapolis:20220730T140000
DTSTAMP:20260424T035145
CREATED:20220729T133437Z
LAST-MODIFIED:20220729T133437Z
UID:3105-1659186000-1659189600@www.clintoncountytoday.com
SUMMARY:Prairie Grass Cloggers
DESCRIPTION:Have you ever wanted to learn the dance of clogging? This is your chance to learn more about it. Veterans Park – Main St & Washington St.
URL:https://www.clintoncountytoday.com/event/prairie-grass-cloggers/
LOCATION:Veterans Park – Main St & Washington St\, Frankfort\, IN\, 46041
CATEGORIES:Frankfort IN,Hot Dog Festival 2022
ATTACH;FMTTYPE=image/jpeg:https://www.clintoncountytoday.com/wp-content/uploads/2022/07/pgc.jpg
END:VEVENT
BEGIN:VEVENT
DTSTART;TZID=America/Indiana/Indianapolis:20220730T123000
DTEND;TZID=America/Indiana/Indianapolis:20220730T130000
DTSTAMP:20260424T035145
CREATED:20220729T133200Z
LAST-MODIFIED:20220729T133200Z
UID:3102-1659184200-1659186000@www.clintoncountytoday.com
SUMMARY:Silly Safaris Live Animal Show & Meet & Greet #2
DESCRIPTION:Silly Safaris is the leading provider of live animal conservation education in Indiana and provides over 3\,000 conservation inspiring live animal shows every year throughout the United States of America. The Farmers Bank Performance Center Stage at Prairie Creek Park – E Washington St.
URL:https://www.clintoncountytoday.com/event/silly-safaris-live-animal-show-meet-greet-2/
LOCATION:The Farmers Bank Performance Center Stage at Prairie Creek Park\, Frankfort\, IN\, 46041
CATEGORIES:Frankfort IN,Hot Dog Festival 2022
ATTACH;FMTTYPE=image/jpeg:https://www.clintoncountytoday.com/wp-content/uploads/2022/07/silly2.jpg
END:VEVENT
BEGIN:VEVENT
DTSTART;TZID=America/Indiana/Indianapolis:20220730T120000
DTEND;TZID=America/Indiana/Indianapolis:20220730T123000
DTSTAMP:20260424T035145
CREATED:20220729T133013Z
LAST-MODIFIED:20220729T133013Z
UID:3099-1659182400-1659184200@www.clintoncountytoday.com
SUMMARY:BMX Wonder Wheels Stunt Show #2
DESCRIPTION:You can expect the biggest jaw Dropping tricks imaginable. The non-stop action will keep your group riveted. The emcee will announce all the action while the stunt team executes thrilling feats to an energizing soundtrack. The ramp used is the larger 5’ x 8’ x 24’ box jump. This allows for bigger stunts and for multiple riders to be performing simultaneously. E Washington St.
URL:https://www.clintoncountytoday.com/event/bmx-wonder-wheels-stunt-show-2/
LOCATION:E Washington St\, Frankfort\, IN\, 46041
CATEGORIES:Frankfort IN,Hot Dog Festival 2022
ATTACH;FMTTYPE=image/jpeg:https://www.clintoncountytoday.com/wp-content/uploads/2022/07/bmx2.jpg
END:VEVENT
END:VCALENDAR